Workbook

Sheet Apstrade_C
A1: 31.08.2026. | B1: ID | C1: Aizpildīšanas datums | D1: Aizpildīšanas laiks | E1: Dienu skaits kopš iepriekšējās aktualizēšanas | F1: 5 (nedēļa) | G1: 6–30 (mēnesis) | H1: 31–90 (3 mēneši) | I1: 91–180 (puse gada) | J1: 181–360 (gads) | K1: senāk | L1: Pazīme filtrēšanai | M1: Augstākstāvoša iestāde – ministrija | N1: Iestāde | P1: Reģistrācijas numurs | Q1: Atbilžu skaits | T1: 1. Vai Jūsu iestādē ir veikta darbinieku sākotnējā apmācība par pakalpojumu veidiem, pakalpojumu pārvaldības mērogiem un līmeņiem, galvenajām pakalpojumu pārvaldības lomām un lomām atbilstošajiem pienākumiem | U1: nav zināms | V1: nē | W1: daļēji | X1: jā | Y1: 2. Vai Jūsu iestādē ir noteikts Iestādes pakalpojumu kopuma vadītājs – atbildīgais par pakalpojumu pārvaldību iestādē kopumā? | Z1: nav zināms | AA1: nē | AB1: daļēji | AC1: jā | AD1: 3. Vai Jūsu iestādē ir izveidots visu pakalpojumu pilnais saraksts – pakalpojumu portfolio? | AE1: nav zināms | AF1: nē | AG1: daļēji | AH1: jā | AI1: Lūdzam norādīt kāds ir aktīvo pakalpojumu skaits jūsu pakalpojumu portfolio (ja tāds ir izveidots) | AJ1: nav | AK1: 1 vai 2 | AL1: 3–10 | AM1: 11–30 | AN1: 31–90 | AO1: vairāk kā 90 | AP1: nav zināms | AQ1: 4. Vai Jūsu iestādē ir noteikti visu Pakalpojumu vadītāji? | AR1: nav zināms | AS1: nē | AT1: daļēji | AU1: jā | AV1: 5. Vai Jūsu iestādē Iestādes pakalpojumu kopuma vadītājs un visu Pakalpojumu vadītāji ir apstiprināti ar rīkojumu? | AW1: nav zināms | AX1: nē | AY1: daļēji | AZ1: jā | BA1: 6. Vai Jūsu iestādē Iestādes pakalpojumu kopuma vadītājs ir apmācīts par pakalpojumu pārvaldības politiku kopumā, tostarp pakalpojumu pārvaldības sistēmas sastāvdaļām | BB1: nav zināms | BC1: nē | BD1: daļēji | BE1: jā | BF1: 7. Vai Jūsu iestādē visu Pakalpojumu vadītāji ir apmācīti par pakalpojumu pārvaldības politiku kopumā, tostarp pakalpojumu pārvaldības sistēmas sastāvdaļām | BG1: nav zināms | BH1: nē | BI1: daļēji | BJ1: jā | BK1: 8.Vai Jūsu iestādē Iestādes pakalpojumu kopuma vadītājs ir apmācīts par pakalpojumu un pakalpojumu pārvaldības novērtēšanu un pilnveides plānu izveidi? | BL1: nav zināms | BM1: nē | BN1: daļēji | BO1: jā | BP1: 9. Vai Jūsu iestādē visu Pakalpojumu vadītāji ir apmācīti par pakalpojumu un pakalpojumu pārvaldības novērtēšanu un pilnveides plānu izveidi? | BQ1: nav zināms | BR1: nē | BS1: daļēji | BT1: jā | BU1: 10. Vai Jūsu iestādē Iestādes pakalpojumu kopuma vadītājs ir veicis esošās situācijas novērtēšanu? | BV1: nav zināms | BW1: nē | BX1: daļēji | BY1: jā | BZ1: 11. Vai Jūsu iestādē Iestādes pakalpojumu kopuma vadītājs ir apzinājis novērtēšanā konstatēto neatbilstību cēloņus? | CA1: nav zināms | CB1: nē | CC1: daļēji | CD1: jā | CE1: 12. Vai Jūsu iestādē visu Pakalpojumu vadītāji ir veikuši esošās situācijas novērtēšanu? | CF1: nav zināms | CG1: nē | CH1: daļēji | CI1: jā | CJ1: 13. Vai Jūsu iestādē visu Pakalpojumu vadītāji ir apzinājuši novērtēšanā konstatēto neatbilstību cēloņus? | CK1: nav zināms | CL1: nē | CM1: daļēji | CN1: jā | CO1: 14. Vai Jūsu iestādē Iestādes pakalpojumu kopuma vadītājs ir izveidojis pilnveides plānu novērtēšanā konstatēto neatbilstību novēršanai? | CP1: nav zināms | CQ1: nē | CR1: daļēji | CS1: jā | CT1: 15. Vai Jūsu iestādē visu Pakalpojumu vadītāji ir izveidojuši pilnveides plānus novērtēšanā konstatēto neatbilstību novēršanai? | CU1: nav zināms | CV1: nē | CW1: daļēji | CX1: jā | CY1: 16. Vai Jūsu iestādē Iestādes pakalpojumu kopuma vadītājs un visu Pakalpojumu vadītāji ir uzsākuši pakalpojumu pārvaldības uzdevumu veikšanas pilnveidi (neatbilstību novēršanu)? | CZ1: nav zināms | DA1: nē | DB1: daļēji | DC1: jā | DD1: 17. Vai Jūsu iestādē Iestādes pakalpojumu kopuma vadītājs un visu Pakalpojumu vadītāji ir uzsākuši pakalpojumu izveides, sniegšanas un attīstības nosacījumiem pilnveidi (neatbilstību novēršanu)? | DE1: nav zināms | DF1: nē | DG1: daļēji | DH1: jā | DI1: 18. Vai Jūsu iestādē Iestādes pakalpojumu kopuma vadītājs un visu Pakalpojumu vadītāji ir uzsākuši pakalpojumiem un pakalpojumu pārvaldībai nepieciešamo spēju un resursu pilnveidi (neatbilstību novēršanu)? | DJ1: nav zināms | DK1: nē | DL1: daļēji | DM1: jā
A2: Informācija apkopota: | AI2: =SUBTOTAL(109,AI10:AI426) -> 1669
Q3: kopā | T3: =SUM(T4:T7) -> 111 | Y3: =SUM(Y4:Y7) -> 111 | AD3: =SUM(AD4:AD7) -> 111 | AQ3: =SUM(AQ4:AQ7) -> 111 | AV3: =SUM(AV4:AV7) -> 111 | BA3: =SUM(BA4:BA7) -> 111 | BF3: =SUM(BF4:BF7) -> 111 | BK3: =SUM(BK4:BK7) -> 111 | BP3: =SUM(BP4:BP7) -> 111 | BU3: =SUM(BU4:BU7) -> 111 | BZ3: =SUM(BZ4:BZ7) -> 111 | CE3: =SUM(CE4:CE7) -> 111 | CJ3: =SUM(CJ4:CJ7) -> 111 | CO3: =SUM(CO4:CO7) -> 111 | CT3: =SUM(CT4:CT7) -> 111 | CY3: =SUM(CY4:CY7) -> 111 | DD3: =SUM(DD4:DD7) -> 111 | DI3: =SUM(DI4:DI7) -> 111
N4: Iestādes, kas nav aizpildījušas anketu | Q4: nav zināms | T4: =U4 -> 0 | U4: =SUBTOTAL(109,U10:U426) -> 0 | Y4: =Z4 -> 0 | Z4: =SUBTOTAL(109,Z10:Z426) -> 0 | AD4: =AE4 -> 0 | AE4: =SUBTOTAL(109,AE10:AE426) -> 0 | AI4: =IF(AI5=0," ","iestādes, kam nav pakalpojumu") -> iestādes, kam nav pakalpojumu | AQ4: =AR4 -> 0 | AR4: =SUBTOTAL(109,AR10:AR426) -> 0 | AV4: =AW4 -> 0 | AW4: =SUBTOTAL(109,AW10:AW426) -> 0 | BA4: =BB4 -> 0 | BB4: =SUBTOTAL(109,BB10:BB426) -> 0 | BF4: =BG4 -> 0 | BG4: =SUBTOTAL(109,BG10:BG426) -> 0 | BK4: =BL4 -> 0 | BL4: =SUBTOTAL(109,BL10:BL426) -> 0 | BP4: =BQ4 -> 9 | BQ4: =SUBTOTAL(109,BQ10:BQ426) -> 9 | BU4: =BV4 -> 9 | BV4: =SUBTOTAL(109,BV10:BV426) -> 9 | BZ4: =CA4 -> 9 | CA4: =SUBTOTAL(109,CA10:CA426) -> 9 | CE4: =CF4 -> 9 | CF4: =SUBTOTAL(109,CF10:CF426) -> 9 | CJ4: =CK4 -> 0 | CK4: =SUBTOTAL(109,CK10:CK426) -> 0 | CO4: =CP4 -> 0 | CP4: =SUBTOTAL(109,CP10:CP426) -> 0 | CT4: =CU4 -> 9 | CU4: =SUBTOTAL(109,CU10:CU426) -> 9 | CY4: =CZ4 -> 0 | CZ4: =SUBTOTAL(109,CZ10:CZ426) -> 0 | DD4: =DE4 -> 0 | DE4: =SUBTOTAL(109,DE10:DE426) -> 0 | DI4: =DJ4 -> 0 | DJ4: =SUBTOTAL(109,DJ10:DJ426) -> 0
N5: =O5 -> 17 | O5: =SUBTOTAL(109,O10:O426) -> 17 | Q5: nē | T5: =V5 -> 12 | V5: =SUBTOTAL(109,V10:V426) -> 12 | Y5: =AA5 -> 16 | AA5: =SUBTOTAL(109,AA10:AA426) -> 16 | AD5: =AF5 -> 14 | AF5: =SUBTOTAL(109,AF10:AF426) -> 14 | AI5: =AJ9 -> 4 | AQ5: =AS5 -> 11 | AS5: =SUBTOTAL(109,AS10:AS426) -> 11 | AV5: =AX5 -> 38 | AX5: =SUBTOTAL(109,AX10:AX426) -> 38 | BA5: =BC5 -> 15 | BC5: =SUBTOTAL(109,BC10:BC426) -> 15 | BF5: =BH5 -> 13 | BH5: =SUBTOTAL(109,BH10:BH426) -> 13 | BK5: =BM5 -> 18 | BM5: =SUBTOTAL(109,BM10:BM426) -> 18 | BP5: =BR5 -> 37 | BR5: =SUBTOTAL(109,BR10:BR426) -> 37 | BU5: =BW5 -> 42 | BW5: =SUBTOTAL(109,BW10:BW426) -> 42 | BZ5: =CB5 -> 50 | CB5: =SUBTOTAL(109,CB10:CB426) -> 50 | CE5: =CG5 -> 16 | CG5: =SUBTOTAL(109,CG10:CG426) -> 16 | CJ5: =CL5 -> 42 | CL5: =SUBTOTAL(109,CL10:CL426) -> 42 | CO5: =CQ5 -> 48 | CQ5: =SUBTOTAL(109,CQ10:CQ426) -> 48 | CT5: =CV5 -> 52 | CV5: =SUBTOTAL(109,CV10:CV426) -> 52 | CY5: =DA5 -> 65 | DA5: =SUBTOTAL(109,DA10:DA426) -> 65 | DD5: =DF5 -> 68 | DF5: =SUBTOTAL(109,DF10:DF426) -> 68 | DI5: =DK5 -> 73 | DK5: =SUBTOTAL(109,DK10:DK426) -> 73
A6: NPK | N6: Iestādes, kas ir aizpildījušas anketu | R6: daļēji | T6: =W6 -> 19 | W6: =SUBTOTAL(109,W10:W426) -> 19 | Y6: =AB6 -> 8 | AB6: =SUBTOTAL(109,AB10:AB426) -> 8 | AD6: =AG6 -> 22 | AG6: =SUBTOTAL(109,AG10:AG426) -> 22 | AI6: =IF(AI7=0," ","iestādes, kam nav zināms, cik ir pakalpojumu") -> iestādes, kam nav zināms, cik ir pakalpojumu | AQ6: =AT6 -> 24 | AT6: =SUBTOTAL(109,AT10:AT426) -> 24 | AV6: =AY6 -> 16 | AY6: =SUBTOTAL(109,AY10:AY426) -> 16 | BA6: =BD6 -> 20 | BD6: =SUBTOTAL(109,BD10:BD426) -> 20 | BF6: =BI6 -> 47 | BI6: =SUBTOTAL(109,BI10:BI426) -> 47 | BK6: =BN6 -> 19 | BN6: =SUBTOTAL(109,BN10:BN426) -> 19 | BP6: =BS6 -> 14 | BS6: =SUBTOTAL(109,BS10:BS426) -> 14 | BU6: =BX6 -> 15 | BX6: =SUBTOTAL(109,BX10:BX426) -> 15 | BZ6: =CC6 -> 20 | CC6: =SUBTOTAL(109,CC10:CC426) -> 20 | CE6: =CH6 -> 28 | CH6: =SUBTOTAL(109,CH10:CH426) -> 28 | CJ6: =CM6 -> 26 | CM6: =SUBTOTAL(109,CM10:CM426) -> 26 | CO6: =CR6 -> 26 | CR6: =SUBTOTAL(109,CR10:CR426) -> 26 | CT6: =CW6 -> 25 | CW6: =SUBTOTAL(109,CW10:CW426) -> 25 | CY6: =DB6 -> 0 | DB6: =SUBTOTAL(109,DB10:DB426) -> 0 | DD6: =DG6 -> 0 | DG6: =SUBTOTAL(109,DG10:DG426) -> 0 | DI6: =DL6 -> 0 | DL6: =SUBTOTAL(109,DL10:DL426) -> 0
N7: =N9-O5 -> 111 | S7: jā | T7: =X7 -> 80 | X7: =SUBTOTAL(109,X10:X426) -> 80 | Y7: =AC7 -> 87 | AC7: =SUBTOTAL(109,AC10:AC426) -> 87 | AD7: =AH7 -> 75 | AH7: =SUBTOTAL(109,AH10:AH426) -> 75 | AI7: =AP9 -> 10 | AQ7: =AU7 -> 76 | AU7: =SUBTOTAL(109,AU10:AU426) -> 76 | AV7: =AZ7 -> 57 | AZ7: =SUBTOTAL(109,AZ10:AZ426) -> 57 | BA7: =BE7 -> 76 | BE7: =SUBTOTAL(109,BE10:BE426) -> 76 | BF7: =BJ7 -> 51 | BJ7: =SUBTOTAL(109,BJ10:BJ426) -> 51 | BK7: =BO7 -> 74 | BO7: =SUBTOTAL(109,BO10:BO426) -> 74 | BP7: =BT7 -> 51 | BT7: =SUBTOTAL(109,BT10:BT426) -> 51 | BU7: =BY7 -> 45 | BY7: =SUBTOTAL(109,BY10:BY426) -> 45 | BZ7: =CD7 -> 32 | CD7: =SUBTOTAL(109,CD10:CD426) -> 32 | CE7: =CI7 -> 58 | CI7: =SUBTOTAL(109,CI10:CI426) -> 58 | CJ7: =CN7 -> 43 | CN7: =SUBTOTAL(109,CN10:CN426) -> 43 | CO7: =CS7 -> 37 | CS7: =SUBTOTAL(109,CS10:CS426) -> 37 | CT7: =CX7 -> 25 | CX7: =SUBTOTAL(109,CX10:CX426) -> 25 | CY7: =DC7 -> 46 | DC7: =SUBTOTAL(109,DC10:DC426) -> 46 | DD7: =DH7 -> 43 | DH7: =SUBTOTAL(109,DH10:DH426) -> 43 | DI7: =DM7 -> 38 | DM7: =SUBTOTAL(109,DM10:DM426) -> 38
A8: =COUNTA(A10:A426) -> 128 | B8: =COUNTA(B10:B426) -> 128 | C8: =COUNTA(C10:C426) -> 128 | D8: =COUNTA(D10:D426) -> 128 | E8: =COUNTA(E10:E426) -> 128 | F8: =SUM(F10:F137) -> 0 | G8: =SUM(G10:G426) -> 2 | H8: =SUM(H10:H426) -> 1 | I8: =SUM(I10:I426) -> 27 | J8: =SUM(J10:J426) -> 70 | K8: =SUM(K10:K426) -> 11 | L8: =COUNTA(L10:L426) -> 0 | M8: =COUNTA(M10:M426) -> 128 | N8: =COUNTA(N10:N426) -> 128 | P8: =COUNTA(P10:P426) -> 128 | Q8: =SUBTOTAL(109,Q10:Q426) -> 630 | R8: =SUBTOTAL(109,R10:R426) -> 329 | S8: =SUBTOTAL(109,S10:S426) -> 994 | T8: =COUNTA(T10:T426) -> 128 | Y8: =COUNTA(Y10:Y426) -> 128 | AD8: =COUNTA(AD10:AD426) -> 128 | AI8: =COUNTA(AI10:AI426) -> 128 | AJ8: =SUM(AJ10:AJ426) -> 4 | AK8: =SUM(AK10:AK426) -> 18 | AL8: =SUM(AL10:AL426) -> 43 | AM8: =SUM(AM10:AM426) -> 18 | AN8: =SUM(AN10:AN426) -> 15 | AO8: =SUM(AO10:AO426) -> 3 | AP8: =SUM(AP10:AP426) -> 10 | AQ8: =COUNTA(AQ10:AQ426) -> 128 | AV8: =COUNTA(AV10:AV426) -> 128 | BA8: =COUNTA(BA10:BA426) -> 128 | BF8: =COUNTA(BF10:BF426) -> 128 | BK8: =COUNTA(BK10:BK426) -> 128 | BP8: =COUNTA(BP10:BP426) -> 128 | BU8: =COUNTA(BU10:BU426) -> 128 | BZ8: =COUNTA(BZ10:BZ426) -> 128 | CE8: =COUNTA(CE10:CE426) -> 128 | CJ8: =COUNTA(CJ10:CJ426) -> 128 | CO8: =COUNTA(CO10:CO426) -> 128 | CT8: =COUNTA(CT10:CT426) -> 128 | CY8: =COUNTA(CY10:CY426) -> 128 | DD8: =COUNTA(DD10:DD426) -> 128 | DI8: =COUNTA(DI10:DI426) -> 128
A9: =SUBTOTAL(103,A10:A426) -> 128 | B9: =SUBTOTAL(103,B10:B426) -> 128 | C9: =SUBTOTAL(103,C10:C426) -> 128 | D9: =SUBTOTAL(103,D10:D426) -> 128 | E9: =SUBTOTAL(103,E10:E426) -> 128 | F9: =SUBTOTAL(109,F10:F137) -> 0 | G9: =SUBTOTAL(109,G10:G426) -> 2 | H9: =SUBTOTAL(109,H10:H426) -> 1 | I9: =SUBTOTAL(109,I10:I426) -> 27 | J9: =SUBTOTAL(109,J10:J426) -> 70 | K9: =SUBTOTAL(109,K10:K426) -> 11 | L9: =SUBTOTAL(103,L10:L426) -> 0 | M9: =SUBTOTAL(103,M10:M426) -> 128 | N9: =SUBTOTAL(103,N10:N426) -> 128 | P9: =SUBTOTAL(103,P10:P426) -> 128 | T9: =SUBTOTAL(103,T10:T426) -> 128 | Y9: =SUBTOTAL(103,Y10:Y426) -> 128 | AD9: =SUBTOTAL(103,AD10:AD426) -> 128 | AI9: =SUBTOTAL(103,AI10:AI426) -> 128 | AJ9: =SUBTOTAL(109,AJ10:AJ426) -> 4 | AK9: =SUBTOTAL(109,AK10:AK426) -> 18 | AL9: =SUBTOTAL(109,AL10:AL426) -> 43 | AM9: =SUBTOTAL(109,AM10:AM426) -> 18 | AN9: =SUBTOTAL(109,AN10:AN426) -> 15 | AO9: =SUBTOTAL(109,AO10:AO426) -> 3 | AP9: =SUBTOTAL(109,AP10:AP426) -> 10 | AQ9: =SUBTOTAL(103,AQ10:AQ426) -> 128 | AV9: =SUBTOTAL(103,AV10:AV426) -> 128 | BA9: =SUBTOTAL(103,BA10:BA426) -> 128 | BF9: =SUBTOTAL(103,BF10:BF426) -> 128 | BK9: =SUBTOTAL(103,BK10:BK426) -> 128 | BP9: =SUBTOTAL(103,BP10:BP426) -> 128 | BU9: =SUBTOTAL(103,BU10:BU426) -> 128 | BZ9: =SUBTOTAL(103,BZ10:BZ426) -> 128 | CE9: =SUBTOTAL(103,CE10:CE426) -> 128 | CJ9: =SUBTOTAL(103,CJ10:CJ426) -> 128 | CO9: =SUBTOTAL(103,CO10:CO426) -> 128 | CT9: =SUBTOTAL(103,CT10:CT426) -> 128 | CY9: =SUBTOTAL(103,CY10:CY426) -> 128 | DD9: =SUBTOTAL(103,DD10:DD426) -> 128 | DI9: =SUBTOTAL(103,DI10:DI426) -> 128
A10: 10 | B10: 103 | C10: 45834.578 | D10: 45834.578 | E10: 0 | F10: 0 | G10: 0 | H10: 0 | I10: 0 | J10: 0 | K10: 0 | M10: 0 | N10: SIA "Latvijas nacionālais metroloģijas centrs" | O10: 1 | P10: 0 | Q10: 0 | R10: 0 | S10: 0 | T10: anketa nav aizpildīta | U10: 0 | V10: 0 | W10: 0 | X10: 0 | Y10: anketa nav aizpildīta | Z10: 0 | AA10: 0 | AB10: 0 | AC10: 0 | AD10: anketa nav aizpildīta | AE10: 0 | AF10: 0 | AG10: 0 | AH10: 0 | AI10: anketa nav aizpildīta | AJ10: 0 | AK10: 0 | AL10: 0 | AM10: 0 | AN10: 0 | AO10: 0 | AP10: 0 | AQ10: anketa nav aizpildīta | AR10: 0 | AS10: 0 | AT10: 0 | AU10: 0 | AV10: anketa nav aizpildīta | AW10: 0 | AX10: 0 | AY10: 0 | AZ10: 0 | BA10: anketa nav aizpildīta | BB10: 0 | BC10: 0 | BD10: 0 | BE10: 0 | BF10: anketa nav aizpildīta | BG10: 0 | BH10: 0 | BI10: 0 | BJ10: 0 | BK10: anketa nav aizpildīta | BL10: 0 | BM10: 0 | BN10: 0 | BO10: 0 | BP10: anketa nav aizpildīta | BQ10: 0 | BR10: 0 | BS10: 0 | BT10: 0 | BU10: anketa nav aizpildīta | BV10: 0 | BW10: 0 | BX10: 0 | BY10: 0 | BZ10: anketa nav aizpildīta | CA10: 0 | CB10: 0 | CC10: 0 | CD10: 0 | CE10: anketa nav aizpildīta | CF10: 0 | CG10: 0 | CH10: 0 | CI10: 0 | CJ10: anketa nav aizpildīta | CK10: 0 | CL10: 0 | CM10: 0 | CN10: 0 | CO10: anketa nav aizpildīta | CP10: 0 | CQ10: 0 | CR10: 0 | CS10: 0 | CT10: anketa nav aizpildīta | CU10: 0 | CV10: 0 | CW10: 0 | CX10: 0 | CY10: anketa nav aizpildīta | CZ10: 0 | DA10: 0 | DB10: 0 | DC10: 0 | DD10: anketa nav aizpildīta | DE10: 0 | DF10: 0 | DG10: 0 | DH10: 0 | DI10: anketa nav aizpildīta | DJ10: 0 | DK10: 0 | DL10: 0 | DM10: 0
A11: 11 | B11: 104 | C11: 45834.579 | D11: 45834.579 | E11: 0 | F11: 0 | G11: 0 | H11: 0 | I11: 0 | J11: 0 | K11: 0 | M11: 0 | N11: SIA "Publisko aktīvu pārvaldītājs “Possessor”" | O11: 1 | P11: 0 | Q11: 0 | R11: 0 | S11: 0 | T11: anketa nav aizpildīta | U11: 0 | V11: 0 | W11: 0 | X11: 0 | Y11: anketa nav aizpildīta | Z11: 0 | AA11: 0 | AB11: 0 | AC11: 0 | AD11: anketa nav aizpildīta | AE11: 0 | AF11: 0 | AG11: 0 | AH11: 0 | AI11: anketa nav aizpildīta | AJ11: 0 | AK11: 0 | AL11: 0 | AM11: 0 | AN11: 0 | AO11: 0 | AP11: 0 | AQ11: anketa nav aizpildīta | AR11: 0 | AS11: 0 | AT11: 0 | AU11: 0 | AV11: anketa nav aizpildīta | AW11: 0 | AX11: 0 | AY11: 0 | AZ11: 0 | BA11: anketa nav aizpildīta | BB11: 0 | BC11: 0 | BD11: 0 | BE11: 0 | BF11: anketa nav aizpildīta | BG11: 0 | BH11: 0 | BI11: 0 | BJ11: 0 | BK11: anketa nav aizpildīta | BL11: 0 | BM11: 0 | BN11: 0 | BO11: 0 | BP11: anketa nav aizpildīta | BQ11: 0 | BR11: 0 | BS11: 0 | BT11: 0 | BU11: anketa nav aizpildīta | BV11: 0 | BW11: 0 | BX11: 0 | BY11: 0 | BZ11: anketa nav aizpildīta | CA11: 0 | CB11: 0 | CC11: 0 | CD11: 0 | CE11: anketa nav aizpildīta | CF11: 0 | CG11: 0 | CH11: 0 | CI11: 0 | CJ11: anketa nav aizpildīta | CK11: 0 | CL11: 0 | CM11: 0 | CN11: 0 | CO11: anketa nav aizpildīta | CP11: 0 | CQ11: 0 | CR11: 0 | CS11: 0 | CT11: anketa nav aizpildīta | CU11: 0 | CV11: 0 | CW11: 0 | CX11: 0 | CY11: anketa nav aizpildīta | CZ11: 0 | DA11: 0 | DB11: 0 | DC11: 0 | DD11: anketa nav aizpildīta | DE11: 0 | DF11: 0 | DG11: 0 | DH11: 0 | DI11: anketa nav aizpildīta | DJ11: 0 | DK11: 0 | DL11: 0 | DM11: 0
A12: 12 | B12: 109 | C12: 45834.639 | D12: 45834.639 | E12: 0 | F12: 0 | G12: 0 | H12: 0 | I12: 0 | J12: 0 | K12: 0 | M12: 0 | N12: Latvijas Zinātņu akadēmija | O12: 1 | P12: 0 | Q12: 0 | R12: 0 | S12: 0 | T12: anketa nav aizpildīta | U12: 0 | V12: 0 | W12: 0 | X12: 0 | Y12: anketa nav aizpildīta | Z12: 0 | AA12: 0 | AB12: 0 | AC12: 0 | AD12: anketa nav aizpildīta | AE12: 0 | AF12: 0 | AG12: 0 | AH12: 0 | AI12: anketa nav aizpildīta | AJ12: 0 | AK12: 0 | AL12: 0 | AM12: 0 | AN12: 0 | AO12: 0 | AP12: 0 | AQ12: anketa nav aizpildīta | AR12: 0 | AS12: 0 | AT12: 0 | AU12: 0 | AV12: anketa nav aizpildīta | AW12: 0 | AX12: 0 | AY12: 0 | AZ12: 0 | BA12: anketa nav aizpildīta | BB12: 0 | BC12: 0 | BD12: 0 | BE12: 0 | BF12: anketa nav aizpildīta | BG12: 0 | BH12: 0 | BI12: 0 | BJ12: 0 | BK12: anketa nav aizpildīta | BL12: 0 | BM12: 0 | BN12: 0 | BO12: 0 | BP12: anketa nav aizpildīta | BQ12: 0 | BR12: 0 | BS12: 0 | BT12: 0 | BU12: anketa nav aizpildīta | BV12: 0 | BW12: 0 | BX12: 0 | BY12: 0 | BZ12: anketa nav aizpildīta | CA12: 0 | CB12: 0 | CC12: 0 | CD12: 0 | CE12: anketa nav aizpildīta | CF12: 0 | CG12: 0 | CH12: 0 | CI12: 0 | CJ12: anketa nav aizpildīta | CK12: 0 | CL12: 0 | CM12: 0 | CN12: 0 | CO12: anketa nav aizpildīta | CP12: 0 | CQ12: 0 | CR12: 0 | CS12: 0 | CT12: anketa nav aizpildīta | CU12: 0 | CV12: 0 | CW12: 0 | CX12: 0 | CY12: anketa nav aizpildīta | CZ12: 0 | DA12: 0 | DB12: 0 | DC12: 0 | DD12: anketa nav aizpildīta | DE12: 0 | DF12: 0 | DG12: 0 | DH12: 0 | DI12: anketa nav aizpildīta | DJ12: 0 | DK12: 0 | DL12: 0 | DM12: 0
A13: 13 | B13: 111 | C13: 45834.643 | D13: 45834.643 | E13: 0 | F13: 0 | G13: 0 | H13: 0 | I13: 0 | J13: 0 | K13: 0 | M13: 0 | N13: AS "Augstsprieguma tīkls" | O13: 1 | P13: 0 | Q13: 0 | R13: 0 | S13: 0 | T13: anketa nav aizpildīta | U13: 0 | V13: 0 | W13: 0 | X13: 0 | Y13: anketa nav aizpildīta | Z13: 0 | AA13: 0 | AB13: 0 | AC13: 0 | AD13: anketa nav aizpildīta | AE13: 0 | AF13: 0 | AG13: 0 | AH13: 0 | AI13: anketa nav aizpildīta | AJ13: 0 | AK13: 0 | AL13: 0 | AM13: 0 | AN13: 0 | AO13: 0 | AP13: 0 | AQ13: anketa nav aizpildīta | AR13: 0 | AS13: 0 | AT13: 0 | AU13: 0 | AV13: anketa nav aizpildīta | AW13: 0 | AX13: 0 | AY13: 0 | AZ13: 0 | BA13: anketa nav aizpildīta | BB13: 0 | BC13: 0 | BD13: 0 | BE13: 0 | BF13: anketa nav aizpildīta | BG13: 0 | BH13: 0 | BI13: 0 | BJ13: 0 | BK13: anketa nav aizpildīta | BL13: 0 | BM13: 0 | BN13: 0 | BO13: 0 | BP13: anketa nav aizpildīta | BQ13: 0 | BR13: 0 | BS13: 0 | BT13: 0 | BU13: anketa nav aizpildīta | BV13: 0 | BW13: 0 | BX13: 0 | BY13: 0 | BZ13: anketa nav aizpildīta | CA13: 0 | CB13: 0 | CC13: 0 | CD13: 0 | CE13: anketa nav aizpildīta | CF13: 0 | CG13: 0 | CH13: 0 | CI13: 0 | CJ13: anketa nav aizpildīta | CK13: 0 | CL13: 0 | CM13: 0 | CN13: 0 | CO13: anketa nav aizpildīta | CP13: 0 | CQ13: 0 | CR13: 0 | CS13: 0 | CT13: anketa nav aizpildīta | CU13: 0 | CV13: 0 | CW13: 0 | CX13: 0 | CY13: anketa nav aizpildīta | CZ13: 0 | DA13: 0 | DB13: 0 | DC13: 0 | DD13: anketa nav aizpildīta | DE13: 0 | DF13: 0 | DG13: 0 | DH13: 0 | DI13: anketa nav aizpildīta | DJ13: 0 | DK13: 0 | DL13: 0 | DM13: 0
A14: 14 | B14: 112 | C14: 45834.644 | D14: 45834.644 | E14: 0 | F14: 0 | G14: 0 | H14: 0 | I14: 0 | J14: 0 | K14: 0 | M14: 0 | N14: Nacionālais Kino centrs | O14: 1 | P14: 0 | Q14: 0 | R14: 0 | S14: 0 | T14: anketa nav aizpildīta | U14: 0 | V14: 0 | W14: 0 | X14: 0 | Y14: anketa nav aizpildīta | Z14: 0 | AA14: 0 | AB14: 0 | AC14: 0 | AD14: anketa nav aizpildīta | AE14: 0 | AF14: 0 | AG14: 0 | AH14: 0 | AI14: anketa nav aizpildīta | AJ14: 0 | AK14: 0 | AL14: 0 | AM14: 0 | AN14: 0 | AO14: 0 | AP14: 0 | AQ14: anketa nav aizpildīta | AR14: 0 | AS14: 0 | AT14: 0 | AU14: 0 | AV14: anketa nav aizpildīta | AW14: 0 | AX14: 0 | AY14: 0 | AZ14: 0 | BA14: anketa nav aizpildīta | BB14: 0 | BC14: 0 | BD14: 0 | BE14: 0 | BF14: anketa nav aizpildīta | BG14: 0 | BH14: 0 | BI14: 0 | BJ14: 0 | BK14: anketa nav aizpildīta | BL14: 0 | BM14: 0 | BN14: 0 | BO14: 0 | BP14: anketa nav aizpildīta | BQ14: 0 | BR14: 0 | BS14: 0 | BT14: 0 | BU14: anketa nav aizpildīta | BV14: 0 | BW14: 0 | BX14: 0 | BY14: 0 | BZ14: anketa nav aizpildīta | CA14: 0 | CB14: 0 | CC14: 0 | CD14: 0 | CE14: anketa nav aizpildīta | CF14: 0 | CG14: 0 | CH14: 0 | CI14: 0 | CJ14: anketa nav aizpildīta | CK14: 0 | CL14: 0 | CM14: 0 | CN14: 0 | CO14: anketa nav aizpildīta | CP14: 0 | CQ14: 0 | CR14: 0 | CS14: 0 | CT14: anketa nav aizpildīta | CU14: 0 | CV14: 0 | CW14: 0 | CX14: 0 | CY14: anketa nav aizpildīta | CZ14: 0 | DA14: 0 | DB14: 0 | DC14: 0 | DD14: anketa nav aizpildīta | DE14: 0 | DF14: 0 | DG14: 0 | DH14: 0 | DI14: anketa nav aizpildīta | DJ14: 0 | DK14: 0 | DL14: 0 | DM14: 0
A15: 15 | B15: 114 | C15: 45834.649 | D15: 45834.649 | E15: 0 | F15: 0 | G15: 0 | H15: 0 | I15: 0 | J15: 0 | K15: 0 | M15: 0 | N15: Valsts Kultūrkapitāla fonds | O15: 1 | P15: 0 | Q15: 0 | R15: 0 | S15: 0 | T15: anketa nav aizpildīta | U15: 0 | V15: 0 | W15: 0 | X15: 0 | Y15: anketa nav aizpildīta | Z15: 0 | AA15: 0 | AB15: 0 | AC15: 0 | AD15: anketa nav aizpildīta | AE15: 0 | AF15: 0 | AG15: 0 | AH15: 0 | AI15: anketa nav aizpildīta | AJ15: 0 | AK15: 0 | AL15: 0 | AM15: 0 | AN15: 0 | AO15: 0 | AP15: 0 | AQ15: anketa nav aizpildīta | AR15: 0 | AS15: 0 | AT15: 0 | AU15: 0 | AV15: anketa nav aizpildīta | AW15: 0 | AX15: 0 | AY15: 0 | AZ15: 0 | BA15: anketa nav aizpildīta | BB15: 0 | BC15: 0 | BD15: 0 | BE15: 0 | BF15: anketa nav aizpildīta | BG15: 0 | BH15: 0 | BI15: 0 | BJ15: 0 | BK15: anketa nav aizpildīta | BL15: 0 | BM15: 0 | BN15: 0 | BO15: 0 | BP15: anketa nav aizpildīta | BQ15: 0 | BR15: 0 | BS15: 0 | BT15: 0 | BU15: anketa nav aizpildīta | BV15: 0 | BW15: 0 | BX15: 0 | BY15: 0 | BZ15: anketa nav aizpildīta | CA15: 0 | CB15: 0 | CC15: 0 | CD15: 0 | CE15: anketa nav aizpildīta | CF15: 0 | CG15: 0 | CH15: 0 | CI15: 0 | CJ15: anketa nav aizpildīta | CK15: 0 | CL15: 0 | CM15: 0 | CN15: 0 | CO15: anketa nav aizpildīta | CP15: 0 | CQ15: 0 | CR15: 0 | CS15: 0 | CT15: anketa nav aizpildīta | CU15: 0 | CV15: 0 | CW15: 0 | CX15: 0 | CY15: anketa nav aizpildīta | CZ15: 0 | DA15: 0 | DB15: 0 | DC15: 0 | DD15: anketa nav aizpildīta | DE15: 0 | DF15: 0 | DG15: 0 | DH15: 0 | DI15: anketa nav aizpildīta | DJ15: 0 | DK15: 0 | DL15: 0 | DM15: 0
A16: 16 | B16: 116 | C16: 45834.652 | D16: 45834.652 | E16: 0 | F16: 0 | G16: 0 | H16: 0 | I16: 0 | J16: 0 | K16: 0 | M16: 0 | N16: Valsts dzelzceļa administrācija | O16: 1 | P16: 0 | Q16: 0 | R16: 0 | S16: 0 | T16: anketa nav aizpildīta | U16: 0 | V16: 0 | W16: 0 | X16: 0 | Y16: anketa nav aizpildīta | Z16: 0 | AA16: 0 | AB16: 0 | AC16: 0 | AD16: anketa nav aizpildīta | AE16: 0 | AF16: 0 | AG16: 0 | AH16: 0 | AI16: anketa nav aizpildīta | AJ16: 0 | AK16: 0 | AL16: 0 | AM16: 0 | AN16: 0 | AO16: 0 | AP16: 0 | AQ16: anketa nav aizpildīta | AR16: 0 | AS16: 0 | AT16: 0 | AU16: 0 | AV16: anketa nav aizpildīta | AW16: 0 | AX16: 0 | AY16: 0 | AZ16: 0 | BA16: anketa nav aizpildīta | BB16: 0 | BC16: 0 | BD16: 0 | BE16: 0 | BF16: anketa nav aizpildīta | BG16: 0 | BH16: 0 | BI16: 0 | BJ16: 0 | BK16: anketa nav aizpildīta | BL16: 0 | BM16: 0 | BN16: 0 | BO16: 0 | BP16: anketa nav aizpildīta | BQ16: 0 | BR16: 0 | BS16: 0 | BT16: 0 | BU16: anketa nav aizpildīta | BV16: 0 | BW16: 0 | BX16: 0 | BY16: 0 | BZ16: anketa nav aizpildīta | CA16: 0 | CB16: 0 | CC16: 0 | CD16: 0 | CE16: anketa nav aizpildīta | CF16: 0 | CG16: 0 | CH16: 0 | CI16: 0 | CJ16: anketa nav aizpildīta | CK16: 0 | CL16: 0 | CM16: 0 | CN16: 0 | CO16: anketa nav aizpildīta | CP16: 0 | CQ16: 0 | CR16: 0 | CS16: 0 | CT16: anketa nav aizpildīta | CU16: 0 | CV16: 0 | CW16: 0 | CX16: 0 | CY16: anketa nav aizpildīta | CZ16: 0 | DA16: 0 | DB16: 0 | DC16: 0 | DD16: anketa nav aizpildīta | DE16: 0 | DF16: 0 | DG16: 0 | DH16: 0 | DI16: anketa nav aizpildīta | DJ16: 0 | DK16: 0 | DL16: 0 | DM16: 0
A17: 17 | B17: 118 | C17: 45834.658 | D17: 45834.658 | E17: 0 | F17: 0 | G17: 0 | H17: 0 | I17: 0 | J17: 0 | K17: 0 | M17: 0 | N17: VAS "Latvijas Autoceļu uzturētājs" | O17: 1 | P17: 0 | Q17: 0 | R17: 0 | S17: 0 | T17: anketa nav aizpildīta | U17: 0 | V17: 0 | W17: 0 | X17: 0 | Y17: anketa nav aizpildīta | Z17: 0 | AA17: 0 | AB17: 0 | AC17: 0 | AD17: anketa nav aizpildīta | AE17: 0 | AF17: 0 | AG17: 0 | AH17: 0 | AI17: anketa nav aizpildīta | AJ17: 0 | AK17: 0 | AL17: 0 | AM17: 0 | AN17: 0 | AO17: 0 | AP17: 0 | AQ17: anketa nav aizpildīta | AR17: 0 | AS17: 0 | AT17: 0 | AU17: 0 | AV17: anketa nav aizpildīta | AW17: 0 | AX17: 0 | AY17: 0 | AZ17: 0 | BA17: anketa nav aizpildīta | BB17: 0 | BC17: 0 | BD17: 0 | BE17: 0 | BF17: anketa nav aizpildīta | BG17: 0 | BH17: 0 | BI17: 0 | BJ17: 0 | BK17: anketa nav aizpildīta | BL17: 0 | BM17: 0 | BN17: 0 | BO17: 0 | BP17: anketa nav aizpildīta | BQ17: 0 | BR17: 0 | BS17: 0 | BT17: 0 | BU17: anketa nav aizpildīta | BV17: 0 | BW17: 0 | BX17: 0 | BY17: 0 | BZ17: anketa nav aizpildīta | CA17: 0 | CB17: 0 | CC17: 0 | CD17: 0 | CE17: anketa nav aizpildīta | CF17: 0 | CG17: 0 | CH17: 0 | CI17: 0 | CJ17: anketa nav aizpildīta | CK17: 0 | CL17: 0 | CM17: 0 | CN17: 0 | CO17: anketa nav aizpildīta | CP17: 0 | CQ17: 0 | CR17: 0 | CS17: 0 | CT17: anketa nav aizpildīta | CU17: 0 | CV17: 0 | CW17: 0 | CX17: 0 | CY17: anketa nav aizpildīta | CZ17: 0 | DA17: 0 | DB17: 0 | DC17: 0 | DD17: anketa nav aizpildīta | DE17: 0 | DF17: 0 | DG17: 0 | DH17: 0 | DI17: anketa nav aizpildīta | DJ17: 0 | DK17: 0 | DL17: 0 | DM17: 0
A18: 18 | B18: 119 | C18: 45834.668 | D18: 45834.668 | E18: 0 | F18: 0 | G18: 0 | H18: 0 | I18: 0 | J18: 0 | K18: 0 | M18: 0 | N18: VAS "Latvijas dzelzceļš" | O18: 1 | P18: 0 | Q18: 0 | R18: 0 | S18: 0 | T18: anketa nav aizpildīta | U18: 0 | V18: 0 | W18: 0 | X18: 0 | Y18: anketa nav aizpildīta | Z18: 0 | AA18: 0 | AB18: 0 | AC18: 0 | AD18: anketa nav aizpildīta | AE18: 0 | AF18: 0 | AG18: 0 | AH18: 0 | AI18: anketa nav aizpildīta | AJ18: 0 | AK18: 0 | AL18: 0 | AM18: 0 | AN18: 0 | AO18: 0 | AP18: 0 | AQ18: anketa nav aizpildīta | AR18: 0 | AS18: 0 | AT18: 0 | AU18: 0 | AV18: anketa nav aizpildīta | AW18: 0 | AX18: 0 | AY18: 0 | AZ18: 0 | BA18: anketa nav aizpildīta | BB18: 0 | BC18: 0 | BD18: 0 | BE18: 0 | BF18: anketa nav aizpildīta | BG18: 0 | BH18: 0 | BI18: 0 | BJ18: 0 | BK18: anketa nav aizpildīta | BL18: 0 | BM18: 0 | BN18: 0 | BO18: 0 | BP18: anketa nav aizpildīta | BQ18: 0 | BR18: 0 | BS18: 0 | BT18: 0 | BU18: anketa nav aizpildīta | BV18: 0 | BW18: 0 | BX18: 0 | BY18: 0 | BZ18: anketa nav aizpildīta | CA18: 0 | CB18: 0 | CC18: 0 | CD18: 0 | CE18: anketa nav aizpildīta | CF18: 0 | CG18: 0 | CH18: 0 | CI18: 0 | CJ18: anketa nav aizpildīta | CK18: 0 | CL18: 0 | CM18: 0 | CN18: 0 | CO18: anketa nav aizpildīta | CP18: 0 | CQ18: 0 | CR18: 0 | CS18: 0 | CT18: anketa nav aizpildīta | CU18: 0 | CV18: 0 | CW18: 0 | CX18: 0 | CY18: anketa nav aizpildīta | CZ18: 0 | DA18: 0 | DB18: 0 | DC18: 0 | DD18: anketa nav aizpildīta | DE18: 0 | DF18: 0 | DG18: 0 | DH18: 0 | DI18: anketa nav aizpildīta | DJ18: 0 | DK18: 0 | DL18: 0 | DM18: 0
A19: 19 | B19: 120 | C19: 45834.669 | D19: 45834.669 | E19: 0 | F19: 0 | G19: 0 | H19: 0 | I19: 0 | J19: 0 | K19: 0 | M19: 0 | N19: VAS "Latvijas Pasts" | O19: 1 | P19: 0 | Q19: 0 | R19: 0 | S19: 0 | T19: anketa nav aizpildīta | U19: 0 | V19: 0 | W19: 0 | X19: 0 | Y19: anketa nav aizpildīta | Z19: 0 | AA19: 0 | AB19: 0 | AC19: 0 | AD19: anketa nav aizpildīta | AE19: 0 | AF19: 0 | AG19: 0 | AH19: 0 | AI19: anketa nav aizpildīta | AJ19: 0 | AK19: 0 | AL19: 0 | AM19: 0 | AN19: 0 | AO19: 0 | AP19: 0 | AQ19: anketa nav aizpildīta | AR19: 0 | AS19: 0 | AT19: 0 | AU19: 0 | AV19: anketa nav aizpildīta | AW19: 0 | AX19: 0 | AY19: 0 | AZ19: 0 | BA19: anketa nav aizpildīta | BB19: 0 | BC19: 0 | BD19: 0 | BE19: 0 | BF19: anketa nav aizpildīta | BG19: 0 | BH19: 0 | BI19: 0 | BJ19: 0 | BK19: anketa nav aizpildīta | BL19: 0 | BM19: 0 | BN19: 0 | BO19: 0 | BP19: anketa nav aizpildīta | BQ19: 0 | BR19: 0 | BS19: 0 | BT19: 0 | BU19: anketa nav aizpildīta | BV19: 0 | BW19: 0 | BX19: 0 | BY19: 0 | BZ19: anketa nav aizpildīta | CA19: 0 | CB19: 0 | CC19: 0 | CD19: 0 | CE19: anketa nav aizpildīta | CF19: 0 | CG19: 0 | CH19: 0 | CI19: 0 | CJ19: anketa nav aizpildīta | CK19: 0 | CL19: 0 | CM19: 0 | CN19: 0 | CO19: anketa nav aizpildīta | CP19: 0 | CQ19: 0 | CR19: 0 | CS19: 0 | CT19: anketa nav aizpildīta | CU19: 0 | CV19: 0 | CW19: 0 | CX19: 0 | CY19: anketa nav aizpildīta | CZ19: 0 | DA19: 0 | DB19: 0 | DC19: 0 | DD19: anketa nav aizpildīta | DE19: 0 | DF19: 0 | DG19: 0 | DH19: 0 | DI19: anketa nav aizpildīta | DJ19: 0 | DK19: 0 | DL19: 0 | DM19: 0
A20: 20 | B20: 122 | C20: 45834.677 | D20: 45834.677 | E20: 0 | F20: 0 | G20: 0 | H20: 0 | I20: 0 | J20: 0 | K20: 0 | M20: 0 | N20: Neatliekamās medicīniskās palīdzības dienests | O20: 1 | P20: 0 | Q20: 0 | R20: 0 | S20: 0 | T20: anketa nav aizpildīta | U20: 0 | V20: 0 | W20: 0 | X20: 0 | Y20: anketa nav aizpildīta | Z20: 0 | AA20: 0 | AB20: 0 | AC20: 0 | AD20: anketa nav aizpildīta | AE20: 0 | AF20: 0 | AG20: 0 | AH20: 0 | AI20: anketa nav aizpildīta | AJ20: 0 | AK20: 0 | AL20: 0 | AM20: 0 | AN20: 0 | AO20: 0 | AP20: 0 | AQ20: anketa nav aizpildīta | AR20: 0 | AS20: 0 | AT20: 0 | AU20: 0 | AV20: anketa nav aizpildīta | AW20: 0 | AX20: 0 | AY20: 0 | AZ20: 0 | BA20: anketa nav aizpildīta | BB20: 0 | BC20: 0 | BD20: 0 | BE20: 0 | BF20: anketa nav aizpildīta | BG20: 0 | BH20: 0 | BI20: 0 | BJ20: 0 | BK20: anketa nav aizpildīta | BL20: 0 | BM20: 0 | BN20: 0 | BO20: 0 | BP20: anketa nav aizpildīta | BQ20: 0 | BR20: 0 | BS20: 0 | BT20: 0 | BU20: anketa nav aizpildīta | BV20: 0 | BW20: 0 | BX20: 0 | BY20: 0 | BZ20: anketa nav aizpildīta | CA20: 0 | CB20: 0 | CC20: 0 | CD20: 0 | CE20: anketa nav aizpildīta | CF20: 0 | CG20: 0 | CH20: 0 | CI20: 0 | CJ20: anketa nav aizpildīta | CK20: 0 | CL20: 0 | CM20: 0 | CN20: 0 | CO20: anketa nav aizpildīta | CP20: 0 | CQ20: 0 | CR20: 0 | CS20: 0 | CT20: anketa nav aizpildīta | CU20: 0 | CV20: 0 | CW20: 0 | CX20: 0 | CY20: anketa nav aizpildīta | CZ20: 0 | DA20: 0 | DB20: 0 | DC20: 0 | DD20: anketa nav aizpildīta | DE20: 0 | DF20: 0 | DG20: 0 | DH20: 0 | DI20: anketa nav aizpildīta | DJ20: 0 | DK20: 0 | DL20: 0 | DM20: 0
A21: 21 | B21: 124 | C21: 45834.682 | D21: 45834.682 | E21: 0 | F21: 0 | G21: 0 | H21: 0 | I21: 0 | J21: 0 | K21: 0 | M21: 0 | N21: SIA “Latvijas Digitālās veselības centrs” | O21: 1 | P21: 0 | Q21: 0 | R21: 0 | S21: 0 | T21: anketa nav aizpildīta | U21: 0 | V21: 0 | W21: 0 | X21: 0 | Y21: anketa nav aizpildīta | Z21: 0 | AA21: 0 | AB21: 0 | AC21: 0 | AD21: anketa nav aizpildīta | AE21: 0 | AF21: 0 | AG21: 0 | AH21: 0 | AI21: anketa nav aizpildīta | AJ21: 0 | AK21: 0 | AL21: 0 | AM21: 0 | AN21: 0 | AO21: 0 | AP21: 0 | AQ21: anketa nav aizpildīta | AR21: 0 | AS21: 0 | AT21: 0 | AU21: 0 | AV21: anketa nav aizpildīta | AW21: 0 | AX21: 0 | AY21: 0 | AZ21: 0 | BA21: anketa nav aizpildīta | BB21: 0 | BC21: 0 | BD21: 0 | BE21: 0 | BF21: anketa nav aizpildīta | BG21: 0 | BH21: 0 | BI21: 0 | BJ21: 0 | BK21: anketa nav aizpildīta | BL21: 0 | BM21: 0 | BN21: 0 | BO21: 0 | BP21: anketa nav aizpildīta | BQ21: 0 | BR21: 0 | BS21: 0 | BT21: 0 | BU21: anketa nav aizpildīta | BV21: 0 | BW21: 0 | BX21: 0 | BY21: 0 | BZ21: anketa nav aizpildīta | CA21: 0 | CB21: 0 | CC21: 0 | CD21: 0 | CE21: anketa nav aizpildīta | CF21: 0 | CG21: 0 | CH21: 0 | CI21: 0 | CJ21: anketa nav aizpildīta | CK21: 0 | CL21: 0 | CM21: 0 | CN21: 0 | CO21: anketa nav aizpildīta | CP21: 0 | CQ21: 0 | CR21: 0 | CS21: 0 | CT21: anketa nav aizpildīta | CU21: 0 | CV21: 0 | CW21: 0 | CX21: 0 | CY21: anketa nav aizpildīta | CZ21: 0 | DA21: 0 | DB21: 0 | DC21: 0 | DD21: anketa nav aizpildīta | DE21: 0 | DF21: 0 | DG21: 0 | DH21: 0 | DI21: anketa nav aizpildīta | DJ21: 0 | DK21: 0 | DL21: 0 | DM21: 0
... A26: 26 | B26: 133 | C26: 45835.434 | D26: 45835.434 | E26: 0 | F26: 0 | G26: 0 | H26: 0 | I26: 0 | J26: 0 | K26: 0 | M26: 0 | N26: Nodibinājums "Akadēmiskās informācijas centrs" | O26: 1 | P26: 0 | Q26: 0 | R26: 0 | S26: 0 | T26: anketa nav aizpildīta | U26: 0 | V26: 0 | W26: 0 | X26: 0 | Y26: anketa nav aizpildīta | Z26: 0 | AA26: 0 | AB26: 0 | AC26: 0 | AD26: anketa nav aizpildīta | AE26: 0 | AF26: 0 | AG26: 0 | AH26: 0 | AI26: anketa nav aizpildīta | AJ26: 0 | AK26: 0 | AL26: 0 | AM26: 0 | AN26: 0 | AO26: 0 | AP26: 0 | AQ26: anketa nav aizpildīta | AR26: 0 | AS26: 0 | AT26: 0 | AU26: 0 | AV26: anketa nav aizpildīta | AW26: 0 | AX26: 0 | AY26: 0 | AZ26: 0 | BA26: anketa nav aizpildīta | BB26: 0 | BC26: 0 | BD26: 0 | BE26: 0 | BF26: anketa nav aizpildīta | BG26: 0 | BH26: 0 | BI26: 0 | BJ26: 0 | BK26: anketa nav aizpildīta | BL26: 0 | BM26: 0 | BN26: 0 | BO26: 0 | BP26: anketa nav aizpildīta | BQ26: 0 | BR26: 0 | BS26: 0 | BT26: 0 | BU26: anketa nav aizpildīta | BV26: 0 | BW26: 0 | BX26: 0 | BY26: 0 | BZ26: anketa nav aizpildīta | CA26: 0 | CB26: 0 | CC26: 0 | CD26: 0 | CE26: anketa nav aizpildīta | CF26: 0 | CG26: 0 | CH26: 0 | CI26: 0 | CJ26: anketa nav aizpildīta | CK26: 0 | CL26: 0 | CM26: 0 | CN26: 0 | CO26: anketa nav aizpildīta | CP26: 0 | CQ26: 0 | CR26: 0 | CS26: 0 | CT26: anketa nav aizpildīta | CU26: 0 | CV26: 0 | CW26: 0 | CX26: 0 | CY26: anketa nav aizpildīta | CZ26: 0 | DA26: 0 | DB26: 0 | DC26: 0 | DD26: anketa nav aizpildīta | DE26: 0 | DF26: 0 | DG26: 0 | DH26: 0 | DI26: anketa nav aizpildīta | DJ26: 0 | DK26: 0 | DL26: 0 | DM26: 0
A27: 131 | B27: 279 | C27: 46246.38 | D27: 46246.38 | E27: 19 | F27: 0 | G27: 1 | H27: 0 | I27: 0 | J27: 0 | K27: 0 | M27: Finanšu ministrija | N27: Iepirkumu uzraudzības birojs | O27: 0 | P27: 90001263305 | Q27: 0 | R27: 0 | S27: 18 | T27: jā | U27: 0 | V27: 0 | W27: 0 | X27: 1 | Y27: jā | Z27: 0 | AA27: 0 | AB27: 0 | AC27: 1 | AD27: jā | AE27: 0 | AF27: 0 | AG27: 0 | AH27: 1 | AI27: 2 | AJ27: 0 | AK27: 1 | AL27: 0 | AM27: 0 | AN27: 0 | AO27: 0 | AP27: 0 | AQ27: jā | AR27: 0 | AS27: 0 | AT27: 0 | AU27: 1 | AV27: jā | AW27: 0 | AX27: 0 | AY27: 0 | AZ27: 1 | BA27: jā | BB27: 0 | BC27: 0 | BD27: 0 | BE27: 1 | BF27: jā | BG27: 0 | BH27: 0 | BI27: 0 | BJ27: 1 | BK27: jā | BL27: 0 | BM27: 0 | BN27: 0 | BO27: 1 | BP27: jā | BQ27: 0 | BR27: 0 | BS27: 0 | BT27: 1 | BU27: jā | BV27: 0 | BW27: 0 | BX27: 0 | BY27: 1 | BZ27: jā | CA27: 0 | CB27: 0 | CC27: 0 | CD27: 1 | CE27: jā | CF27: 0 | CG27: 0 | CH27: 0 | CI27: 1 | CJ27: jā | CK27: 0 | CL27: 0 | CM27: 0 | CN27: 1 | CO27: jā | CP27: 0 | CQ27: 0 | CR27: 0 | CS27: 1 | CT27: jā | CU27: 0 | CV27: 0 | CW27: 0 | CX27: 1 | CY27: jā | CZ27: 0 | DA27: 0 | DB27: 0 | DC27: 1 | DD27: jā | DE27: 0 | DF27: 0 | DG27: 0 | DH27: 1 | DI27: jā | DJ27: 0 | DK27: 0 | DL27: 0 | DM27: 1
A28: 130 | B28: 278 | C28: 46245.43 | D28: 46245.43 | E28: 20 | F28: 0 | G28: 1 | H28: 0 | I28: 0 | J28: 0 | K28: 0 | M28: Iekšlietu ministrija | N28: Valsts ugunsdzēsības un glābšanas dienests | O28: 0 | P28: 90000049834 | Q28: 9 | R28: 4 | S28: 5 | T28: jā | U28: 0 | V28: 0 | W28: 0 | X28: 1 | Y28: jā | Z28: 0 | AA28: 0 | AB28: 0 | AC28: 1 | AD28: jā | AE28: 0 | AF28: 0 | AG28: 0 | AH28: 1 | AI28: 5 | AJ28: 0 | AK28: 0 | AL28: 1 | AM28: 0 | AN28: 0 | AO28: 0 | AP28: 0 | AQ28: jā | AR28: 0 | AS28: 0 | AT28: 0 | AU28: 1 | AV28: jā | AW28: 0 | AX28: 0 | AY28: 0 | AZ28: 1 | BA28: daļēji | BB28: 0 | BC28: 0 | BD28: 1 | BE28: 0 | BF28: daļēji | BG28: 0 | BH28: 0 | BI28: 1 | BJ28: 0 | BK28: daļēji | BL28: 0 | BM28: 0 | BN28: 1 | BO28: 0 | BP28: nē | BQ28: 0 | BR28: 1 | BS28: 0 | BT28: 0 | BU28: nē | BV28: 0 | BW28: 1 | BX28: 0 | BY28: 0 | BZ28: nē | CA28: 0 | CB28: 1 | CC28: 0 | CD28: 0 | CE28: daļēji | CF28: 0 | CG28: 0 | CH28: 1 | CI28: 0 | CJ28: nē | CK28: 0 | CL28: 1 | CM28: 0 | CN28: 0 | CO28: nē | CP28: 0 | CQ28: 1 | CR28: 0 | CS28: 0 | CT28: nē | CU28: 0 | CV28: 1 | CW28: 0 | CX28: 0 | CY28: nē | CZ28: 0 | DA28: 1 | DB28: 0 | DC28: 0 | DD28: nē | DE28: 0 | DF28: 1 | DG28: 0 | DH28: 0 | DI28: nē | DJ28: 0 | DK28: 1 | DL28: 0 | DM28: 0
A29: 129 | B29: 277 | C29: 46188.611 | D29: 46188.611 | E29: 77 | F29: 0 | G29: 0 | H29: 1 | I29: 0 | J29: 0 | K29: 0 | M29: Izglītības un zinātnes ministrija | N29: Dabas aizsardzības pārvalde | O29: 0 | P29: 12345687900 | Q29: 3 | R29: 6 | S29: 9 | T29: daļēji | U29: 0 | V29: 0 | W29: 1 | X29: 0 | Y29: daļēji | Z29: 0 | AA29: 0 | AB29: 1 | AC29: 0 | AD29: daļēji | AE29: 0 | AF29: 0 | AG29: 1 | AH29: 0 | AI29: 9 | AJ29: 0 | AK29: 0 | AL29: 1 | AM29: 0 | AN29: 0 | AO29: 0 | AP29: 0 | AQ29: daļēji | AR29: 0 | AS29: 0 | AT29: 1 | AU29: 0 | AV29: nē | AW29: 0 | AX29: 1 | AY29: 0 | AZ29: 0 | BA29: daļēji | BB29: 0 | BC29: 0 | BD29: 1 | BE29: 0 | BF29: daļēji | BG29: 0 | BH29: 0 | BI29: 1 | BJ29: 0 | BK29: nē | BL29: 0 | BM29: 1 | BN29: 0 | BO29: 0 | BP29: jā | BQ29: 0 | BR29: 0 | BS29: 0 | BT29: 1 | BU29: jā | BV29: 0 | BW29: 0 | BX29: 0 | BY29: 1 | BZ29: jā | CA29: 0 | CB29: 0 | CC29: 0 | CD29: 1 | CE29: nē | CF29: 0 | CG29: 1 | CH29: 0 | CI29: 0 | CJ29: jā | CK29: 0 | CL29: 0 | CM29: 0 | CN29: 1 | CO29: jā | CP29: 0 | CQ29: 0 | CR29: 0 | CS29: 1 | CT29: jā | CU29: 0 | CV29: 0 | CW29: 0 | CX29: 1 | CY29: jā | CZ29: 0 | DA29: 0 | DB29: 0 | DC29: 1 | DD29: jā | DE29: 0 | DF29: 0 | DG29: 0 | DH29: 1 | DI29: jā | DJ29: 0 | DK29: 0 | DL29: 0 | DM29: 1
A30: 128 | B30: 276 | C30: 46148.659 | D30: 46148.659 | E30: 117 | F30: 0 | G30: 0 | H30: 0 | I30: 1 | J30: 0 | K30: 0 | M30: Tieslietu ministrija | N30: Valsts valodas centrs | O30: 0 | P30: 90000463460 | Q30: 3 | R30: 1 | S30: 14 | T30: jā | U30: 0 | V30: 0 | W30: 0 | X30: 1 | Y30: jā | Z30: 0 | AA30: 0 | AB30: 0 | AC30: 1 | AD30: jā | AE30: 0 | AF30: 0 | AG30: 0 | AH30: 1 | AI30: 4 | AJ30: 0 | AK30: 0 | AL30: 1 | AM30: 0 | AN30: 0 | AO30: 0 | AP30: 0 | AQ30: daļēji | AR30: 0 | AS30: 0 | AT30: 1 | AU30: 0 | AV30: jā | AW30: 0 | AX30: 0 | AY30: 0 | AZ30: 1 | BA30: nē | BB30: 0 | BC30: 1 | BD30: 0 | BE30: 0 | BF30: nē | BG30: 0 | BH30: 1 | BI30: 0 | BJ30: 0 | BK30: jā | BL30: 0 | BM30: 0 | BN30: 0 | BO30: 1 | BP30: jā | BQ30: 0 | BR30: 0 | BS30: 0 | BT30: 1 | BU30: jā | BV30: 0 | BW30: 0 | BX30: 0 | BY30: 1 | BZ30: jā | CA30: 0 | CB30: 0 | CC30: 0 | CD30: 1 | CE30: jā | CF30: 0 | CG30: 0 | CH30: 0 | CI30: 1 | CJ30: jā | CK30: 0 | CL30: 0 | CM30: 0 | CN30: 1 | CO30: jā | CP30: 0 | CQ30: 0 | CR30: 0 | CS30: 1 | CT30: jā | CU30: 0 | CV30: 0 | CW30: 0 | CX30: 1 | CY30: jā | CZ30: 0 | DA30: 0 | DB30: 0 | DC30: 1 | DD30: jā | DE30: 0 | DF30: 0 | DG30: 0 | DH30: 1 | DI30: nē | DJ30: 0 | DK30: 1 | DL30: 0 | DM30: 0
A31: 127 | B31: 275 | C31: 46141.74 | D31: 46141.74 | E31: 124 | F31: 0 | G31: 0 | H31: 0 | I31: 1 | J31: 0 | K31: 0 | M31: Cits | N31: Sabiedrisko pakalpojumu regulēšanas komisija | O31: 0 | P31: 90001162258 | Q31: 3 | R31: 5 | S31: 10 | T31: jā | U31: 0 | V31: 0 | W31: 0 | X31: 1 | Y31: jā | Z31: 0 | AA31: 0 | AB31: 0 | AC31: 1 | AD31: jā | AE31: 0 | AF31: 0 | AG31: 0 | AH31: 1 | AI31: 3 | AJ31: 0 | AK31: 0 | AL31: 1 | AM31: 0 | AN31: 0 | AO31: 0 | AP31: 0 | AQ31: jā | AR31: 0 | AS31: 0 | AT31: 0 | AU31: 1 | AV31: daļēji | AW31: 0 | AX31: 0 | AY31: 1 | AZ31: 0 | BA31: jā | BB31: 0 | BC31: 0 | BD31: 0 | BE31: 1 | BF31: jā | BG31: 0 | BH31: 0 | BI31: 0 | BJ31: 1 | BK31: jā | BL31: 0 | BM31: 0 | BN31: 0 | BO31: 1 | BP31: jā | BQ31: 0 | BR31: 0 | BS31: 0 | BT31: 1 | BU31: jā | BV31: 0 | BW31: 0 | BX31: 0 | BY31: 1 | BZ31: daļēji | CA31: 0 | CB31: 0 | CC31: 1 | CD31: 0 | CE31: jā | CF31: 0 | CG31: 0 | CH31: 0 | CI31: 1 | CJ31: daļēji | CK31: 0 | CL31: 0 | CM31: 1 | CN31: 0 | CO31: daļēji | CP31: 0 | CQ31: 0 | CR31: 1 | CS31: 0 | CT31: daļēji | CU31: 0 | CV31: 0 | CW31: 1 | CX31: 0 | CY31: nē | CZ31: 0 | DA31: 1 | DB31: 0 | DC31: 0 | DD31: nē | DE31: 0 | DF31: 1 | DG31: 0 | DH31: 0 | DI31: nē | DJ31: 0 | DK31: 1 | DL31: 0 | DM31: 0
A32: 126 | B32: 274 | C32: 46126.663 | D32: 46126.663 | E32: 139 | F32: 0 | G32: 0 | H32: 0 | I32: 1 | J32: 0 | K32: 0 | M32: Ekonomikas ministrija | N32: Centrālā statistikas pārvalde | O32: 0 | P32: 90000069830 | Q32: 5 | R32: 5 | S32: 8 | T32: daļēji | U32: 0 | V32: 0 | W32: 1 | X32: 0 | Y32: jā | Z32: 0 | AA32: 0 | AB32: 0 | AC32: 1 | AD32: jā | AE32: 0 | AF32: 0 | AG32: 0 | AH32: 1 | AI32: 5 | AJ32: 0 | AK32: 0 | AL32: 1 | AM32: 0 | AN32: 0 | AO32: 0 | AP32: 0 | AQ32: jā | AR32: 0 | AS32: 0 | AT32: 0 | AU32: 1 | AV32: jā | AW32: 0 | AX32: 0 | AY32: 0 | AZ32: 1 | BA32: daļēji | BB32: 0 | BC32: 0 | BD32: 1 | BE32: 0 | BF32: daļēji | BG32: 0 | BH32: 0 | BI32: 1 | BJ32: 0 | BK32: jā | BL32: 0 | BM32: 0 | BN32: 0 | BO32: 1 | BP32: jā | BQ32: 0 | BR32: 0 | BS32: 0 | BT32: 1 | BU32: daļēji | BV32: 0 | BW32: 0 | BX32: 1 | BY32: 0 | BZ32: nē | CA32: 0 | CB32: 1 | CC32: 0 | CD32: 0 | CE32: jā | CF32: 0 | CG32: 0 | CH32: 0 | CI32: 1 | CJ32: jā | CK32: 0 | CL32: 0 | CM32: 0 | CN32: 1 | CO32: daļēji | CP32: 0 | CQ32: 0 | CR32: 1 | CS32: 0 | CT32: nē | CU32: 0 | CV32: 1 | CW32: 0 | CX32: 0 | CY32: nē | CZ32: 0 | DA32: 1 | DB32: 0 | DC32: 0 | DD32: nē | DE32: 0 | DF32: 1 | DG32: 0 | DH32: 0 | DI32: nē | DJ32: 0 | DK32: 1 | DL32: 0 | DM32: 0
A33: 125 | B33: 273 | C33: 46121.532 | D33: 46121.532 | E33: 144 | F33: 0 | G33: 0 | H33: 0 | I33: 1 | J33: 0 | K33: 0 | M33: Veselības ministrija | N33: Veselības inspekcija | O33: 0 | P33: 90002448818 | Q33: 0 | R33: 3 | S33: 15 | T33: jā | U33: 0 | V33: 0 | W33: 0 | X33: 1 | Y33: jā | Z33: 0 | AA33: 0 | AB33: 0 | AC33: 1 | AD33: jā | AE33: 0 | AF33: 0 | AG33: 0 | AH33: 1 | AI33: 36 | AJ33: 0 | AK33: 0 | AL33: 0 | AM33: 0 | AN33: 1 | AO33: 0 | AP33: 0 | AQ33: jā | AR33: 0 | AS33: 0 | AT33: 0 | AU33: 1 | AV33: jā | AW33: 0 | AX33: 0 | AY33: 0 | AZ33: 1 | BA33: jā | BB33: 0 | BC33: 0 | BD33: 0 | BE33: 1 | BF33: jā | BG33: 0 | BH33: 0 | BI33: 0 | BJ33: 1 | BK33: jā | BL33: 0 | BM33: 0 | BN33: 0 | BO33: 1 | BP33: jā | BQ33: 0 | BR33: 0 | BS33: 0 | BT33: 1 | BU33: jā | BV33: 0 | BW33: 0 | BX33: 0 | BY33: 1 | BZ33: jā | CA33: 0 | CB33: 0 | CC33: 0 | CD33: 1 | CE33: jā | CF33: 0 | CG33: 0 | CH33: 0 | CI33: 1 | CJ33: daļēji | CK33: 0 | CL33: 0 | CM33: 1 | CN33: 0 | CO33: daļēji | CP33: 0 | CQ33: 0 | CR33: 1 | CS33: 0 | CT33: daļēji | CU33: 0 | CV33: 0 | CW33: 1 | CX33: 0 | CY33: jā | CZ33: 0 | DA33: 0 | DB33: 0 | DC33: 1 | DD33: jā | DE33: 0 | DF33: 0 | DG33: 0 | DH33: 1 | DI33: jā | DJ33: 0 | DK33: 0 | DL33: 0 | DM33: 1
A34: 123 | B34: 271 | C34: 46120.383 | D34: 46120.383 | E34: 145 | F34: 0 | G34: 0 | H34: 0 | I34: 1 | J34: 0 | K34: 0 | M34: Labklājības ministrija | N34: Valsts sociālās apdrošināšanas aģentūra | O34: 0 | P34: 0 | Q34: 0 | R34: 0 | S34: 18 | T34: jā | U34: 0 | V34: 0 | W34: 0 | X34: 1 | Y34: jā | Z34: 0 | AA34: 0 | AB34: 0 | AC34: 1 | AD34: jā | AE34: 0 | AF34: 0 | AG34: 0 | AH34: 1 | AI34: 63 | AJ34: 0 | AK34: 0 | AL34: 0 | AM34: 0 | AN34: 1 | AO34: 0 | AP34: 0 | AQ34: jā | AR34: 0 | AS34: 0 | AT34: 0 | AU34: 1 | AV34: jā | AW34: 0 | AX34: 0 | AY34: 0 | AZ34: 1 | BA34: jā | BB34: 0 | BC34: 0 | BD34: 0 | BE34: 1 | BF34: jā | BG34: 0 | BH34: 0 | BI34: 0 | BJ34: 1 | BK34: jā | BL34: 0 | BM34: 0 | BN34: 0 | BO34: 1 | BP34: jā | BQ34: 0 | BR34: 0 | BS34: 0 | BT34: 1 | BU34: jā | BV34: 0 | BW34: 0 | BX34: 0 | BY34: 1 | BZ34: jā | CA34: 0 | CB34: 0 | CC34: 0 | CD34: 1 | CE34: jā | CF34: 0 | CG34: 0 | CH34: 0 | CI34: 1 | CJ34: jā | CK34: 0 | CL34: 0 | CM34: 0 | CN34: 1 | CO34: jā | CP34: 0 | CQ34: 0 | CR34: 0 | CS34: 1 | CT34: jā | CU34: 0 | CV34: 0 | CW34: 0 | CX34: 1 | CY34: jā | CZ34: 0 | DA34: 0 | DB34: 0 | DC34: 1 | DD34: jā | DE34: 0 | DF34: 0 | DG34: 0 | DH34: 1 | DI34: jā | DJ34: 0 | DK34: 0 | DL34: 0 | DM34: 1
A35: 124 | B35: 272 | C35: 46120.426 | D35: 46120.426 | E35: 145 | F35: 0 | G35: 0 | H35: 0 | I35: 1 | J35: 0 | K35: 0 | M35: Iekšlietu ministrija | N35: Iekšlietu ministrijas veselības un sporta centrs | O35: 0 | P35: 0 | Q35: 4 | R35: 1 | S35: 13 | T35: jā | U35: 0 | V35: 0 | W35: 0 | X35: 1 | Y35: jā | Z35: 0 | AA35: 0 | AB35: 0 | AC35: 1 | AD35: jā | AE35: 0 | AF35: 0 | AG35: 0 | AH35: 1 | AI35: 6 | AJ35: 0 | AK35: 0 | AL35: 1 | AM35: 0 | AN35: 0 | AO35: 0 | AP35: 0 | AQ35: jā | AR35: 0 | AS35: 0 | AT35: 0 | AU35: 1 | AV35: jā | AW35: 0 | AX35: 0 | AY35: 0 | AZ35: 1 | BA35: jā | BB35: 0 | BC35: 0 | BD35: 0 | BE35: 1 | BF35: jā | BG35: 0 | BH35: 0 | BI35: 0 | BJ35: 1 | BK35: jā | BL35: 0 | BM35: 0 | BN35: 0 | BO35: 1 | BP35: jā | BQ35: 0 | BR35: 0 | BS35: 0 | BT35: 1 | BU35: jā | BV35: 0 | BW35: 0 | BX35: 0 | BY35: 1 | BZ35: daļēji | CA35: 0 | CB35: 0 | CC35: 1 | CD35: 0 | CE35: jā | CF35: 0 | CG35: 0 | CH35: 0 | CI35: 1 | CJ35: jā | CK35: 0 | CL35: 0 | CM35: 0 | CN35: 1 | CO35: jā | CP35: 0 | CQ35: 0 | CR35: 0 | CS35: 1 | CT35: nē | CU35: 0 | CV35: 1 | CW35: 0 | CX35: 0 | CY35: nē | CZ35: 0 | DA35: 1 | DB35: 0 | DC35: 0 | DD35: nē | DE35: 0 | DF35: 1 | DG35: 0 | DH35: 0 | DI35: nē | DJ35: 0 | DK35: 1 | DL35: 0 | DM35: 0
A36: 120 | B36: 268 | C36: 46114.415 | D36: 46114.415 | E36: 151 | F36: 0 | G36: 0 | H36: 0 | I36: 1 | J36: 0 | K36: 0 | M36: Finanšu ministrija | N36: Valsts ieņēmumu dienests | O36: 0 | P36: 0 | Q36: 9 | R36: 2 | S36: 7 | T36: jā | U36: 0 | V36: 0 | W36: 0 | X36: 1 | Y36: jā | Z36: 0 | AA36: 0 | AB36: 0 | AC36: 1 | AD36: jā | AE36: 0 | AF36: 0 | AG36: 0 | AH36: 1 | AI36: 18 | AJ36: 0 | AK36: 0 | AL36: 0 | AM36: 1 | AN36: 0 | AO36: 0 | AP36: 0 | AQ36: daļēji | AR36: 0 | AS36: 0 | AT36: 1 | AU36: 0 | AV36: nē | AW36: 0 | AX36: 1 | AY36: 0 | AZ36: 0 | BA36: jā | BB36: 0 | BC36: 0 | BD36: 0 | BE36: 1 | BF36: jā | BG36: 0 | BH36: 0 | BI36: 0 | BJ36: 1 | BK36: jā | BL36: 0 | BM36: 0 | BN36: 0 | BO36: 1 | BP36: daļēji | BQ36: 0 | BR36: 0 | BS36: 1 | BT36: 0 | BU36: nē | BV36: 0 | BW36: 1 | BX36: 0 | BY36: 0 | BZ36: nē | CA36: 0 | CB36: 1 | CC36: 0 | CD36: 0 | CE36: jā | CF36: 0 | CG36: 0 | CH36: 0 | CI36: 1 | CJ36: nē | CK36: 0 | CL36: 1 | CM36: 0 | CN36: 0 | CO36: nē | CP36: 0 | CQ36: 1 | CR36: 0 | CS36: 0 | CT36: nē | CU36: 0 | CV36: 1 | CW36: 0 | CX36: 0 | CY36: nē | CZ36: 0 | DA36: 1 | DB36: 0 | DC36: 0 | DD36: nē | DE36: 0 | DF36: 1 | DG36: 0 | DH36: 0 | DI36: nē | DJ36: 0 | DK36: 1 | DL36: 0 | DM36: 0
A37: 121 | B37: 269 | C37: 46114.506 | D37: 46114.506 | E37: 151 | F37: 0 | G37: 0 | H37: 0 | I37: 1 | J37: 0 | K37: 0 | M37: Tieslietu ministrija | N37: Valsts zemes dienests | O37: 0 | P37: 0 | Q37: 0 | R37: 0 | S37: 18 | T37: jā | U37: 0 | V37: 0 | W37: 0 | X37: 1 | Y37: jā | Z37: 0 | AA37: 0 | AB37: 0 | AC37: 1 | AD37: jā | AE37: 0 | AF37: 0 | AG37: 0 | AH37: 1 | AI37: 62 | AJ37: 0 | AK37: 0 | AL37: 0 | AM37: 0 | AN37: 1 | AO37: 0 | AP37: 0 | AQ37: jā | AR37: 0 | AS37: 0 | AT37: 0 | AU37: 1 | AV37: jā | AW37: 0 | AX37: 0 | AY37: 0 | AZ37: 1 | BA37: jā | BB37: 0 | BC37: 0 | BD37: 0 | BE37: 1 | BF37: jā | BG37: 0 | BH37: 0 | BI37: 0 | BJ37: 1 | BK37: jā | BL37: 0 | BM37: 0 | BN37: 0 | BO37: 1 | BP37: jā | BQ37: 0 | BR37: 0 | BS37: 0 | BT37: 1 | BU37: jā | BV37: 0 | BW37: 0 | BX37: 0 | BY37: 1 | BZ37: jā | CA37: 0 | CB37: 0 | CC37: 0 | CD37: 1 | CE37: jā | CF37: 0 | CG37: 0 | CH37: 0 | CI37: 1 | CJ37: jā | CK37: 0 | CL37: 0 | CM37: 0 | CN37: 1 | CO37: jā | CP37: 0 | CQ37: 0 | CR37: 0 | CS37: 1 | CT37: jā | CU37: 0 | CV37: 0 | CW37: 0 | CX37: 1 | CY37: jā | CZ37: 0 | DA37: 0 | DB37: 0 | DC37: 1 | DD37: jā | DE37: 0 | DF37: 0 | DG37: 0 | DH37: 1 | DI37: jā | DJ37: 0 | DK37: 0 | DL37: 0 | DM37: 1
A38: 122 | B38: 270 | C38: 46114.539 | D38: 46114.539 | E38: 151 | F38: 0 | G38: 0 | H38: 0 | I38: 1 | J38: 0 | K38: 0 | M38: Labklājības ministrija | N38: Sociālās integrācijas valsts aģentūra | O38: 0 | P38: 0 | Q38: 6 | R38: 1 | S38: 11 | T38: jā | U38: 0 | V38: 0 | W38: 0 | X38: 1 | Y38: jā | Z38: 0 | AA38: 0 | AB38: 0 | AC38: 1 | AD38: jā | AE38: 0 | AF38: 0 | AG38: 0 | AH38: 1 | AI38: 4 | AJ38: 0 | AK38: 0 | AL38: 1 | AM38: 0 | AN38: 0 | AO38: 0 | AP38: 0 | AQ38: jā | AR38: 0 | AS38: 0 | AT38: 0 | AU38: 1 | AV38: jā | AW38: 0 | AX38: 0 | AY38: 0 | AZ38: 1 | BA38: jā | BB38: 0 | BC38: 0 | BD38: 0 | BE38: 1 | BF38: jā | BG38: 0 | BH38: 0 | BI38: 0 | BJ38: 1 | BK38: jā | BL38: 0 | BM38: 0 | BN38: 0 | BO38: 1 | BP38: jā | BQ38: 0 | BR38: 0 | BS38: 0 | BT38: 1 | BU38: jā | BV38: 0 | BW38: 0 | BX38: 0 | BY38: 1 | BZ38: nē | CA38: 0 | CB38: 1 | CC38: 0 | CD38: 0 | CE38: jā | CF38: 0 | CG38: 0 | CH38: 0 | CI38: 1 | CJ38: daļēji | CK38: 0 | CL38: 0 | CM38: 1 | CN38: 0 | CO38: nē | CP38: 0 | CQ38: 1 | CR38: 0 | CS38: 0 | CT38: nē | CU38: 0 | CV38: 1 | CW38: 0 | CX38: 0 | CY38: nē | CZ38: 0 | DA38: 1 | DB38: 0 | DC38: 0 | DD38: nē | DE38: 0 | DF38: 1 | DG38: 0 | DH38: 0 | DI38: nē | DJ38: 0 | DK38: 1 | DL38: 0 | DM38: 0
A39: 116 | B39: 264 | C39: 46113.571 | D39: 46113.571 | E39: 152 | F39: 0 | G39: 0 | H39: 0 | I39: 1 | J39: 0 | K39: 0 | M39: Tieslietu ministrija | N39: Patentu valde | O39: 0 | P39: 0 | Q39: 0 | R39: 1 | S39: 17 | T39: jā | U39: 0 | V39: 0 | W39: 0 | X39: 1 | Y39: jā | Z39: 0 | AA39: 0 | AB39: 0 | AC39: 1 | AD39: jā | AE39: 0 | AF39: 0 | AG39: 0 | AH39: 1 | AI39: 31 | AJ39: 0 | AK39: 0 | AL39: 0 | AM39: 0 | AN39: 1 | AO39: 0 | AP39: 0 | AQ39: daļēji | AR39: 0 | AS39: 0 | AT39: 1 | AU39: 0 | AV39: jā | AW39: 0 | AX39: 0 | AY39: 0 | AZ39: 1 | BA39: jā | BB39: 0 | BC39: 0 | BD39: 0 | BE39: 1 | BF39: jā | BG39: 0 | BH39: 0 | BI39: 0 | BJ39: 1 | BK39: jā | BL39: 0 | BM39: 0 | BN39: 0 | BO39: 1 | BP39: jā | BQ39: 0 | BR39: 0 | BS39: 0 | BT39: 1 | BU39: jā | BV39: 0 | BW39: 0 | BX39: 0 | BY39: 1 | BZ39: jā | CA39: 0 | CB39: 0 | CC39: 0 | CD39: 1 | CE39: jā | CF39: 0 | CG39: 0 | CH39: 0 | CI39: 1 | CJ39: jā | CK39: 0 | CL39: 0 | CM39: 0 | CN39: 1 | CO39: jā | CP39: 0 | CQ39: 0 | CR39: 0 | CS39: 1 | CT39: jā | CU39: 0 | CV39: 0 | CW39: 0 | CX39: 1 | CY39: jā | CZ39: 0 | DA39: 0 | DB39: 0 | DC39: 1 | DD39: jā | DE39: 0 | DF39: 0 | DG39: 0 | DH39: 1 | DI39: jā | DJ39: 0 | DK39: 0 | DL39: 0 | DM39: 1
A40: 117 | B40: 265 | C40: 46113.598 | D40: 46113.598 | E40: 152 | F40: 0 | G40: 0 | H40: 0 | I40: 1 | J40: 0 | K40: 0 | M40: Labklājības ministrija | N40: Valsts darba inspekcija | O40: 0 | P40: 0 | Q40: 2 | R40: 0 | S40: 16 | T40: jā | U40: 0 | V40: 0 | W40: 0 | X40: 1 | Y40: jā | Z40: 0 | AA40: 0 | AB40: 0 | AC40: 1 | AD40: jā | AE40: 0 | AF40: 0 | AG40: 0 | AH40: 1 | AI40: 5 | AJ40: 0 | AK40: 0 | AL40: 1 | AM40: 0 | AN40: 0 | AO40: 0 | AP40: 0 | AQ40: jā | AR40: 0 | AS40: 0 | AT40: 0 | AU40: 1 | AV40: jā | AW40: 0 | AX40: 0 | AY40: 0 | AZ40: 1 | BA40: jā | BB40: 0 | BC40: 0 | BD40: 0 | BE40: 1 | BF40: jā | BG40: 0 | BH40: 0 | BI40: 0 | BJ40: 1 | BK40: jā | BL40: 0 | BM40: 0 | BN40: 0 | BO40: 1 | BP40: jā | BQ40: 0 | BR40: 0 | BS40: 0 | BT40: 1 | BU40: jā | BV40: 0 | BW40: 0 | BX40: 0 | BY40: 1 | BZ40: jā | CA40: 0 | CB40: 0 | CC40: 0 | CD40: 1 | CE40: jā | CF40: 0 | CG40: 0 | CH40: 0 | CI40: 1 | CJ40: jā | CK40: 0 | CL40: 0 | CM40: 0 | CN40: 1 | CO40: jā | CP40: 0 | CQ40: 0 | CR40: 0 | CS40: 1 | CT40: jā | CU40: 0 | CV40: 0 | CW40: 0 | CX40: 1 | CY40: jā | CZ40: 0 | DA40: 0 | DB40: 0 | DC40: 1 | DD40: nē | DE40: 0 | DF40: 1 | DG40: 0 | DH40: 0 | DI40: nē | DJ40: 0 | DK40: 1 | DL40: 0 | DM40: 0
A41: 118 | B41: 266 | C41: 46113.619 | D41: 46113.619 | E41: 152 | F41: 0 | G41: 0 | H41: 0 | I41: 1 | J41: 0 | K41: 0 | M41: Iekšlietu ministrija | N41: Valsts policija | O41: 0 | P41: 0 | Q41: 1 | R41: 0 | S41: 17 | T41: jā | U41: 0 | V41: 0 | W41: 0 | X41: 1 | Y41: jā | Z41: 0 | AA41: 0 | AB41: 0 | AC41: 1 | AD41: jā | AE41: 0 | AF41: 0 | AG41: 0 | AH41: 1 | AI41: 39 | AJ41: 0 | AK41: 0 | AL41: 0 | AM41: 0 | AN41: 1 | AO41: 0 | AP41: 0 | AQ41: jā | AR41: 0 | AS41: 0 | AT41: 0 | AU41: 1 | AV41: jā | AW41: 0 | AX41: 0 | AY41: 0 | AZ41: 1 | BA41: jā | BB41: 0 | BC41: 0 | BD41: 0 | BE41: 1 | BF41: jā | BG41: 0 | BH41: 0 | BI41: 0 | BJ41: 1 | BK41: jā | BL41: 0 | BM41: 0 | BN41: 0 | BO41: 1 | BP41: jā | BQ41: 0 | BR41: 0 | BS41: 0 | BT41: 1 | BU41: jā | BV41: 0 | BW41: 0 | BX41: 0 | BY41: 1 | BZ41: jā | CA41: 0 | CB41: 0 | CC41: 0 | CD41: 1 | CE41: jā | CF41: 0 | CG41: 0 | CH41: 0 | CI41: 1 | CJ41: jā | CK41: 0 | CL41: 0 | CM41: 0 | CN41: 1 | CO41: jā | CP41: 0 | CQ41: 0 | CR41: 0 | CS41: 1 | CT41: jā | CU41: 0 | CV41: 0 | CW41: 0 | CX41: 1 | CY41: jā | CZ41: 0 | DA41: 0 | DB41: 0 | DC41: 1 | DD41: jā | DE41: 0 | DF41: 0 | DG41: 0 | DH41: 1 | DI41: nē | DJ41: 0 | DK41: 1 | DL41: 0 | DM41: 0
A42: 119 | B42: 267 | C42: 46113.652 | D42: 46113.652 | E42: 152 | F42: 0 | G42: 0 | H42: 0 | I42: 1 | J42: 0 | K42: 0 | M42: Tieslietu ministrija | N42: Ieslodzījuma vietu pārvalde | O42: 0 | P42: 0 | Q42: 2 | R42: 0 | S42: 16 | T42: jā | U42: 0 | V42: 0 | W42: 0 | X42: 1 | Y42: jā | Z42: 0 | AA42: 0 | AB42: 0 | AC42: 1 | AD42: jā | AE42: 0 | AF42: 0 | AG42: 0 | AH42: 1 | AI42: 6 | AJ42: 0 | AK42: 0 | AL42: 1 | AM42: 0 | AN42: 0 | AO42: 0 | AP42: 0 | AQ42: jā | AR42: 0 | AS42: 0 | AT42: 0 | AU42: 1 | AV42: jā | AW42: 0 | AX42: 0 | AY42: 0 | AZ42: 1 | BA42: jā | BB42: 0 | BC42: 0 | BD42: 0 | BE42: 1 | BF42: jā | BG42: 0 | BH42: 0 | BI42: 0 | BJ42: 1 | BK42: jā | BL42: 0 | BM42: 0 | BN42: 0 | BO42: 1 | BP42: jā | BQ42: 0 | BR42: 0 | BS42: 0 | BT42: 1 | BU42: jā | BV42: 0 | BW42: 0 | BX42: 0 | BY42: 1 | BZ42: jā | CA42: 0 | CB42: 0 | CC42: 0 | CD42: 1 | CE42: jā | CF42: 0 | CG42: 0 | CH42: 0 | CI42: 1 | CJ42: jā | CK42: 0 | CL42: 0 | CM42: 0 | CN42: 1 | CO42: jā | CP42: 0 | CQ42: 0 | CR42: 0 | CS42: 1 | CT42: jā | CU42: 0 | CV42: 0 | CW42: 0 | CX42: 1 | CY42: jā | CZ42: 0 | DA42: 0 | DB42: 0 | DC42: 1 | DD42: nē | DE42: 0 | DF42: 1 | DG42: 0 | DH42: 0 | DI42: nē | DJ42: 0 | DK42: 1 | DL42: 0 | DM42: 0
A43: 115 | B43: 263 | C43: 46112.484 | D43: 46112.484 | E43: 153 | F43: 0 | G43: 0 | H43: 0 | I43: 1 | J43: 0 | K43: 0 | M43: Cits | N43: CSDD | O43: 0 | P43: 0 | Q43: 0 | R43: 0 | S43: 18 | T43: jā | U43: 0 | V43: 0 | W43: 0 | X43: 1 | Y43: jā | Z43: 0 | AA43: 0 | AB43: 0 | AC43: 1 | AD43: jā | AE43: 0 | AF43: 0 | AG43: 0 | AH43: 1 | AI43: 10 | AJ43: 0 | AK43: 0 | AL43: 1 | AM43: 0 | AN43: 0 | AO43: 0 | AP43: 0 | AQ43: jā | AR43: 0 | AS43: 0 | AT43: 0 | AU43: 1 | AV43: jā | AW43: 0 | AX43: 0 | AY43: 0 | AZ43: 1 | BA43: jā | BB43: 0 | BC43: 0 | BD43: 0 | BE43: 1 | BF43: jā | BG43: 0 | BH43: 0 | BI43: 0 | BJ43: 1 | BK43: jā | BL43: 0 | BM43: 0 | BN43: 0 | BO43: 1 | BP43: jā | BQ43: 0 | BR43: 0 | BS43: 0 | BT43: 1 | BU43: jā | BV43: 0 | BW43: 0 | BX43: 0 | BY43: 1 | BZ43: jā | CA43: 0 | CB43: 0 | CC43: 0 | CD43: 1 | CE43: jā | CF43: 0 | CG43: 0 | CH43: 0 | CI43: 1 | CJ43: jā | CK43: 0 | CL43: 0 | CM43: 0 | CN43: 1 | CO43: jā | CP43: 0 | CQ43: 0 | CR43: 0 | CS43: 1 | CT43: jā | CU43: 0 | CV43: 0 | CW43: 0 | CX43: 1 | CY43: jā | CZ43: 0 | DA43: 0 | DB43: 0 | DC43: 1 | DD43: jā | DE43: 0 | DF43: 0 | DG43: 0 | DH43: 1 | DI43: jā | DJ43: 0 | DK43: 0 | DL43: 0 | DM43: 1
A44: 112 | B44: 260 | C44: 46111.413 | D44: 46111.413 | E44: 154 | F44: 0 | G44: 0 | H44: 0 | I44: 1 | J44: 0 | K44: 0 | M44: Zemkopības ministrija | N44: Lauku atbalsta dienests | O44: 0 | P44: 0 | Q44: 0 | R44: 0 | S44: 18 | T44: jā | U44: 0 | V44: 0 | W44: 0 | X44: 1 | Y44: jā | Z44: 0 | AA44: 0 | AB44: 0 | AC44: 1 | AD44: jā | AE44: 0 | AF44: 0 | AG44: 0 | AH44: 1 | AI44: 35 | AJ44: 0 | AK44: 0 | AL44: 0 | AM44: 0 | AN44: 1 | AO44: 0 | AP44: 0 | AQ44: jā | AR44: 0 | AS44: 0 | AT44: 0 | AU44: 1 | AV44: jā | AW44: 0 | AX44: 0 | AY44: 0 | AZ44: 1 | BA44: jā | BB44: 0 | BC44: 0 | BD44: 0 | BE44: 1 | BF44: jā | BG44: 0 | BH44: 0 | BI44: 0 | BJ44: 1 | BK44: jā | BL44: 0 | BM44: 0 | BN44: 0 | BO44: 1 | BP44: jā | BQ44: 0 | BR44: 0 | BS44: 0 | BT44: 1 | BU44: jā | BV44: 0 | BW44: 0 | BX44: 0 | BY44: 1 | BZ44: jā | CA44: 0 | CB44: 0 | CC44: 0 | CD44: 1 | CE44: jā | CF44: 0 | CG44: 0 | CH44: 0 | CI44: 1 | CJ44: jā | CK44: 0 | CL44: 0 | CM44: 0 | CN44: 1 | CO44: jā | CP44: 0 | CQ44: 0 | CR44: 0 | CS44: 1 | CT44: jā | CU44: 0 | CV44: 0 | CW44: 0 | CX44: 1 | CY44: jā | CZ44: 0 | DA44: 0 | DB44: 0 | DC44: 1 | DD44: jā | DE44: 0 | DF44: 0 | DG44: 0 | DH44: 1 | DI44: jā | DJ44: 0 | DK44: 0 | DL44: 0 | DM44: 1
...

Sheet Kopsavilkums_C
C1: VARAM aptauja par "Pakalpojumu vides pilnveides plāna 2024.–2027. gadam" īstenošanas gaitu | J1: =IF(Apstrade_C!A1>0,"● Informācija apkopota:"," ") -> ● Informācija apkopota: | P1: =Apstrade_C!A1 -> 31.08.2026. | W1: ● Pakalpojumu vides pilnveide: https://www.varam.gov.lv/lv/pakalpojumu-vides-pilnveide
C2: Iestādei – "Iestādes pakalpojumu kopuma vadītājam" | W2: ● Atbalsts: pvp@varam.gov.lv
J3: Iestāžu skaits | Q3: Iestāžu īpatsvars | W3: ● Tiešsaistes konsultācijas: katru ceturtdienu 15:00–17:00 (MS Teams vidē)
B4: "Pakalpojumu vides pilnveides plāna 2024.–2027. gadam" pasākumi | E4: Pilnveides posmi | G4: Pakalpojumu vides pilnveides gaita iestādēs (iestāžu pašdeklarētais progress) | J4: → nē | K4: → daļēji | L4: jā | M4: nav zināms | N4: Pilnveides progress ↓↓↓ | Q4: → nē | R4: → daļēji | S4: jā | T4: nav zināms | W4: Vispārīga informācija
B7: P1.1. | C7: Apmācīt iestāžu pārstāvjus par pakalpojumu veidiem, pakalpojumu pārvaldības mērogiem un līmeņiem, pakalpojumu pārvaldības lomām un to pienākumiem | E7: Sākotnējā apmācība | G7: 1. | H7: Iestādē ir veikta darbinieku sākotnējā apmācība par pakalpojumu veidiem, pakalpojumu pārvaldības mērogiem un līmeņiem, galvenajām pakalpojumu pārvaldības lomām un lomām atbilstošajiem pienākumiem | J7: =Apstrade_C!T5 -> 12 | K7: =Apstrade_C!T6 -> 19 | L7: =Apstrade_C!T7 -> 80 | M7: =Apstrade_C!T4 -> 0 | Q7: =IF($X$10=0," ",J7/$X$10) -> 0.10810811 | R7: =IF($X$10=0," ",K7/$X$10) -> 0.17117117 | S7: =IF($X$10=0," ",L7/$X$10) -> 0.72072072 | T7: =IF($X$10=0," ",M7/$X$10) -> 0 | W7: Iestādes kopā: | X7: =X11+X10 -> 128
E8: ↓ | O8: =IF($X$10=0," ",E8) -> ↓ | W8: Aptaujas anketas aizpildīšana (iestāžu pašdeklarēšanās)
B9: P1.2. | C9: Izveidot pakalpojumu pārvaldības politikas īstenošanas komandas | E9: Komandu izveide | G9: 2. | H9: Iestādē ir noteikts Iestādes pakalpojumu kopuma vadītājs – atbildīgais par pakalpojumu pārvaldību iestādē kopumā | J9: =Apstrade_C!Y5 -> 16 | K9: =Apstrade_C!Y6 -> 8 | L9: =Apstrade_C!Y7 -> 87 | M9: =Apstrade_C!Y4 -> 0 | Q9: =IF($X$10=0," ",J9/$X$10) -> 0.14414414 | R9: =IF($X$10=0," ",K9/$X$10) -> 0.072072072 | S9: =IF($X$10=0," ",L9/$X$10) -> 0.78378378 | T9: =IF($X$10=0," ",M9/$X$10) -> 0
G10: 3. | H10: Iestādē ir izveidots visu pakalpojumu pilnais saraksts – "Pakalpojumu portfolio" | J10: =Apstrade_C!AD5 -> 14 | K10: =Apstrade_C!AD6 -> 22 | L10: =Apstrade_C!AD7 -> 75 | M10: =Apstrade_C!AD4 -> 0 | Q10: =IF($X$10=0," ",J10/$X$10) -> 0.12612613 | R10: =IF($X$10=0," ",K10/$X$10) -> 0.1981982 | S10: =IF($X$10=0," ",L10/$X$10) -> 0.67567568 | T10: =IF($X$10=0," ",M10/$X$10) -> 0 | W10: Iestādes, kas ir aizpildījušas aptaujas anketu | X10: =Apstrade_C!N7 -> 111 | Y10: =IF(X7=0," ",X10/X7) -> 0.8671875 | AC10: =IF(Y11=1,"D",IF(Y11=0,"C"," "))
G11: 4. | H11: Iestādē ir noteikti visu Pakalpojumu vadītāji | J11: =Apstrade_C!AQ5 -> 11 | K11: =Apstrade_C!AQ6 -> 24 | L11: =Apstrade_C!AQ7 -> 76 | M11: =Apstrade_C!AQ4 -> 0 | Q11: =IF($X$10=0," ",J11/$X$10) -> 0.099099099 | R11: =IF($X$10=0," ",K11/$X$10) -> 0.21621622 | S11: =IF($X$10=0," ",L11/$X$10) -> 0.68468468 | T11: =IF($X$10=0," ",M11/$X$10) -> 0 | W11: Iestādes, kas vēl nav aizpildījušas aptaujas anketu | X11: =Apstrade_C!N5 -> 17 | Y11: =IF(X7=0,"",X11/X7) -> 0.1328125
G12: 5. | H12: Iestādē Iestādes pakalpojumu kopuma vadītājs un visu Pakalpojumu vadītāji ir apstiprināti ar rīkojumu | J12: =Apstrade_C!AV5 -> 38 | K12: =Apstrade_C!AV6 -> 16 | L12: =Apstrade_C!AV7 -> 57 | M12: =Apstrade_C!AV4 -> 0 | Q12: =IF($X$10=0," ",J12/$X$10) -> 0.34234234 | R12: =IF($X$10=0," ",K12/$X$10) -> 0.14414414 | S12: =IF($X$10=0," ",L12/$X$10) -> 0.51351351 | T12: =IF($X$10=0," ",M12/$X$10) -> 0 | W12: Iestāžu iesaistīšanās pakalpojumu vides pilnveidē
E13: ↓ | O13: =IF($X$10=0," ",E13) -> ↓
B14: P1-3 | C14: Apmācīt pakalpojumu pārvaldības politikas īstenošanas komandas par pakalpojumu pārvaldības politiku | E14: Vispārējā komandu apmācība | G14: 6. | H14: Iestādē Iestādes pakalpojumu kopuma vadītājs ir apmācīts par pakalpojumu pārvaldības politiku kopumā, tostarp pakalpojumu pārvaldības sistēmas sastāvdaļām | J14: =Apstrade_C!BA5 -> 15 | K14: =Apstrade_C!BA6 -> 20 | L14: =Apstrade_C!BA7 -> 76 | M14: =Apstrade_C!BA4 -> 0 | Q14: =IF($X$10=0," ",J14/$X$10) -> 0.13513514 | R14: =IF($X$10=0," ",K14/$X$10) -> 0.18018018 | S14: =IF($X$10=0," ",L14/$X$10) -> 0.68468468 | T14: =IF($X$10=0," ",M14/$X$10) -> 0 | W14: Pakalpojumi kopā: | X14: =Apstrade_C!AI2 -> 1669
G15: 7. | H15: Iestādē visu Pakalpojumu vadītāji ir apmācīti par pakalpojumu pārvaldības politiku kopumā, tostarp pakalpojumu pārvaldības sistēmas sastāvdaļām | J15: =Apstrade_C!BF5 -> 13 | K15: =Apstrade_C!BF6 -> 47 | L15: =Apstrade_C!BF7 -> 51 | M15: =Apstrade_C!BF4 -> 0 | Q15: =IF($X$10=0," ",J15/$X$10) -> 0.11711712 | R15: =IF($X$10=0," ",K15/$X$10) -> 0.42342342 | S15: =IF($X$10=0," ",L15/$X$10) -> 0.45945946 | T15: =IF($X$10=0," ",M15/$X$10) -> 0 | W15: Pakalpojumu skaita sadalījums iestādēs
E16: ↓↓ | O16: =IF($X$10=0," ",E16) -> ↓↓
