Workbook

Sheet Apstrade_C
A1: 31.08.2026. | B1: ID | C1: Aizpildīšanas datums | D1: Aizpildīšanas laiks | E1: Dienu skaits kopš iepriekšējās aktualizēšanas | F1: 5 (nedēļa) | G1: 6–30 (mēnesis) | H1: 31–90 (3 mēneši) | I1: 91–180 (puse gada) | J1: 181–360 (gads) | K1: senāk | L1: Pazīme filtrēšanai | M1: Augstākstāvoša iestāde – ministrija | N1: Iestāde | P1: Reģistrācijas numurs | Q1: Atbilžu skaits | T1: 1. Vai Jūsu iestādē ir veikta darbinieku sākotnējā apmācība par pakalpojumu veidiem, pakalpojumu pārvaldības mērogiem un līmeņiem, galvenajām pakalpojumu pārvaldības lomām un lomām atbilstošajiem pienākumiem | U1: nav zināms | V1: nē | W1: daļēji | X1: jā | Y1: 2. Vai Jūsu iestādē ir noteikts Iestādes pakalpojumu kopuma vadītājs – atbildīgais par pakalpojumu pārvaldību iestādē kopumā? | Z1: nav zināms | AA1: nē | AB1: daļēji | AC1: jā | AD1: 3. Vai Jūsu iestādē ir izveidots visu pakalpojumu pilnais saraksts – pakalpojumu portfolio? | AE1: nav zināms | AF1: nē | AG1: daļēji | AH1: jā | AI1: Lūdzam norādīt kāds ir aktīvo pakalpojumu skaits jūsu pakalpojumu portfolio (ja tāds ir izveidots) | AJ1: nav | AK1: 1 vai 2 | AL1: 3–10 | AM1: 11–30 | AN1: 31–90 | AO1: vairāk kā 90 | AP1: nav zināms | AQ1: 4. Vai Jūsu iestādē ir noteikti visu Pakalpojumu vadītāji? | AR1: nav zināms | AS1: nē | AT1: daļēji | AU1: jā | AV1: 5. Vai Jūsu iestādē Iestādes pakalpojumu kopuma vadītājs un visu Pakalpojumu vadītāji ir apstiprināti ar rīkojumu? | AW1: nav zināms | AX1: nē | AY1: daļēji | AZ1: jā | BA1: 6. Vai Jūsu iestādē Iestādes pakalpojumu kopuma vadītājs ir apmācīts par pakalpojumu pārvaldības politiku kopumā, tostarp pakalpojumu pārvaldības sistēmas sastāvdaļām | BB1: nav zināms | BC1: nē | BD1: daļēji | BE1: jā | BF1: 7. Vai Jūsu iestādē visu Pakalpojumu vadītāji ir apmācīti par pakalpojumu pārvaldības politiku kopumā, tostarp pakalpojumu pārvaldības sistēmas sastāvdaļām | BG1: nav zināms | BH1: nē | BI1: daļēji | BJ1: jā | BK1: 8.Vai Jūsu iestādē Iestādes pakalpojumu kopuma vadītājs ir apmācīts par pakalpojumu un pakalpojumu pārvaldības novērtēšanu un pilnveides plānu izveidi? | BL1: nav zināms | BM1: nē | BN1: daļēji | BO1: jā | BP1: 9. Vai Jūsu iestādē visu Pakalpojumu vadītāji ir apmācīti par pakalpojumu un pakalpojumu pārvaldības novērtēšanu un pilnveides plānu izveidi? | BQ1: nav zināms | BR1: nē | BS1: daļēji | BT1: jā | BU1: 10. Vai Jūsu iestādē Iestādes pakalpojumu kopuma vadītājs ir veicis esošās situācijas novērtēšanu? | BV1: nav zināms | BW1: nē | BX1: daļēji | BY1: jā | BZ1: 11. Vai Jūsu iestādē Iestādes pakalpojumu kopuma vadītājs ir apzinājis novērtēšanā konstatēto neatbilstību cēloņus? | CA1: nav zināms | CB1: nē | CC1: daļēji | CD1: jā | CE1: 12. Vai Jūsu iestādē visu Pakalpojumu vadītāji ir veikuši esošās situācijas novērtēšanu? | CF1: nav zināms | CG1: nē | CH1: daļēji | CI1: jā | CJ1: 13. Vai Jūsu iestādē visu Pakalpojumu vadītāji ir apzinājuši novērtēšanā konstatēto neatbilstību cēloņus? | CK1: nav zināms | CL1: nē | CM1: daļēji | CN1: jā | CO1: 14. Vai Jūsu iestādē Iestādes pakalpojumu kopuma vadītājs ir izveidojis pilnveides plānu novērtēšanā konstatēto neatbilstību novēršanai? | CP1: nav zināms | CQ1: nē | CR1: daļēji | CS1: jā | CT1: 15. Vai Jūsu iestādē visu Pakalpojumu vadītāji ir izveidojuši pilnveides plānus novērtēšanā konstatēto neatbilstību novēršanai? | CU1: nav zināms | CV1: nē | CW1: daļēji | CX1: jā | CY1: 16. Vai Jūsu iestādē Iestādes pakalpojumu kopuma vadītājs un visu Pakalpojumu vadītāji ir uzsākuši pakalpojumu pārvaldības uzdevumu veikšanas pilnveidi (neatbilstību novēršanu)? | CZ1: nav zināms | DA1: nē | DB1: daļēji | DC1: jā | DD1: 17. Vai Jūsu iestādē Iestādes pakalpojumu kopuma vadītājs un visu Pakalpojumu vadītāji ir uzsākuši pakalpojumu izveides, sniegšanas un attīstības nosacījumiem pilnveidi (neatbilstību novēršanu)? | DE1: nav zināms | DF1: nē | DG1: daļēji | DH1: jā | DI1: 18. Vai Jūsu iestādē Iestādes pakalpojumu kopuma vadītājs un visu Pakalpojumu vadītāji ir uzsākuši pakalpojumiem un pakalpojumu pārvaldībai nepieciešamo spēju un resursu pilnveidi (neatbilstību novēršanu)? | DJ1: nav zināms | DK1: nē | DL1: daļēji | DM1: jā
A2: Informācija apkopota: | AI2: =SUBTOTAL(109,AI10:AI426) -> 1669
Q3: kopā | T3: =SUM(T4:T7) -> 111 | Y3: =SUM(Y4:Y7) -> 111 | AD3: =SUM(AD4:AD7) -> 111 | AQ3: =SUM(AQ4:AQ7) -> 111 | AV3: =SUM(AV4:AV7) -> 111 | BA3: =SUM(BA4:BA7) -> 111 | BF3: =SUM(BF4:BF7) -> 111 | BK3: =SUM(BK4:BK7) -> 111 | BP3: =SUM(BP4:BP7) -> 111 | BU3: =SUM(BU4:BU7) -> 111 | BZ3: =SUM(BZ4:BZ7) -> 111 | CE3: =SUM(CE4:CE7) -> 111 | CJ3: =SUM(CJ4:CJ7) -> 111 | CO3: =SUM(CO4:CO7) -> 111 | CT3: =SUM(CT4:CT7) -> 111 | CY3: =SUM(CY4:CY7) -> 111 | DD3: =SUM(DD4:DD7) -> 111 | DI3: =SUM(DI4:DI7) -> 111
N4: Iestādes, kas nav aizpildījušas anketu | Q4: nav zināms | T4: =U4 -> 0 | U4: =SUBTOTAL(109,U10:U426) -> 0 | Y4: =Z4 -> 0 | Z4: =SUBTOTAL(109,Z10:Z426) -> 0 | AD4: =AE4 -> 0 | AE4: =SUBTOTAL(109,AE10:AE426) -> 0 | AI4: =IF(AI5=0," ","iestādes, kam nav pakalpojumu") -> iestādes, kam nav pakalpojumu | AQ4: =AR4 -> 0 | AR4: =SUBTOTAL(109,AR10:AR426) -> 0 | AV4: =AW4 -> 0 | AW4: =SUBTOTAL(109,AW10:AW426) -> 0 | BA4: =BB4 -> 0 | BB4: =SUBTOTAL(109,BB10:BB426) -> 0 | BF4: =BG4 -> 0 | BG4: =SUBTOTAL(109,BG10:BG426) -> 0 | BK4: =BL4 -> 0 | BL4: =SUBTOTAL(109,BL10:BL426) -> 0 | BP4: =BQ4 -> 9 | BQ4: =SUBTOTAL(109,BQ10:BQ426) -> 9 | BU4: =BV4 -> 9 | BV4: =SUBTOTAL(109,BV10:BV426) -> 9 | BZ4: =CA4 -> 9 | CA4: =SUBTOTAL(109,CA10:CA426) -> 9 | CE4: =CF4 -> 9 | CF4: =SUBTOTAL(109,CF10:CF426) -> 9 | CJ4: =CK4 -> 0 | CK4: =SUBTOTAL(109,CK10:CK426) -> 0 | CO4: =CP4 -> 0 | CP4: =SUBTOTAL(109,CP10:CP426) -> 0 | CT4: =CU4 -> 9 | CU4: =SUBTOTAL(109,CU10:CU426) -> 9 | CY4: =CZ4 -> 0 | CZ4: =SUBTOTAL(109,CZ10:CZ426) -> 0 | DD4: =DE4 -> 0 | DE4: =SUBTOTAL(109,DE10:DE426) -> 0 | DI4: =DJ4 -> 0 | DJ4: =SUBTOTAL(109,DJ10:DJ426) -> 0
N5: =O5 -> 17 | O5: =SUBTOTAL(109,O10:O426) -> 17 | Q5: nē | T5: =V5 -> 12 | V5: =SUBTOTAL(109,V10:V426) -> 12 | Y5: =AA5 -> 16 | AA5: =SUBTOTAL(109,AA10:AA426) -> 16 | AD5: =AF5 -> 14 | AF5: =SUBTOTAL(109,AF10:AF426) -> 14 | AI5: =AJ9 -> 4 | AQ5: =AS5 -> 11 | AS5: =SUBTOTAL(109,AS10:AS426) -> 11 | AV5: =AX5 -> 38 | AX5: =SUBTOTAL(109,AX10:AX426) -> 38 | BA5: =BC5 -> 15 | BC5: =SUBTOTAL(109,BC10:BC426) -> 15 | BF5: =BH5 -> 13 | BH5: =SUBTOTAL(109,BH10:BH426) -> 13 | BK5: =BM5 -> 18 | BM5: =SUBTOTAL(109,BM10:BM426) -> 18 | BP5: =BR5 -> 37 | BR5: =SUBTOTAL(109,BR10:BR426) -> 37 | BU5: =BW5 -> 42 | BW5: =SUBTOTAL(109,BW10:BW426) -> 42 | BZ5: =CB5 -> 50 | CB5: =SUBTOTAL(109,CB10:CB426) -> 50 | CE5: =CG5 -> 16 | CG5: =SUBTOTAL(109,CG10:CG426) -> 16 | CJ5: =CL5 -> 42 | CL5: =SUBTOTAL(109,CL10:CL426) -> 42 | CO5: =CQ5 -> 48 | CQ5: =SUBTOTAL(109,CQ10:CQ426) -> 48 | CT5: =CV5 -> 52 | CV5: =SUBTOTAL(109,CV10:CV426) -> 52 | CY5: =DA5 -> 65 | DA5: =SUBTOTAL(109,DA10:DA426) -> 65 | DD5: =DF5 -> 68 | DF5: =SUBTOTAL(109,DF10:DF426) -> 68 | DI5: =DK5 -> 73 | DK5: =SUBTOTAL(109,DK10:DK426) -> 73
A6: NPK | N6: Iestādes, kas ir aizpildījušas anketu | R6: daļēji | T6: =W6 -> 19 | W6: =SUBTOTAL(109,W10:W426) -> 19 | Y6: =AB6 -> 8 | AB6: =SUBTOTAL(109,AB10:AB426) -> 8 | AD6: =AG6 -> 22 | AG6: =SUBTOTAL(109,AG10:AG426) -> 22 | AI6: =IF(AI7=0," ","iestādes, kam nav zināms, cik ir pakalpojumu") -> iestādes, kam nav zināms, cik ir pakalpojumu | AQ6: =AT6 -> 24 | AT6: =SUBTOTAL(109,AT10:AT426) -> 24 | AV6: =AY6 -> 16 | AY6: =SUBTOTAL(109,AY10:AY426) -> 16 | BA6: =BD6 -> 20 | BD6: =SUBTOTAL(109,BD10:BD426) -> 20 | BF6: =BI6 -> 47 | BI6: =SUBTOTAL(109,BI10:BI426) -> 47 | BK6: =BN6 -> 19 | BN6: =SUBTOTAL(109,BN10:BN426) -> 19 | BP6: =BS6 -> 14 | BS6: =SUBTOTAL(109,BS10:BS426) -> 14 | BU6: =BX6 -> 15 | BX6: =SUBTOTAL(109,BX10:BX426) -> 15 | BZ6: =CC6 -> 20 | CC6: =SUBTOTAL(109,CC10:CC426) -> 20 | CE6: =CH6 -> 28 | CH6: =SUBTOTAL(109,CH10:CH426) -> 28 | CJ6: =CM6 -> 26 | CM6: =SUBTOTAL(109,CM10:CM426) -> 26 | CO6: =CR6 -> 26 | CR6: =SUBTOTAL(109,CR10:CR426) -> 26 | CT6: =CW6 -> 25 | CW6: =SUBTOTAL(109,CW10:CW426) -> 25 | CY6: =DB6 -> 0 | DB6: =SUBTOTAL(109,DB10:DB426) -> 0 | DD6: =DG6 -> 0 | DG6: =SUBTOTAL(109,DG10:DG426) -> 0 | DI6: =DL6 -> 0 | DL6: =SUBTOTAL(109,DL10:DL426) -> 0
N7: =N9-O5 -> 111 | S7: jā | T7: =X7 -> 80 | X7: =SUBTOTAL(109,X10:X426) -> 80 | Y7: =AC7 -> 87 | AC7: =SUBTOTAL(109,AC10:AC426) -> 87 | AD7: =AH7 -> 75 | AH7: =SUBTOTAL(109,AH10:AH426) -> 75 | AI7: =AP9 -> 10 | AQ7: =AU7 -> 76 | AU7: =SUBTOTAL(109,AU10:AU426) -> 76 | AV7: =AZ7 -> 57 | AZ7: =SUBTOTAL(109,AZ10:AZ426) -> 57 | BA7: =BE7 -> 76 | BE7: =SUBTOTAL(109,BE10:BE426) -> 76 | BF7: =BJ7 -> 51 | BJ7: =SUBTOTAL(109,BJ10:BJ426) -> 51 | BK7: =BO7 -> 74 | BO7: =SUBTOTAL(109,BO10:BO426) -> 74 | BP7: =BT7 -> 51 | BT7: =SUBTOTAL(109,BT10:BT426) -> 51 | BU7: =BY7 -> 45 | BY7: =SUBTOTAL(109,BY10:BY426) -> 45 | BZ7: =CD7 -> 32 | CD7: =SUBTOTAL(109,CD10:CD426) -> 32 | CE7: =CI7 -> 58 | CI7: =SUBTOTAL(109,CI10:CI426) -> 58 | CJ7: =CN7 -> 43 | CN7: =SUBTOTAL(109,CN10:CN426) -> 43 | CO7: =CS7 -> 37 | CS7: =SUBTOTAL(109,CS10:CS426) -> 37 | CT7: =CX7 -> 25 | CX7: =SUBTOTAL(109,CX10:CX426) -> 25 | CY7: =DC7 -> 46 | DC7: =SUBTOTAL(109,DC10:DC426) -> 46 | DD7: =DH7 -> 43 | DH7: =SUBTOTAL(109,DH10:DH426) -> 43 | DI7: =DM7 -> 38 | DM7: =SUBTOTAL(109,DM10:DM426) -> 38
A8: =COUNTA(A10:A426) -> 128 | B8: =COUNTA(B10:B426) -> 128 | C8: =COUNTA(C10:C426) -> 128 | D8: =COUNTA(D10:D426) -> 128 | E8: =COUNTA(E10:E426) -> 128 | F8: =SUM(F10:F137) -> 0 | G8: =SUM(G10:G426) -> 2 | H8: =SUM(H10:H426) -> 1 | I8: =SUM(I10:I426) -> 27 | J8: =SUM(J10:J426) -> 70 | K8: =SUM(K10:K426) -> 11 | L8: =COUNTA(L10:L426) -> 0 | M8: =COUNTA(M10:M426) -> 128 | N8: =COUNTA(N10:N426) -> 128 | P8: =COUNTA(P10:P426) -> 128 | Q8: =SUBTOTAL(109,Q10:Q426) -> 630 | R8: =SUBTOTAL(109,R10:R426) -> 329 | S8: =SUBTOTAL(109,S10:S426) -> 994 | T8: =COUNTA(T10:T426) -> 128 | Y8: =COUNTA(Y10:Y426) -> 128 | AD8: =COUNTA(AD10:AD426) -> 128 | AI8: =COUNTA(AI10:AI426) -> 128 | AJ8: =SUM(AJ10:AJ426) -> 4 | AK8: =SUM(AK10:AK426) -> 18 | AL8: =SUM(AL10:AL426) -> 43 | AM8: =SUM(AM10:AM426) -> 18 | AN8: =SUM(AN10:AN426) -> 15 | AO8: =SUM(AO10:AO426) -> 3 | AP8: =SUM(AP10:AP426) -> 10 | AQ8: =COUNTA(AQ10:AQ426) -> 128 | AV8: =COUNTA(AV10:AV426) -> 128 | BA8: =COUNTA(BA10:BA426) -> 128 | BF8: =COUNTA(BF10:BF426) -> 128 | BK8: =COUNTA(BK10:BK426) -> 128 | BP8: =COUNTA(BP10:BP426) -> 128 | BU8: =COUNTA(BU10:BU426) -> 128 | BZ8: =COUNTA(BZ10:BZ426) -> 128 | CE8: =COUNTA(CE10:CE426) -> 128 | CJ8: =COUNTA(CJ10:CJ426) -> 128 | CO8: =COUNTA(CO10:CO426) -> 128 | CT8: =COUNTA(CT10:CT426) -> 128 | CY8: =COUNTA(CY10:CY426) -> 128 | DD8: =COUNTA(DD10:DD426) -> 128 | DI8: =COUNTA(DI10:DI426) -> 128
A9: =SUBTOTAL(103,A10:A426) -> 128 | B9: =SUBTOTAL(103,B10:B426) -> 128 | C9: =SUBTOTAL(103,C10:C426) -> 128 | D9: =SUBTOTAL(103,D10:D426) -> 128 | E9: =SUBTOTAL(103,E10:E426) -> 128 | F9: =SUBTOTAL(109,F10:F137) -> 0 | G9: =SUBTOTAL(109,G10:G426) -> 2 | H9: =SUBTOTAL(109,H10:H426) -> 1 | I9: =SUBTOTAL(109,I10:I426) -> 27 | J9: =SUBTOTAL(109,J10:J426) -> 70 | K9: =SUBTOTAL(109,K10:K426) -> 11 | L9: =SUBTOTAL(103,L10:L426) -> 0 | M9: =SUBTOTAL(103,M10:M426) -> 128 | N9: =SUBTOTAL(103,N10:N426) -> 128 | P9: =SUBTOTAL(103,P10:P426) -> 128 | T9: =SUBTOTAL(103,T10:T426) -> 128 | Y9: =SUBTOTAL(103,Y10:Y426) -> 128 | AD9: =SUBTOTAL(103,AD10:AD426) -> 128 | AI9: =SUBTOTAL(103,AI10:AI426) -> 128 | AJ9: =SUBTOTAL(109,AJ10:AJ426) -> 4 | AK9: =SUBTOTAL(109,AK10:AK426) -> 18 | AL9: =SUBTOTAL(109,AL10:AL426) -> 43 | AM9: =SUBTOTAL(109,AM10:AM426) -> 18 | AN9: =SUBTOTAL(109,AN10:AN426) -> 15 | AO9: =SUBTOTAL(109,AO10:AO426) -> 3 | AP9: =SUBTOTAL(109,AP10:AP426) -> 10 | AQ9: =SUBTOTAL(103,AQ10:AQ426) -> 128 | AV9: =SUBTOTAL(103,AV10:AV426) -> 128 | BA9: =SUBTOTAL(103,BA10:BA426) -> 128 | BF9: =SUBTOTAL(103,BF10:BF426) -> 128 | BK9: =SUBTOTAL(103,BK10:BK426) -> 128 | BP9: =SUBTOTAL(103,BP10:BP426) -> 128 | BU9: =SUBTOTAL(103,BU10:BU426) -> 128 | BZ9: =SUBTOTAL(103,BZ10:BZ426) -> 128 | CE9: =SUBTOTAL(103,CE10:CE426) -> 128 | CJ9: =SUBTOTAL(103,CJ10:CJ426) -> 128 | CO9: =SUBTOTAL(103,CO10:CO426) -> 128 | CT9: =SUBTOTAL(103,CT10:CT426) -> 128 | CY9: =SUBTOTAL(103,CY10:CY426) -> 128 | DD9: =SUBTOTAL(103,DD10:DD426) -> 128 | DI9: =SUBTOTAL(103,DI10:DI426) -> 128
A10: 10 | B10: 103 | C10: 45834.578 | D10: 45834.578 | E10: 0 | F10: 0 | G10: 0 | H10: 0 | I10: 0 | J10: 0 | K10: 0 | M10: 0 | N10: SIA "Latvijas nacionālais metroloģijas centrs" | O10: 1 | P10: 0 | Q10: 0 | R10: 0 | S10: 0 | T10: anketa nav aizpildīta | U10: 0 | V10: 0 | W10: 0 | X10: 0 | Y10: anketa nav aizpildīta | Z10: 0 | AA10: 0 | AB10: 0 | AC10: 0 | AD10: anketa nav aizpildīta | AE10: 0 | AF10: 0 | AG10: 0 | AH10: 0 | AI10: anketa nav aizpildīta | AJ10: 0 | AK10: 0 | AL10: 0 | AM10: 0 | AN10: 0 | AO10: 0 | AP10: 0 | AQ10: anketa nav aizpildīta | AR10: 0 | AS10: 0 | AT10: 0 | AU10: 0 | AV10: anketa nav aizpildīta | AW10: 0 | AX10: 0 | AY10: 0 | AZ10: 0 | BA10: anketa nav aizpildīta | BB10: 0 | BC10: 0 | BD10: 0 | BE10: 0 | BF10: anketa nav aizpildīta | BG10: 0 | BH10: 0 | BI10: 0 | BJ10: 0 | BK10: anketa nav aizpildīta | BL10: 0 | BM10: 0 | BN10: 0 | BO10: 0 | BP10: anketa nav aizpildīta | BQ10: 0 | BR10: 0 | BS10: 0 | BT10: 0 | BU10: anketa nav aizpildīta | BV10: 0 | BW10: 0 | BX10: 0 | BY10: 0 | BZ10: anketa nav aizpildīta | CA10: 0 | CB10: 0 | CC10: 0 | CD10: 0 | CE10: anketa nav aizpildīta | CF10: 0 | CG10: 0 | CH10: 0 | CI10: 0 | CJ10: anketa nav aizpildīta | CK10: 0 | CL10: 0 | CM10: 0 | CN10: 0 | CO10: anketa nav aizpildīta | CP10: 0 | CQ10: 0 | CR10: 0 | CS10: 0 | CT10: anketa nav aizpildīta | CU10: 0 | CV10: 0 | CW10: 0 | CX10: 0 | CY10: anketa nav aizpildīta | CZ10: 0 | DA10: 0 | DB10: 0 | DC10: 0 | DD10: anketa nav aizpildīta | DE10: 0 | DF10: 0 | DG10: 0 | DH10: 0 | DI10: anketa nav aizpildīta | DJ10: 0 | DK10: 0 | DL10: 0 | DM10: 0
A11: 11 | B11: 104 | C11: 45834.579 | D11: 45834.579 | E11: 0 | F11: 0 | G11: 0 | H11: 0 | I11: 0 | J11: 0 | K11: 0 | M11: 0 | N11: SIA "Publisko aktīvu pārvaldītājs “Possessor”" | O11: 1 | P11: 0 | Q11: 0 | R11: 0 | S11: 0 | T11: anketa nav aizpildīta | U11: 0 | V11: 0 | W11: 0 | X11: 0 | Y11: anketa nav aizpildīta | Z11: 0 | AA11: 0 | AB11: 0 | AC11: 0 | AD11: anketa nav aizpildīta | AE11: 0 | AF11: 0 | AG11: 0 | AH11: 0 | AI11: anketa nav aizpildīta | AJ11: 0 | AK11: 0 | AL11: 0 | AM11: 0 | AN11: 0 | AO11: 0 | AP11: 0 | AQ11: anketa nav aizpildīta | AR11: 0 | AS11: 0 | AT11: 0 | AU11: 0 | AV11: anketa nav aizpildīta | AW11: 0 | AX11: 0 | AY11: 0 | AZ11: 0 | BA11: anketa nav aizpildīta | BB11: 0 | BC11: 0 | BD11: 0 | BE11: 0 | BF11: anketa nav aizpildīta | BG11: 0 | BH11: 0 | BI11: 0 | BJ11: 0 | BK11: anketa nav aizpildīta | BL11: 0 | BM11: 0 | BN11: 0 | BO11: 0 | BP11: anketa nav aizpildīta | BQ11: 0 | BR11: 0 | BS11: 0 | BT11: 0 | BU11: anketa nav aizpildīta | BV11: 0 | BW11: 0 | BX11: 0 | BY11: 0 | BZ11: anketa nav aizpildīta | CA11: 0 | CB11: 0 | CC11: 0 | CD11: 0 | CE11: anketa nav aizpildīta | CF11: 0 | CG11: 0 | CH11: 0 | CI11: 0 | CJ11: anketa nav aizpildīta | CK11: 0 | CL11: 0 | CM11: 0 | CN11: 0 | CO11: anketa nav aizpildīta | CP11: 0 | CQ11: 0 | CR11: 0 | CS11: 0 | CT11: anketa nav aizpildīta | CU11: 0 | CV11: 0 | CW11: 0 | CX11: 0 | CY11: anketa nav aizpildīta | CZ11: 0 | DA11: 0 | DB11: 0 | DC11: 0 | DD11: anketa nav aizpildīta | DE11: 0 | DF11: 0 | DG11: 0 | DH11: 0 | DI11: anketa nav aizpildīta | DJ11: 0 | DK11: 0 | DL11: 0 | DM11: 0
A12: 12 | B12: 109 | C12: 45834.639 | D12: 45834.639 | E12: 0 | F12: 0 | G12: 0 | H12: 0 | I12: 0 | J12: 0 | K12: 0 | M12: 0 | N12: Latvijas Zinātņu akadēmija | O12: 1 | P12: 0 | Q12: 0 | R12: 0 | S12: 0 | T12: anketa nav aizpildīta | U12: 0 | V12: 0 | W12: 0 | X12: 0 | Y12: anketa nav aizpildīta | Z12: 0 | AA12: 0 | AB12: 0 | AC12: 0 | AD12: anketa nav aizpildīta | AE12: 0 | AF12: 0 | AG12: 0 | AH12: 0 | AI12: anketa nav aizpildīta | AJ12: 0 | AK12: 0 | AL12: 0 | AM12: 0 | AN12: 0 | AO12: 0 | AP12: 0 | AQ12: anketa nav aizpildīta | AR12: 0 | AS12: 0 | AT12: 0 | AU12: 0 | AV12: anketa nav aizpildīta | AW12: 0 | AX12: 0 | AY12: 0 | AZ12: 0 | BA12: anketa nav aizpildīta | BB12: 0 | BC12: 0 | BD12: 0 | BE12: 0 | BF12: anketa nav aizpildīta | BG12: 0 | BH12: 0 | BI12: 0 | BJ12: 0 | BK12: anketa nav aizpildīta | BL12: 0 | BM12: 0 | BN12: 0 | BO12: 0 | BP12: anketa nav aizpildīta | BQ12: 0 | BR12: 0 | BS12: 0 | BT12: 0 | BU12: anketa nav aizpildīta | BV12: 0 | BW12: 0 | BX12: 0 | BY12: 0 | BZ12: anketa nav aizpildīta | CA12: 0 | CB12: 0 | CC12: 0 | CD12: 0 | CE12: anketa nav aizpildīta | CF12: 0 | CG12: 0 | CH12: 0 | CI12: 0 | CJ12: anketa nav aizpildīta | CK12: 0 | CL12: 0 | CM12: 0 | CN12: 0 | CO12: anketa nav aizpildīta | CP12: 0 | CQ12: 0 | CR12: 0 | CS12: 0 | CT12: anketa nav aizpildīta | CU12: 0 | CV12: 0 | CW12: 0 | CX12: 0 | CY12: anketa nav aizpildīta | CZ12: 0 | DA12: 0 | DB12: 0 | DC12: 0 | DD12: anketa nav aizpildīta | DE12: 0 | DF12: 0 | DG12: 0 | DH12: 0 | DI12: anketa nav aizpildīta | DJ12: 0 | DK12: 0 | DL12: 0 | DM12: 0
A13: 13 | B13: 111 | C13: 45834.643 | D13: 45834.643 | E13: 0 | F13: 0 | G13: 0 | H13: 0 | I13: 0 | J13: 0 | K13: 0 | M13: 0 | N13: AS "Augstsprieguma tīkls" | O13: 1 | P13: 0 | Q13: 0 | R13: 0 | S13: 0 | T13: anketa nav aizpildīta | U13: 0 | V13: 0 | W13: 0 | X13: 0 | Y13: anketa nav aizpildīta | Z13: 0 | AA13: 0 | AB13: 0 | AC13: 0 | AD13: anketa nav aizpildīta | AE13: 0 | AF13: 0 | AG13: 0 | AH13: 0 | AI13: anketa nav aizpildīta | AJ13: 0 | AK13: 0 | AL13: 0 | AM13: 0 | AN13: 0 | AO13: 0 | AP13: 0 | AQ13: anketa nav aizpildīta | AR13: 0 | AS13: 0 | AT13: 0 | AU13: 0 | AV13: anketa nav aizpildīta | AW13: 0 | AX13: 0 | AY13: 0 | AZ13: 0 | BA13: anketa nav aizpildīta | BB13: 0 | BC13: 0 | BD13: 0 | BE13: 0 | BF13: anketa nav aizpildīta | BG13: 0 | BH13: 0 | BI13: 0 | BJ13: 0 | BK13: anketa nav aizpildīta | BL13: 0 | BM13: 0 | BN13: 0 | BO13: 0 | BP13: anketa nav aizpildīta | BQ13: 0 | BR13: 0 | BS13: 0 | BT13: 0 | BU13: anketa nav aizpildīta | BV13: 0 | BW13: 0 | BX13: 0 | BY13: 0 | BZ13: anketa nav aizpildīta | CA13: 0 | CB13: 0 | CC13: 0 | CD13: 0 | CE13: anketa nav aizpildīta | CF13: 0 | CG13: 0 | CH13: 0 | CI13: 0 | CJ13: anketa nav aizpildīta | CK13: 0 | CL13: 0 | CM13: 0 | CN13: 0 | CO13: anketa nav aizpildīta | CP13: 0 | CQ13: 0 | CR13: 0 | CS13: 0 | CT13: anketa nav aizpildīta | CU13: 0 | CV13: 0 | CW13: 0 | CX13: 0 | CY13: anketa nav aizpildīta | CZ13: 0 | DA13: 0 | DB13: 0 | DC13: 0 | DD13: anketa nav aizpildīta | DE13: 0 | DF13: 0 | DG13: 0 | DH13: 0 | DI13: anketa nav aizpildīta | DJ13: 0 | DK13: 0 | DL13: 0 | DM13: 0
A14: 14 | B14: 112 | C14: 45834.644 | D14: 45834.644 | E14: 0 | F14: 0 | G14: 0 | H14: 0 | I14: 0 | J14: 0 | K14: 0 | M14: 0 | N14: Nacionālais Kino centrs | O14: 1 | P14: 0 | Q14: 0 | R14: 0 | S14: 0 | T14: anketa nav aizpildīta | U14: 0 | V14: 0 | W14: 0 | X14: 0 | Y14: anketa nav aizpildīta | Z14: 0 | AA14: 0 | AB14: 0 | AC14: 0 | AD14: anketa nav aizpildīta | AE14: 0 | AF14: 0 | AG14: 0 | AH14: 0 | AI14: anketa nav aizpildīta | AJ14: 0 | AK14: 0 | AL14: 0 | AM14: 0 | AN14: 0 | AO14: 0 | AP14: 0 | AQ14: anketa nav aizpildīta | AR14: 0 | AS14: 0 | AT14: 0 | AU14: 0 | AV14: anketa nav aizpildīta | AW14: 0 | AX14: 0 | AY14: 0 | AZ14: 0 | BA14: anketa nav aizpildīta | BB14: 0 | BC14: 0 | BD14: 0 | BE14: 0 | BF14: anketa nav aizpildīta | BG14: 0 | BH14: 0 | BI14: 0 | BJ14: 0 | BK14: anketa nav aizpildīta | BL14: 0 | BM14: 0 | BN14: 0 | BO14: 0 | BP14: anketa nav aizpildīta | BQ14: 0 | BR14: 0 | BS14: 0 | BT14: 0 | BU14: anketa nav aizpildīta | BV14: 0 | BW14: 0 | BX14: 0 | BY14: 0 | BZ14: anketa nav aizpildīta | CA14: 0 | CB14: 0 | CC14: 0 | CD14: 0 | CE14: anketa nav aizpildīta | CF14: 0 | CG14: 0 | CH14: 0 | CI14: 0 | CJ14: anketa nav aizpildīta | CK14: 0 | CL14: 0 | CM14: 0 | CN14: 0 | CO14: anketa nav aizpildīta | CP14: 0 | CQ14: 0 | CR14: 0 | CS14: 0 | CT14: anketa nav aizpildīta | CU14: 0 | CV14: 0 | CW14: 0 | CX14: 0 | CY14: anketa nav aizpildīta | CZ14: 0 | DA14: 0 | DB14: 0 | DC14: 0 | DD14: anketa nav aizpildīta | DE14: 0 | DF14: 0 | DG14: 0 | DH14: 0 | DI14: anketa nav aizpildīta | DJ14: 0 | DK14: 0 | DL14: 0 | DM14: 0
A15: 15 | B15: 114 | C15: 45834.649 | D15: 45834.649 | E15: 0 | F15: 0 | G15: 0 | H15: 0 | I15: 0 | J15: 0 | K15: 0 | M15: 0 | N15: Valsts Kultūrkapitāla fonds | O15: 1 | P15: 0 | Q15: 0 | R15: 0 | S15: 0 | T15: anketa nav aizpildīta | U15: 0 | V15: 0 | W15: 0 | X15: 0 | Y15: anketa nav aizpildīta | Z15: 0 | AA15: 0 | AB15: 0 | AC15: 0 | AD15: anketa nav aizpildīta | AE15: 0 | AF15: 0 | AG15: 0 | AH15: 0 | AI15: anketa nav aizpildīta | AJ15: 0 | AK15: 0 | AL15: 0 | AM15: 0 | AN15: 0 | AO15: 0 | AP15: 0 | AQ15: anketa nav aizpildīta | AR15: 0 | AS15: 0 | AT15: 0 | AU15: 0 | AV15: anketa nav aizpildīta | AW15: 0 | AX15: 0 | AY15: 0 | AZ15: 0 | BA15: anketa nav aizpildīta | BB15: 0 | BC15: 0 | BD15: 0 | BE15: 0 | BF15: anketa nav aizpildīta | BG15: 0 | BH15: 0 | BI15: 0 | BJ15: 0 | BK15: anketa nav aizpildīta | BL15: 0 | BM15: 0 | BN15: 0 | BO15: 0 | BP15: anketa nav aizpildīta | BQ15: 0 | BR15: 0 | BS15: 0 | BT15: 0 | BU15: anketa nav aizpildīta | BV15: 0 | BW15: 0 | BX15: 0 | BY15: 0 | BZ15: anketa nav aizpildīta | CA15: 0 | CB15: 0 | CC15: 0 | CD15: 0 | CE15: anketa nav aizpildīta | CF15: 0 | CG15: 0 | CH15: 0 | CI15: 0 | CJ15: anketa nav aizpildīta | CK15: 0 | CL15: 0 | CM15: 0 | CN15: 0 | CO15: anketa nav aizpildīta | CP15: 0 | CQ15: 0 | CR15: 0 | CS15: 0 | CT15: anketa nav aizpildīta | CU15: 0 | CV15: 0 | CW15: 0 | CX15: 0 | CY15: anketa nav aizpildīta | CZ15: 0 | DA15: 0 | DB15: 0 | DC15: 0 | DD15: anketa nav aizpildīta | DE15: 0 | DF15: 0 | DG15: 0 | DH15: 0 | DI15: anketa nav aizpildīta | DJ15: 0 | DK15: 0 | DL15: 0 | DM15: 0
A16: 16 | B16: 116 | C16: 45834.652 | D16: 45834.652 | E16: 0 | F16: 0 | G16: 0 | H16: 0 | I16: 0 | J16: 0 | K16: 0 | M16: 0 | N16: Valsts dzelzceļa administrācija | O16: 1 | P16: 0 | Q16: 0 | R16: 0 | S16: 0 | T16: anketa nav aizpildīta | U16: 0 | V16: 0 | W16: 0 | X16: 0 | Y16: anketa nav aizpildīta | Z16: 0 | AA16: 0 | AB16: 0 | AC16: 0 | AD16: anketa nav aizpildīta | AE16: 0 | AF16: 0 | AG16: 0 | AH16: 0 | AI16: anketa nav aizpildīta | AJ16: 0 | AK16: 0 | AL16: 0 | AM16: 0 | AN16: 0 | AO16: 0 | AP16: 0 | AQ16: anketa nav aizpildīta | AR16: 0 | AS16: 0 | AT16: 0 | AU16: 0 | AV16: anketa nav aizpildīta | AW16: 0 | AX16: 0 | AY16: 0 | AZ16: 0 | BA16: anketa nav aizpildīta | BB16: 0 | BC16: 0 | BD16: 0 | BE16: 0 | BF16: anketa nav aizpildīta | BG16: 0 | BH16: 0 | BI16: 0 | BJ16: 0 | BK16: anketa nav aizpildīta | BL16: 0 | BM16: 0 | BN16: 0 | BO16: 0 | BP16: anketa nav aizpildīta | BQ16: 0 | BR16: 0 | BS16: 0 | BT16: 0 | BU16: anketa nav aizpildīta | BV16: 0 | BW16: 0 | BX16: 0 | BY16: 0 | BZ16: anketa nav aizpildīta | CA16: 0 | CB16: 0 | CC16: 0 | CD16: 0 | CE16: anketa nav aizpildīta | CF16: 0 | CG16: 0 | CH16: 0 | CI16: 0 | CJ16: anketa nav aizpildīta | CK16: 0 | CL16: 0 | CM16: 0 | CN16: 0 | CO16: anketa nav aizpildīta | CP16: 0 | CQ16: 0 | CR16: 0 | CS16: 0 | CT16: anketa nav aizpildīta | CU16: 0 | CV16: 0 | CW16: 0 | CX16: 0 | CY16: anketa nav aizpildīta | CZ16: 0 | DA16: 0 | DB16: 0 | DC16: 0 | DD16: anketa nav aizpildīta | DE16: 0 | DF16: 0 | DG16: 0 | DH16: 0 | DI16: anketa nav aizpildīta | DJ16: 0 | DK16: 0 | DL16: 0 | DM16: 0
A17: 17 | B17: 118 | C17: 45834.658 | D17: 45834.658 | E17: 0 | F17: 0 | G17: 0 | H17: 0 | I17: 0 | J17: 0 | K17: 0 | M17: 0 | N17: VAS "Latvijas Autoceļu uzturētājs" | O17: 1 | P17: 0 | Q17: 0 | R17: 0 | S17: 0 | T17: anketa nav aizpildīta | U17: 0 | V17: 0 | W17: 0 | X17: 0 | Y17: anketa nav aizpildīta | Z17: 0 | AA17: 0 | AB17: 0 | AC17: 0 | AD17: anketa nav aizpildīta | AE17: 0 | AF17: 0 | AG17: 0 | AH17: 0 | AI17: anketa nav aizpildīta | AJ17: 0 | AK17: 0 | AL17: 0 | AM17: 0 | AN17: 0 | AO17: 0 | AP17: 0 | AQ17: anketa nav aizpildīta | AR17: 0 | AS17: 0 | AT17: 0 | AU17: 0 | AV17: anketa nav aizpildīta | AW17: 0 | AX17: 0 | AY17: 0 | AZ17: 0 | BA17: anketa nav aizpildīta | BB17: 0 | BC17: 0 | BD17: 0 | BE17: 0 | BF17: anketa nav aizpildīta | BG17: 0 | BH17: 0 | BI17: 0 | BJ17: 0 | BK17: anketa nav aizpildīta | BL17: 0 | BM17: 0 | BN17: 0 | BO17: 0 | BP17: anketa nav aizpildīta | BQ17: 0 | BR17: 0 | BS17: 0 | BT17: 0 | BU17: anketa nav aizpildīta | BV17: 0 | BW17: 0 | BX17: 0 | BY17: 0 | BZ17: anketa nav aizpildīta | CA17: 0 | CB17: 0 | CC17: 0 | CD17: 0 | CE17: anketa nav aizpildīta | CF17: 0 | CG17: 0 | CH17: 0 | CI17: 0 | CJ17: anketa nav aizpildīta | CK17: 0 | CL17: 0 | CM17: 0 | CN17: 0 | CO17: anketa nav aizpildīta | CP17: 0 | CQ17: 0 | CR17: 0 | CS17: 0 | CT17: anketa nav aizpildīta | CU17: 0 | CV17: 0 | CW17: 0 | CX17: 0 | CY17: anketa nav aizpildīta | CZ17: 0 | DA17: 0 | DB17: 0 | DC17: 0 | DD17: anketa nav aizpildīta | DE17: 0 | DF17: 0 | DG17: 0 | DH17: 0 | DI17: anketa nav aizpildīta | DJ17: 0 | DK17: 0 | DL17: 0 | DM17: 0
A18: 18 | B18: 119 | C18: 45834.668 | D18: 45834.668 | E18: 0 | F18: 0 | G18: 0 | H18: 0 | I18: 0 | J18: 0 | K18: 0 | M18: 0 | N18: VAS "Latvijas dzelzceļš" | O18: 1 | P18: 0 | Q18: 0 | R18: 0 | S18: 0 | T18: anketa nav aizpildīta | U18: 0 | V18: 0 | W18: 0 | X18: 0 | Y18: anketa nav aizpildīta | Z18: 0 | AA18: 0 | AB18: 0 | AC18: 0 | AD18: anketa nav aizpildīta | AE18: 0 | AF18: 0 | AG18: 0 | AH18: 0 | AI18: anketa nav aizpildīta | AJ18: 0 | AK18: 0 | AL18: 0 | AM18: 0 | AN18: 0 | AO18: 0 | AP18: 0 | AQ18: anketa nav aizpildīta | AR18: 0 | AS18: 0 | AT18: 0 | AU18: 0 | AV18: anketa nav aizpildīta | AW18: 0 | AX18: 0 | AY18: 0 | AZ18: 0 | BA18: anketa nav aizpildīta | BB18: 0 | BC18: 0 | BD18: 0 | BE18: 0 | BF18: anketa nav aizpildīta | BG18: 0 | BH18: 0 | BI18: 0 | BJ18: 0 | BK18: anketa nav aizpildīta | BL18: 0 | BM18: 0 | BN18: 0 | BO18: 0 | BP18: anketa nav aizpildīta | BQ18: 0 | BR18: 0 | BS18: 0 | BT18: 0 | BU18: anketa nav aizpildīta | BV18: 0 | BW18: 0 | BX18: 0 | BY18: 0 | BZ18: anketa nav aizpildīta | CA18: 0 | CB18: 0 | CC18: 0 | CD18: 0 | CE18: anketa nav aizpildīta | CF18: 0 | CG18: 0 | CH18: 0 | CI18: 0 | CJ18: anketa nav aizpildīta | CK18: 0 | CL18: 0 | CM18: 0 | CN18: 0 | CO18: anketa nav aizpildīta | CP18: 0 | CQ18: 0 | CR18: 0 | CS18: 0 | CT18: anketa nav aizpildīta | CU18: 0 | CV18: 0 | CW18: 0 | CX18: 0 | CY18: anketa nav aizpildīta | CZ18: 0 | DA18: 0 | DB18: 0 | DC18: 0 | DD18: anketa nav aizpildīta | DE18: 0 | DF18: 0 | DG18: 0 | DH18: 0 | DI18: anketa nav aizpildīta | DJ18: 0 | DK18: 0 | DL18: 0 | DM18: 0
A19: 19 | B19: 120 | C19: 45834.669 | D19: 45834.669 | E19: 0 | F19: 0 | G19: 0 | H19: 0 | I19: 0 | J19: 0 | K19: 0 | M19: 0 | N19: VAS "Latvijas Pasts" | O19: 1 | P19: 0 | Q19: 0 | R19: 0 | S19: 0 | T19: anketa nav aizpildīta | U19: 0 | V19: 0 | W19: 0 | X19: 0 | Y19: anketa nav aizpildīta | Z19: 0 | AA19: 0 | AB19: 0 | AC19: 0 | AD19: anketa nav aizpildīta | AE19: 0 | AF19: 0 | AG19: 0 | AH19: 0 | AI19: anketa nav aizpildīta | AJ19: 0 | AK19: 0 | AL19: 0 | AM19: 0 | AN19: 0 | AO19: 0 | AP19: 0 | AQ19: anketa nav aizpildīta | AR19: 0 | AS19: 0 | AT19: 0 | AU19: 0 | AV19: anketa nav aizpildīta | AW19: 0 | AX19: 0 | AY19: 0 | AZ19: 0 | BA19: anketa nav aizpildīta | BB19: 0 | BC19: 0 | BD19: 0 | BE19: 0 | BF19: anketa nav aizpildīta | BG19: 0 | BH19: 0 | BI19: 0 | BJ19: 0 | BK19: anketa nav aizpildīta | BL19: 0 | BM19: 0 | BN19: 0 | BO19: 0 | BP19: anketa nav aizpildīta | BQ19: 0 | BR19: 0 | BS19: 0 | BT19: 0 | BU19: anketa nav aizpildīta | BV19: 0 | BW19: 0 | BX19: 0 | BY19: 0 | BZ19: anketa nav aizpildīta | CA19: 0 | CB19: 0 | CC19: 0 | CD19: 0 | CE19: anketa nav aizpildīta | CF19: 0 | CG19: 0 | CH19: 0 | CI19: 0 | CJ19: anketa nav aizpildīta | CK19: 0 | CL19: 0 | CM19: 0 | CN19: 0 | CO19: anketa nav aizpildīta | CP19: 0 | CQ19: 0 | CR19: 0 | CS19: 0 | CT19: anketa nav aizpildīta | CU19: 0 | CV19: 0 | CW19: 0 | CX19: 0 | CY19: anketa nav aizpildīta | CZ19: 0 | DA19: 0 | DB19: 0 | DC19: 0 | DD19: anketa nav aizpildīta | DE19: 0 | DF19: 0 | DG19: 0 | DH19: 0 | DI19: anketa nav aizpildīta | DJ19: 0 | DK19: 0 | DL19: 0 | DM19: 0
A20: 20 | B20: 122 | C20: 45834.677 | D20: 45834.677 | E20: 0 | F20: 0 | G20: 0 | H20: 0 | I20: 0 | J20: 0 | K20: 0 | M20: 0 | N20: Neatliekamās medicīniskās palīdzības dienests | O20: 1 | P20: 0 | Q20: 0 | R20: 0 | S20: 0 | T20: anketa nav aizpildīta | U20: 0 | V20: 0 | W20: 0 | X20: 0 | Y20: anketa nav aizpildīta | Z20: 0 | AA20: 0 | AB20: 0 | AC20: 0 | AD20: anketa nav aizpildīta | AE20: 0 | AF20: 0 | AG20: 0 | AH20: 0 | AI20: anketa nav aizpildīta | AJ20: 0 | AK20: 0 | AL20: 0 | AM20: 0 | AN20: 0 | AO20: 0 | AP20: 0 | AQ20: anketa nav aizpildīta | AR20: 0 | AS20: 0 | AT20: 0 | AU20: 0 | AV20: anketa nav aizpildīta | AW20: 0 | AX20: 0 | AY20: 0 | AZ20: 0 | BA20: anketa nav aizpildīta | BB20: 0 | BC20: 0 | BD20: 0 | BE20: 0 | BF20: anketa nav aizpildīta | BG20: 0 | BH20: 0 | BI20: 0 | BJ20: 0 | BK20: anketa nav aizpildīta | BL20: 0 | BM20: 0 | BN20: 0 | BO20: 0 | BP20: anketa nav aizpildīta | BQ20: 0 | BR20: 0 | BS20: 0 | BT20: 0 | BU20: anketa nav aizpildīta | BV20: 0 | BW20: 0 | BX20: 0 | BY20: 0 | BZ20: anketa nav aizpildīta | CA20: 0 | CB20: 0 | CC20: 0 | CD20: 0 | CE20: anketa nav aizpildīta | CF20: 0 | CG20: 0 | CH20: 0 | CI20: 0 | CJ20: anketa nav aizpildīta | CK20: 0 | CL20: 0 | CM20: 0 | CN20: 0 | CO20: anketa nav aizpildīta | CP20: 0 | CQ20: 0 | CR20: 0 | CS20: 0 | CT20: anketa nav aizpildīta | CU20: 0 | CV20: 0 | CW20: 0 | CX20: 0 | CY20: anketa nav aizpildīta | CZ20: 0 | DA20: 0 | DB20: 0 | DC20: 0 | DD20: anketa nav aizpildīta | DE20: 0 | DF20: 0 | DG20: 0 | DH20: 0 | DI20: anketa nav aizpildīta | DJ20: 0 | DK20: 0 | DL20: 0 | DM20: 0
A21: 21 | B21: 124 | C21: 45834.682 | D21: 45834.682 | E21: 0 | F21: 0 | G21: 0 | H21: 0 | I21: 0 | J21: 0 | K21: 0 | M21: 0 | N21: SIA “Latvijas Digitālās veselības centrs” | O21: 1 | P21: 0 | Q21: 0 | R21: 0 | S21: 0 | T21: anketa nav aizpildīta | U21: 0 | V21: 0 | W21: 0 | X21: 0 | Y21: anketa nav aizpildīta | Z21: 0 | AA21: 0 | AB21: 0 | AC21: 0 | AD21: anketa nav aizpildīta | AE21: 0 | AF21: 0 | AG21: 0 | AH21: 0 | AI21: anketa nav aizpildīta | AJ21: 0 | AK21: 0 | AL21: 0 | AM21: 0 | AN21: 0 | AO21: 0 | AP21: 0 | AQ21: anketa nav aizpildīta | AR21: 0 | AS21: 0 | AT21: 0 | AU21: 0 | AV21: anketa nav aizpildīta | AW21: 0 | AX21: 0 | AY21: 0 | AZ21: 0 | BA21: anketa nav aizpildīta | BB21: 0 | BC21: 0 | BD21: 0 | BE21: 0 | BF21: anketa nav aizpildīta | BG21: 0 | BH21: 0 | BI21: 0 | BJ21: 0 | BK21: anketa nav aizpildīta | BL21: 0 | BM21: 0 | BN21: 0 | BO21: 0 | BP21: anketa nav aizpildīta | BQ21: 0 | BR21: 0 | BS21: 0 | BT21: 0 | BU21: anketa nav aizpildīta | BV21: 0 | BW21: 0 | BX21: 0 | BY21: 0 | BZ21: anketa nav aizpildīta | CA21: 0 | CB21: 0 | CC21: 0 | CD21: 0 | CE21: anketa nav aizpildīta | CF21: 0 | CG21: 0 | CH21: 0 | CI21: 0 | CJ21: anketa nav aizpildīta | CK21: 0 | CL21: 0 | CM21: 0 | CN21: 0 | CO21: anketa nav aizpildīta | CP21: 0 | CQ21: 0 | CR21: 0 | CS21: 0 | CT21: anketa nav aizpildīta | CU21: 0 | CV21: 0 | CW21: 0 | CX21: 0 | CY21: anketa nav aizpildīta | CZ21: 0 | DA21: 0 | DB21: 0 | DC21: 0 | DD21: anketa nav aizpildīta | DE21: 0 | DF21: 0 | DG21: 0 | DH21: 0 | DI21: anketa nav aizpildīta | DJ21: 0 | DK21: 0 | DL21: 0 | DM21: 0
... A26: 26 | B26: 133 | C26: 45835.434 | D26: 45835.434 | E26: 0 | F26: 0 | G26: 0 | H26: 0 | I26: 0 | J26: 0 | K26: 0 | M26: 0 | N26: Nodibinājums "Akadēmiskās informācijas centrs" | O26: 1 | P26: 0 | Q26: 0 | R26: 0 | S26: 0 | T26: anketa nav aizpildīta | U26: 0 | V26: 0 | W26: 0 | X26: 0 | Y26: anketa nav aizpildīta | Z26: 0 | AA26: 0 | AB26: 0 | AC26: 0 | AD26: anketa nav aizpildīta | AE26: 0 | AF26: 0 | AG26: 0 | AH26: 0 | AI26: anketa nav aizpildīta | AJ26: 0 | AK26: 0 | AL26: 0 | AM26: 0 | AN26: 0 | AO26: 0 | AP26: 0 | AQ26: anketa nav aizpildīta | AR26: 0 | AS26: 0 | AT26: 0 | AU26: 0 | AV26: anketa nav aizpildīta | AW26: 0 | AX26: 0 | AY26: 0 | AZ26: 0 | BA26: anketa nav aizpildīta | BB26: 0 | BC26: 0 | BD26: 0 | BE26: 0 | BF26: anketa nav aizpildīta | BG26: 0 | BH26: 0 | BI26: 0 | BJ26: 0 | BK26: anketa nav aizpildīta | BL26: 0 | BM26: 0 | BN26: 0 | BO26: 0 | BP26: anketa nav aizpildīta | BQ26: 0 | BR26: 0 | BS26: 0 | BT26: 0 | BU26: anketa nav aizpildīta | BV26: 0 | BW26: 0 | BX26: 0 | BY26: 0 | BZ26: anketa nav aizpildīta | CA26: 0 | CB26: 0 | CC26: 0 | CD26: 0 | CE26: anketa nav aizpildīta | CF26: 0 | CG26: 0 | CH26: 0 | CI26: 0 | CJ26: anketa nav aizpildīta | CK26: 0 | CL26: 0 | CM26: 0 | CN26: 0 | CO26: anketa nav aizpildīta | CP26: 0 | CQ26: 0 | CR26: 0 | CS26: 0 | CT26: anketa nav aizpildīta | CU26: 0 | CV26: 0 | CW26: 0 | CX26: 0 | CY26: anketa nav aizpildīta | CZ26: 0 | DA26: 0 | DB26: 0 | DC26: 0 | DD26: anketa nav aizpildīta | DE26: 0 | DF26: 0 | DG26: 0 | DH26: 0 | DI26: anketa nav aizpildīta | DJ26: 0 | DK26: 0 | DL26: 0 | DM26: 0
A27: 131 | B27: 279 | C27: 46246.38 | D27: 46246.38 | E27: 19 | F27: 0 | G27: 1 | H27: 0 | I27: 0 | J27: 0 | K27: 0 | M27: Finanšu ministrija | N27: Iepirkumu uzraudzības birojs | O27: 0 | P27: 90001263305 | Q27: 0 | R27: 0 | S27: 18 | T27: jā | U27: 0 | V27: 0 | W27: 0 | X27: 1 | Y27: jā | Z27: 0 | AA27: 0 | AB27: 0 | AC27: 1 | AD27: jā | AE27: 0 | AF27: 0 | AG27: 0 | AH27: 1 | AI27: 2 | AJ27: 0 | AK27: 1 | AL27: 0 | AM27: 0 | AN27: 0 | AO27: 0 | AP27: 0 | AQ27: jā | AR27: 0 | AS27: 0 | AT27: 0 | AU27: 1 | AV27: jā | AW27: 0 | AX27: 0 | AY27: 0 | AZ27: 1 | BA27: jā | BB27: 0 | BC27: 0 | BD27: 0 | BE27: 1 | BF27: jā | BG27: 0 | BH27: 0 | BI27: 0 | BJ27: 1 | BK27: jā | BL27: 0 | BM27: 0 | BN27: 0 | BO27: 1 | BP27: jā | BQ27: 0 | BR27: 0 | BS27: 0 | BT27: 1 | BU27: jā | BV27: 0 | BW27: 0 | BX27: 0 | BY27: 1 | BZ27: jā | CA27: 0 | CB27: 0 | CC27: 0 | CD27: 1 | CE27: jā | CF27: 0 | CG27: 0 | CH27: 0 | CI27: 1 | CJ27: jā | CK27: 0 | CL27: 0 | CM27: 0 | CN27: 1 | CO27: jā | CP27: 0 | CQ27: 0 | CR27: 0 | CS27: 1 | CT27: jā | CU27: 0 | CV27: 0 | CW27: 0 | CX27: 1 | CY27: jā | CZ27: 0 | DA27: 0 | DB27: 0 | DC27: 1 | DD27: jā | DE27: 0 | DF27: 0 | DG27: 0 | DH27: 1 | DI27: jā | DJ27: 0 | DK27: 0 | DL27: 0 | DM27: 1
A28: 130 | B28: 278 | C28: 46245.43 | D28: 46245.43 | E28: 20 | F28: 0 | G28: 1 | H28: 0 | I28: 0 | J28: 0 | K28: 0 | M28: Iekšlietu ministrija | N28: Valsts ugunsdzēsības un glābšanas dienests | O28: 0 | P28: 90000049834 | Q28: 9 | R28: 4 | S28: 5 | T28: jā | U28: 0 | V28: 0 | W28: 0 | X28: 1 | Y28: jā | Z28: 0 | AA28: 0 | AB28: 0 | AC28: 1 | AD28: jā | AE28: 0 | AF28: 0 | AG28: 0 | AH28: 1 | AI28: 5 | AJ28: 0 | AK28: 0 | AL28: 1 | AM28: 0 | AN28: 0 | AO28: 0 | AP28: 0 | AQ28: jā | AR28: 0 | AS28: 0 | AT28: 0 | AU28: 1 | AV28: jā | AW28: 0 | AX28: 0 | AY28: 0 | AZ28: 1 | BA28: daļēji | BB28: 0 | BC28: 0 | BD28: 1 | BE28: 0 | BF28: daļēji | BG28: 0 | BH28: 0 | BI28: 1 | BJ28: 0 | BK28: daļēji | BL28: 0 | BM28: 0 | BN28: 1 | BO28: 0 | BP28: nē | BQ28: 0 | BR28: 1 | BS28: 0 | BT28: 0 | BU28: nē | BV28: 0 | BW28: 1 | BX28: 0 | BY28: 0 | BZ28: nē | CA28: 0 | CB28: 1 | CC28: 0 | CD28: 0 | CE28: daļēji | CF28: 0 | CG28: 0 | CH28: 1 | CI28: 0 | CJ28: nē | CK28: 0 | CL28: 1 | CM28: 0 | CN28: 0 | CO28: nē | CP28: 0 | CQ28: 1 | CR28: 0 | CS28: 0 | CT28: nē | CU28: 0 | CV28: 1 | CW28: 0 | CX28: 0 | CY28: nē | CZ28: 0 | DA28: 1 | DB28: 0 | DC28: 0 | DD28: nē | DE28: 0 | DF28: 1 | DG28: 0 | DH28: 0 | DI28: nē | DJ28: 0 | DK28: 1 | DL28: 0 | DM28: 0
A29: 129 | B29: 277 | C29: 46188.611 | D29: 46188.611 | E29: 77 | F29: 0 | G29: 0 | H29: 1 | I29: 0 | J29: 0 | K29: 0 | M29: Izglītības un zinātnes ministrija | N29: Dabas aizsardzības pārvalde | O29: 0 | P29: 12345687900 | Q29: 3 | R29: 6 | S29: 9 | T29: daļēji | U29: 0 | V29: 0 | W29: 1 | X29: 0 | Y29: daļēji | Z29: 0 | AA29: 0 | AB29: 1 | AC29: 0 | AD29: daļēji | AE29: 0 | AF29: 0 | AG29: 1 | AH29: 0 | AI29: 9 | AJ29: 0 | AK29: 0 | AL29: 1 | AM29: 0 | AN29: 0 | AO29: 0 | AP29: 0 | AQ29: daļēji | AR29: 0 | AS29: 0 | AT29: 1 | AU29: 0 | AV29: nē | AW29: 0 | AX29: 1 | AY29: 0 | AZ29: 0 | BA29: daļēji | BB29: 0 | BC29: 0 | BD29: 1 | BE29: 0 | BF29: daļēji | BG29: 0 | BH29: 0 | BI29: 1 | BJ29: 0 | BK29: nē | BL29: 0 | BM29: 1 | BN29: 0 | BO29: 0 | BP29: jā | BQ29: 0 | BR29: 0 | BS29: 0 | BT29: 1 | BU29: jā | BV29: 0 | BW29: 0 | BX29: 0 | BY29: 1 | BZ29: jā | CA29: 0 | CB29: 0 | CC29: 0 | CD29: 1 | CE29: nē | CF29: 0 | CG29: 1 | CH29: 0 | CI29: 0 | CJ29: jā | CK29: 0 | CL29: 0 | CM29: 0 | CN29: 1 | CO29: jā | CP29: 0 | CQ29: 0 | CR29: 0 | CS29: 1 | CT29: jā | CU29: 0 | CV29: 0 | CW29: 0 | CX29: 1 | CY29: jā | CZ29: 0 | DA29: 0 | DB29: 0 | DC29: 1 | DD29: jā | DE29: 0 | DF29: 0 | DG29: 0 | DH29: 1 | DI29: jā | DJ29: 0 | DK29: 0 | DL29: 0 | DM29: 1
A30: 128 | B30: 276 | C30: 46148.659 | D30: 46148.659 | E30: 117 | F30: 0 | G30: 0 | H30: 0 | I30: 1 | J30: 0 | K30: 0 | M30: Tieslietu ministrija | N30: Valsts valodas centrs | O30: 0 | P30: 90000463460 | Q30: 3 | R30: 1 | S30: 14 | T30: jā | U30: 0 | V30: 0 | W30: 0 | X30: 1 | Y30: jā | Z30: 0 | AA30: 0 | AB30: 0 | AC30: 1 | AD30: jā | AE30: 0 | AF30: 0 | AG30: 0 | AH30: 1 | AI30: 4 | AJ30: 0 | AK30: 0 | AL30: 1 | AM30: 0 | AN30: 0 | AO30: 0 | AP30: 0 | AQ30: daļēji | AR30: 0 | AS30: 0 | AT30: 1 | AU30: 0 | AV30: jā | AW30: 0 | AX30: 0 | AY30: 0 | AZ30: 1 | BA30: nē | BB30: 0 | BC30: 1 | BD30: 0 | BE30: 0 | BF30: nē | BG30: 0 | BH30: 1 | BI30: 0 | BJ30: 0 | BK30: jā | BL30: 0 | BM30: 0 | BN30: 0 | BO30: 1 | BP30: jā | BQ30: 0 | BR30: 0 | BS30: 0 | BT30: 1 | BU30: jā | BV30: 0 | BW30: 0 | BX30: 0 | BY30: 1 | BZ30: jā | CA30: 0 | CB30: 0 | CC30: 0 | CD30: 1 | CE30: jā | CF30: 0 | CG30: 0 | CH30: 0 | CI30: 1 | CJ30: jā | CK30: 0 | CL30: 0 | CM30: 0 | CN30: 1 | CO30: jā | CP30: 0 | CQ30: 0 | CR30: 0 | CS30: 1 | CT30: jā | CU30: 0 | CV30: 0 | CW30: 0 | CX30: 1 | CY30: jā | CZ30: 0 | DA30: 0 | DB30: 0 | DC30: 1 | DD30: jā | DE30: 0 | DF30: 0 | DG30: 0 | DH30: 1 | DI30: nē | DJ30: 0 | DK30: 1 | DL30: 0 | DM30: 0
A31: 127 | B31: 275 | C31: 46141.74 | D31: 46141.74 | E31: 124 | F31: 0 | G31: 0 | H31: 0 | I31: 1 | J31: 0 | K31: 0 | M31: Cits | N31: Sabiedrisko pakalpojumu regulēšanas komisija | O31: 0 | P31: 90001162258 | Q31: 3 | R31: 5 | S31: 10 | T31: jā | U31: 0 | V31: 0 | W31: 0 | X31: 1 | Y31: jā | Z31: 0 | AA31: 0 | AB31: 0 | AC31: 1 | AD31: jā | AE31: 0 | AF31: 0 | AG31: 0 | AH31: 1 | AI31: 3 | AJ31: 0 | AK31: 0 | AL31: 1 | AM31: 0 | AN31: 0 | AO31: 0 | AP31: 0 | AQ31: jā | AR31: 0 | AS31: 0 | AT31: 0 | AU31: 1 | AV31: daļēji | AW31: 0 | AX31: 0 | AY31: 1 | AZ31: 0 | BA31: jā | BB31: 0 | BC31: 0 | BD31: 0 | BE31: 1 | BF31: jā | BG31: 0 | BH31: 0 | BI31: 0 | BJ31: 1 | BK31: jā | BL31: 0 | BM31: 0 | BN31: 0 | BO31: 1 | BP31: jā | BQ31: 0 | BR31: 0 | BS31: 0 | BT31: 1 | BU31: jā | BV31: 0 | BW31: 0 | BX31: 0 | BY31: 1 | BZ31: daļēji | CA31: 0 | CB31: 0 | CC31: 1 | CD31: 0 | CE31: jā | CF31: 0 | CG31: 0 | CH31: 0 | CI31: 1 | CJ31: daļēji | CK31: 0 | CL31: 0 | CM31: 1 | CN31: 0 | CO31: daļēji | CP31: 0 | CQ31: 0 | CR31: 1 | CS31: 0 | CT31: daļēji | CU31: 0 | CV31: 0 | CW31: 1 | CX31: 0 | CY31: nē | CZ31: 0 | DA31: 1 | DB31: 0 | DC31: 0 | DD31: nē | DE31: 0 | DF31: 1 | DG31: 0 | DH31: 0 | DI31: nē | DJ31: 0 | DK31: 1 | DL31: 0 | DM31: 0
A32: 126 | B32: 274 | C32: 46126.663 | D32: 46126.663 | E32: 139 | F32: 0 | G32: 0 | H32: 0 | I32: 1 | J32: 0 | K32: 0 | M32: Ekonomikas ministrija | N32: Centrālā statistikas pārvalde | O32: 0 | P32: 90000069830 | Q32: 5 | R32: 5 | S32: 8 | T32: daļēji | U32: 0 | V32: 0 | W32: 1 | X32: 0 | Y32: jā | Z32: 0 | AA32: 0 | AB32: 0 | AC32: 1 | AD32: jā | AE32: 0 | AF32: 0 | AG32: 0 | AH32: 1 | AI32: 5 | AJ32: 0 | AK32: 0 | AL32: 1 | AM32: 0 | AN32: 0 | AO32: 0 | AP32: 0 | AQ32: jā | AR32: 0 | AS32: 0 | AT32: 0 | AU32: 1 | AV32: jā | AW32: 0 | AX32: 0 | AY32: 0 | AZ32: 1 | BA32: daļēji | BB32: 0 | BC32: 0 | BD32: 1 | BE32: 0 | BF32: daļēji | BG32: 0 | BH32: 0 | BI32: 1 | BJ32: 0 | BK32: jā | BL32: 0 | BM32: 0 | BN32: 0 | BO32: 1 | BP32: jā | BQ32: 0 | BR32: 0 | BS32: 0 | BT32: 1 | BU32: daļēji | BV32: 0 | BW32: 0 | BX32: 1 | BY32: 0 | BZ32: nē | CA32: 0 | CB32: 1 | CC32: 0 | CD32: 0 | CE32: jā | CF32: 0 | CG32: 0 | CH32: 0 | CI32: 1 | CJ32: jā | CK32: 0 | CL32: 0 | CM32: 0 | CN32: 1 | CO32: daļēji | CP32: 0 | CQ32: 0 | CR32: 1 | CS32: 0 | CT32: nē | CU32: 0 | CV32: 1 | CW32: 0 | CX32: 0 | CY32: nē | CZ32: 0 | DA32: 1 | DB32: 0 | DC32: 0 | DD32: nē | DE32: 0 | DF32: 1 | DG32: 0 | DH32: 0 | DI32: nē | DJ32: 0 | DK32: 1 | DL32: 0 | DM32: 0
A33: 125 | B33: 273 | C33: 46121.532 | D33: 46121.532 | E33: 144 | F33: 0 | G33: 0 | H33: 0 | I33: 1 | J33: 0 | K33: 0 | M33: Veselības ministrija | N33: Veselības inspekcija | O33: 0 | P33: 90002448818 | Q33: 0 | R33: 3 | S33: 15 | T33: jā | U33: 0 | V33: 0 | W33: 0 | X33: 1 | Y33: jā | Z33: 0 | AA33: 0 | AB33: 0 | AC33: 1 | AD33: jā | AE33: 0 | AF33: 0 | AG33: 0 | AH33: 1 | AI33: 36 | AJ33: 0 | AK33: 0 | AL33: 0 | AM33: 0 | AN33: 1 | AO33: 0 | AP33: 0 | AQ33: jā | AR33: 0 | AS33: 0 | AT33: 0 | AU33: 1 | AV33: jā | AW33: 0 | AX33: 0 | AY33: 0 | AZ33: 1 | BA33: jā | BB33: 0 | BC33: 0 | BD33: 0 | BE33: 1 | BF33: jā | BG33: 0 | BH33: 0 | BI33: 0 | BJ33: 1 | BK33: jā | BL33: 0 | BM33: 0 | BN33: 0 | BO33: 1 | BP33: jā | BQ33: 0 | BR33: 0 | BS33: 0 | BT33: 1 | BU33: jā | BV33: 0 | BW33: 0 | BX33: 0 | BY33: 1 | BZ33: jā | CA33: 0 | CB33: 0 | CC33: 0 | CD33: 1 | CE33: jā | CF33: 0 | CG33: 0 | CH33: 0 | CI33: 1 | CJ33: daļēji | CK33: 0 | CL33: 0 | CM33: 1 | CN33: 0 | CO33: daļēji | CP33: 0 | CQ33: 0 | CR33: 1 | CS33: 0 | CT33: daļēji | CU33: 0 | CV33: 0 | CW33: 1 | CX33: 0 | CY33: jā | CZ33: 0 | DA33: 0 | DB33: 0 | DC33: 1 | DD33: jā | DE33: 0 | DF33: 0 | DG33: 0 | DH33: 1 | DI33: jā | DJ33: 0 | DK33: 0 | DL33: 0 | DM33: 1
A34: 123 | B34: 271 | C34: 46120.383 | D34: 46120.383 | E34: 145 | F34: 0 | G34: 0 | H34: 0 | I34: 1 | J34: 0 | K34: 0 | M34: Labklājības ministrija | N34: Valsts sociālās apdrošināšanas aģentūra | O34: 0 | P34: 0 | Q34: 0 | R34: 0 | S34: 18 | T34: jā | U34: 0 | V34: 0 | W34: 0 | X34: 1 | Y34: jā | Z34: 0 | AA34: 0 | AB34: 0 | AC34: 1 | AD34: jā | AE34: 0 | AF34: 0 | AG34: 0 | AH34: 1 | AI34: 63 | AJ34: 0 | AK34: 0 | AL34: 0 | AM34: 0 | AN34: 1 | AO34: 0 | AP34: 0 | AQ34: jā | AR34: 0 | AS34: 0 | AT34: 0 | AU34: 1 | AV34: jā | AW34: 0 | AX34: 0 | AY34: 0 | AZ34: 1 | BA34: jā | BB34: 0 | BC34: 0 | BD34: 0 | BE34: 1 | BF34: jā | BG34: 0 | BH34: 0 | BI34: 0 | BJ34: 1 | BK34: jā | BL34: 0 | BM34: 0 | BN34: 0 | BO34: 1 | BP34: jā | BQ34: 0 | BR34: 0 | BS34: 0 | BT34: 1 | BU34: jā | BV34: 0 | BW34: 0 | BX34: 0 | BY34: 1 | BZ34: jā | CA34: 0 | CB34: 0 | CC34: 0 | CD34: 1 | CE34: jā | CF34: 0 | CG34: 0 | CH34: 0 | CI34: 1 | CJ34: jā | CK34: 0 | CL34: 0 | CM34: 0 | CN34: 1 | CO34: jā | CP34: 0 | CQ34: 0 | CR34: 0 | CS34: 1 | CT34: jā | CU34: 0 | CV34: 0 | CW34: 0 | CX34: 1 | CY34: jā | CZ34: 0 | DA34: 0 | DB34: 0 | DC34: 1 | DD34: jā | DE34: 0 | DF34: 0 | DG34: 0 | DH34: 1 | DI34: jā | DJ34: 0 | DK34: 0 | DL34: 0 | DM34: 1
A35: 124 | B35: 272 | C35: 46120.426 | D35: 46120.426 | E35: 145 | F35: 0 | G35: 0 | H35: 0 | I35: 1 | J35: 0 | K35: 0 | M35: Iekšlietu ministrija | N35: Iekšlietu ministrijas veselības un sporta centrs | O35: 0 | P35: 0 | Q35: 4 | R35: 1 | S35: 13 | T35: jā | U35: 0 | V35: 0 | W35: 0 | X35: 1 | Y35: jā | Z35: 0 | AA35: 0 | AB35: 0 | AC35: 1 | AD35: jā | AE35: 0 | AF35: 0 | AG35: 0 | AH35: 1 | AI35: 6 | AJ35: 0 | AK35: 0 | AL35: 1 | AM35: 0 | AN35: 0 | AO35: 0 | AP35: 0 | AQ35: jā | AR35: 0 | AS35: 0 | AT35: 0 | AU35: 1 | AV35: jā | AW35: 0 | AX35: 0 | AY35: 0 | AZ35: 1 | BA35: jā | BB35: 0 | BC35: 0 | BD35: 0 | BE35: 1 | BF35: jā | BG35: 0 | BH35: 0 | BI35: 0 | BJ35: 1 | BK35: jā | BL35: 0 | BM35: 0 | BN35: 0 | BO35: 1 | BP35: jā | BQ35: 0 | BR35: 0 | BS35: 0 | BT35: 1 | BU35: jā | BV35: 0 | BW35: 0 | BX35: 0 | BY35: 1 | BZ35: daļēji | CA35: 0 | CB35: 0 | CC35: 1 | CD35: 0 | CE35: jā | CF35: 0 | CG35: 0 | CH35: 0 | CI35: 1 | CJ35: jā | CK35: 0 | CL35: 0 | CM35: 0 | CN35: 1 | CO35: jā | CP35: 0 | CQ35: 0 | CR35: 0 | CS35: 1 | CT35: nē | CU35: 0 | CV35: 1 | CW35: 0 | CX35: 0 | CY35: nē | CZ35: 0 | DA35: 1 | DB35: 0 | DC35: 0 | DD35: nē | DE35: 0 | DF35: 1 | DG35: 0 | DH35: 0 | DI35: nē | DJ35: 0 | DK35: 1 | DL35: 0 | DM35: 0
A36: 120 | B36: 268 | C36: 46114.415 | D36: 46114.415 | E36: 151 | F36: 0 | G36: 0 | H36: 0 | I36: 1 | J36: 0 | K36: 0 | M36: Finanšu ministrija | N36: Valsts ieņēmumu dienests | O36: 0 | P36: 0 | Q36: 9 | R36: 2 | S36: 7 | T36: jā | U36: 0 | V36: 0 | W36: 0 | X36: 1 | Y36: jā | Z36: 0 | AA36: 0 | AB36: 0 | AC36: 1 | AD36: jā | AE36: 0 | AF36: 0 | AG36: 0 | AH36: 1 | AI36: 18 | AJ36: 0 | AK36: 0 | AL36: 0 | AM36: 1 | AN36: 0 | AO36: 0 | AP36: 0 | AQ36: daļēji | AR36: 0 | AS36: 0 | AT36: 1 | AU36: 0 | AV36: nē | AW36: 0 | AX36: 1 | AY36: 0 | AZ36: 0 | BA36: jā | BB36: 0 | BC36: 0 | BD36: 0 | BE36: 1 | BF36: jā | BG36: 0 | BH36: 0 | BI36: 0 | BJ36: 1 | BK36: jā | BL36: 0 | BM36: 0 | BN36: 0 | BO36: 1 | BP36: daļēji | BQ36: 0 | BR36: 0 | BS36: 1 | BT36: 0 | BU36: nē | BV36: 0 | BW36: 1 | BX36: 0 | BY36: 0 | BZ36: nē | CA36: 0 | CB36: 1 | CC36: 0 | CD36: 0 | CE36: jā | CF36: 0 | CG36: 0 | CH36: 0 | CI36: 1 | CJ36: nē | CK36: 0 | CL36: 1 | CM36: 0 | CN36: 0 | CO36: nē | CP36: 0 | CQ36: 1 | CR36: 0 | CS36: 0 | CT36: nē | CU36: 0 | CV36: 1 | CW36: 0 | CX36: 0 | CY36: nē | CZ36: 0 | DA36: 1 | DB36: 0 | DC36: 0 | DD36: nē | DE36: 0 | DF36: 1 | DG36: 0 | DH36: 0 | DI36: nē | DJ36: 0 | DK36: 1 | DL36: 0 | DM36: 0
A37: 121 | B37: 269 | C37: 46114.506 | D37: 46114.506 | E37: 151 | F37: 0 | G37: 0 | H37: 0 | I37: 1 | J37: 0 | K37: 0 | M37: Tieslietu ministrija | N37: Valsts zemes dienests | O37: 0 | P37: 0 | Q37: 0 | R37: 0 | S37: 18 | T37: jā | U37: 0 | V37: 0 | W37: 0 | X37: 1 | Y37: jā | Z37: 0 | AA37: 0 | AB37: 0 | AC37: 1 | AD37: jā | AE37: 0 | AF37: 0 | AG37: 0 | AH37: 1 | AI37: 62 | AJ37: 0 | AK37: 0 | AL37: 0 | AM37: 0 | AN37: 1 | AO37: 0 | AP37: 0 | AQ37: jā | AR37: 0 | AS37: 0 | AT37: 0 | AU37: 1 | AV37: jā | AW37: 0 | AX37: 0 | AY37: 0 | AZ37: 1 | BA37: jā | BB37: 0 | BC37: 0 | BD37: 0 | BE37: 1 | BF37: jā | BG37: 0 | BH37: 0 | BI37: 0 | BJ37: 1 | BK37: jā | BL37: 0 | BM37: 0 | BN37: 0 | BO37: 1 | BP37: jā | BQ37: 0 | BR37: 0 | BS37: 0 | BT37: 1 | BU37: jā | BV37: 0 | BW37: 0 | BX37: 0 | BY37: 1 | BZ37: jā | CA37: 0 | CB37: 0 | CC37: 0 | CD37: 1 | CE37: jā | CF37: 0 | CG37: 0 | CH37: 0 | CI37: 1 | CJ37: jā | CK37: 0 | CL37: 0 | CM37: 0 | CN37: 1 | CO37: jā | CP37: 0 | CQ37: 0 | CR37: 0 | CS37: 1 | CT37: jā | CU37: 0 | CV37: 0 | CW37: 0 | CX37: 1 | CY37: jā | CZ37: 0 | DA37: 0 | DB37: 0 | DC37: 1 | DD37: jā | DE37: 0 | DF37: 0 | DG37: 0 | DH37: 1 | DI37: jā | DJ37: 0 | DK37: 0 | DL37: 0 | DM37: 1
A38: 122 | B38: 270 | C38: 46114.539 | D38: 46114.539 | E38: 151 | F38: 0 | G38: 0 | H38: 0 | I38: 1 | J38: 0 | K38: 0 | M38: Labklājības ministrija | N38: Sociālās integrācijas valsts aģentūra | O38: 0 | P38: 0 | Q38: 6 | R38: 1 | S38: 11 | T38: jā | U38: 0 | V38: 0 | W38: 0 | X38: 1 | Y38: jā | Z38: 0 | AA38: 0 | AB38: 0 | AC38: 1 | AD38: jā | AE38: 0 | AF38: 0 | AG38: 0 | AH38: 1 | AI38: 4 | AJ38: 0 | AK38: 0 | AL38: 1 | AM38: 0 | AN38: 0 | AO38: 0 | AP38: 0 | AQ38: jā | AR38: 0 | AS38: 0 | AT38: 0 | AU38: 1 | AV38: jā | AW38: 0 | AX38: 0 | AY38: 0 | AZ38: 1 | BA38: jā | BB38: 0 | BC38: 0 | BD38: 0 | BE38: 1 | BF38: jā | BG38: 0 | BH38: 0 | BI38: 0 | BJ38: 1 | BK38: jā | BL38: 0 | BM38: 0 | BN38: 0 | BO38: 1 | BP38: jā | BQ38: 0 | BR38: 0 | BS38: 0 | BT38: 1 | BU38: jā | BV38: 0 | BW38: 0 | BX38: 0 | BY38: 1 | BZ38: nē | CA38: 0 | CB38: 1 | CC38: 0 | CD38: 0 | CE38: jā | CF38: 0 | CG38: 0 | CH38: 0 | CI38: 1 | CJ38: daļēji | CK38: 0 | CL38: 0 | CM38: 1 | CN38: 0 | CO38: nē | CP38: 0 | CQ38: 1 | CR38: 0 | CS38: 0 | CT38: nē | CU38: 0 | CV38: 1 | CW38: 0 | CX38: 0 | CY38: nē | CZ38: 0 | DA38: 1 | DB38: 0 | DC38: 0 | DD38: nē | DE38: 0 | DF38: 1 | DG38: 0 | DH38: 0 | DI38: nē | DJ38: 0 | DK38: 1 | DL38: 0 | DM38: 0
A39: 116 | B39: 264 | C39: 46113.571 | D39: 46113.571 | E39: 152 | F39: 0 | G39: 0 | H39: 0 | I39: 1 | J39: 0 | K39: 0 | M39: Tieslietu ministrija | N39: Patentu valde | O39: 0 | P39: 0 | Q39: 0 | R39: 1 | S39: 17 | T39: jā | U39: 0 | V39: 0 | W39: 0 | X39: 1 | Y39: jā | Z39: 0 | AA39: 0 | AB39: 0 | AC39: 1 | AD39: jā | AE39: 0 | AF39: 0 | AG39: 0 | AH39: 1 | AI39: 31 | AJ39: 0 | AK39: 0 | AL39: 0 | AM39: 0 | AN39: 1 | AO39: 0 | AP39: 0 | AQ39: daļēji | AR39: 0 | AS39: 0 | AT39: 1 | AU39: 0 | AV39: jā | AW39: 0 | AX39: 0 | AY39: 0 | AZ39: 1 | BA39: jā | BB39: 0 | BC39: 0 | BD39: 0 | BE39: 1 | BF39: jā | BG39: 0 | BH39: 0 | BI39: 0 | BJ39: 1 | BK39: jā | BL39: 0 | BM39: 0 | BN39: 0 | BO39: 1 | BP39: jā | BQ39: 0 | BR39: 0 | BS39: 0 | BT39: 1 | BU39: jā | BV39: 0 | BW39: 0 | BX39: 0 | BY39: 1 | BZ39: jā | CA39: 0 | CB39: 0 | CC39: 0 | CD39: 1 | CE39: jā | CF39: 0 | CG39: 0 | CH39: 0 | CI39: 1 | CJ39: jā | CK39: 0 | CL39: 0 | CM39: 0 | CN39: 1 | CO39: jā | CP39: 0 | CQ39: 0 | CR39: 0 | CS39: 1 | CT39: jā | CU39: 0 | CV39: 0 | CW39: 0 | CX39: 1 | CY39: jā | CZ39: 0 | DA39: 0 | DB39: 0 | DC39: 1 | DD39: jā | DE39: 0 | DF39: 0 | DG39: 0 | DH39: 1 | DI39: jā | DJ39: 0 | DK39: 0 | DL39: 0 | DM39: 1
A40: 117 | B40: 265 | C40: 46113.598 | D40: 46113.598 | E40: 152 | F40: 0 | G40: 0 | H40: 0 | I40: 1 | J40: 0 | K40: 0 | M40: Labklājības ministrija | N40: Valsts darba inspekcija | O40: 0 | P40: 0 | Q40: 2 | R40: 0 | S40: 16 | T40: jā | U40: 0 | V40: 0 | W40: 0 | X40: 1 | Y40: jā | Z40: 0 | AA40: 0 | AB40: 0 | AC40: 1 | AD40: jā | AE40: 0 | AF40: 0 | AG40: 0 | AH40: 1 | AI40: 5 | AJ40: 0 | AK40: 0 | AL40: 1 | AM40: 0 | AN40: 0 | AO40: 0 | AP40: 0 | AQ40: jā | AR40: 0 | AS40: 0 | AT40: 0 | AU40: 1 | AV40: jā | AW40: 0 | AX40: 0 | AY40: 0 | AZ40: 1 | BA40: jā | BB40: 0 | BC40: 0 | BD40: 0 | BE40: 1 | BF40: jā | BG40: 0 | BH40: 0 | BI40: 0 | BJ40: 1 | BK40: jā | BL40: 0 | BM40: 0 | BN40: 0 | BO40: 1 | BP40: jā | BQ40: 0 | BR40: 0 | BS40: 0 | BT40: 1 | BU40: jā | BV40: 0 | BW40: 0 | BX40: 0 | BY40: 1 | BZ40: jā | CA40: 0 | CB40: 0 | CC40: 0 | CD40: 1 | CE40: jā | CF40: 0 | CG40: 0 | CH40: 0 | CI40: 1 | CJ40: jā | CK40: 0 | CL40: 0 | CM40: 0 | CN40: 1 | CO40: jā | CP40: 0 | CQ40: 0 | CR40: 0 | CS40: 1 | CT40: jā | CU40: 0 | CV40: 0 | CW40: 0 | CX40: 1 | CY40: jā | CZ40: 0 | DA40: 0 | DB40: 0 | DC40: 1 | DD40: nē | DE40: 0 | DF40: 1 | DG40: 0 | DH40: 0 | DI40: nē | DJ40: 0 | DK40: 1 | DL40: 0 | DM40: 0
A41: 118 | B41: 266 | C41: 46113.619 | D41: 46113.619 | E41: 152 | F41: 0 | G41: 0 | H41: 0 | I41: 1 | J41: 0 | K41: 0 | M41: Iekšlietu ministrija | N41: Valsts policija | O41: 0 | P41: 0 | Q41: 1 | R41: 0 | S41: 17 | T41: jā | U41: 0 | V41: 0 | W41: 0 | X41: 1 | Y41: jā | Z41: 0 | AA41: 0 | AB41: 0 | AC41: 1 | AD41: jā | AE41: 0 | AF41: 0 | AG41: 0 | AH41: 1 | AI41: 39 | AJ41: 0 | AK41: 0 | AL41: 0 | AM41: 0 | AN41: 1 | AO41: 0 | AP41: 0 | AQ41: jā | AR41: 0 | AS41: 0 | AT41: 0 | AU41: 1 | AV41: jā | AW41: 0 | AX41: 0 | AY41: 0 | AZ41: 1 | BA41: jā | BB41: 0 | BC41: 0 | BD41: 0 | BE41: 1 | BF41: jā | BG41: 0 | BH41: 0 | BI41: 0 | BJ41: 1 | BK41: jā | BL41: 0 | BM41: 0 | BN41: 0 | BO41: 1 | BP41: jā | BQ41: 0 | BR41: 0 | BS41: 0 | BT41: 1 | BU41: jā | BV41: 0 | BW41: 0 | BX41: 0 | BY41: 1 | BZ41: jā | CA41: 0 | CB41: 0 | CC41: 0 | CD41: 1 | CE41: jā | CF41: 0 | CG41: 0 | CH41: 0 | CI41: 1 | CJ41: jā | CK41: 0 | CL41: 0 | CM41: 0 | CN41: 1 | CO41: jā | CP41: 0 | CQ41: 0 | CR41: 0 | CS41: 1 | CT41: jā | CU41: 0 | CV41: 0 | CW41: 0 | CX41: 1 | CY41: jā | CZ41: 0 | DA41: 0 | DB41: 0 | DC41: 1 | DD41: jā | DE41: 0 | DF41: 0 | DG41: 0 | DH41: 1 | DI41: nē | DJ41: 0 | DK41: 1 | DL41: 0 | DM41: 0
A42: 119 | B42: 267 | C42: 46113.652 | D42: 46113.652 | E42: 152 | F42: 0 | G42: 0 | H42: 0 | I42: 1 | J42: 0 | K42: 0 | M42: Tieslietu ministrija | N42: Ieslodzījuma vietu pārvalde | O42: 0 | P42: 0 | Q42: 2 | R42: 0 | S42: 16 | T42: jā | U42: 0 | V42: 0 | W42: 0 | X42: 1 | Y42: jā | Z42: 0 | AA42: 0 | AB42: 0 | AC42: 1 | AD42: jā | AE42: 0 | AF42: 0 | AG42: 0 | AH42: 1 | AI42: 6 | AJ42: 0 | AK42: 0 | AL42: 1 | AM42: 0 | AN42: 0 | AO42: 0 | AP42: 0 | AQ42: jā | AR42: 0 | AS42: 0 | AT42: 0 | AU42: 1 | AV42: jā | AW42: 0 | AX42: 0 | AY42: 0 | AZ42: 1 | BA42: jā | BB42: 0 | BC42: 0 | BD42: 0 | BE42: 1 | BF42: jā | BG42: 0 | BH42: 0 | BI42: 0 | BJ42: 1 | BK42: jā | BL42: 0 | BM42: 0 | BN42: 0 | BO42: 1 | BP42: jā | BQ42: 0 | BR42: 0 | BS42: 0 | BT42: 1 | BU42: jā | BV42: 0 | BW42: 0 | BX42: 0 | BY42: 1 | BZ42: jā | CA42: 0 | CB42: 0 | CC42: 0 | CD42: 1 | CE42: jā | CF42: 0 | CG42: 0 | CH42: 0 | CI42: 1 | CJ42: jā | CK42: 0 | CL42: 0 | CM42: 0 | CN42: 1 | CO42: jā | CP42: 0 | CQ42: 0 | CR42: 0 | CS42: 1 | CT42: jā | CU42: 0 | CV42: 0 | CW42: 0 | CX42: 1 | CY42: jā | CZ42: 0 | DA42: 0 | DB42: 0 | DC42: 1 | DD42: nē | DE42: 0 | DF42: 1 | DG42: 0 | DH42: 0 | DI42: nē | DJ42: 0 | DK42: 1 | DL42: 0 | DM42: 0
A43: 115 | B43: 263 | C43: 46112.484 | D43: 46112.484 | E43: 153 | F43: 0 | G43: 0 | H43: 0 | I43: 1 | J43: 0 | K43: 0 | M43: Cits | N43: CSDD | O43: 0 | P43: 0 | Q43: 0 | R43: 0 | S43: 18 | T43: jā | U43: 0 | V43: 0 | W43: 0 | X43: 1 | Y43: jā | Z43: 0 | AA43: 0 | AB43: 0 | AC43: 1 | AD43: jā | AE43: 0 | AF43: 0 | AG43: 0 | AH43: 1 | AI43: 10 | AJ43: 0 | AK43: 0 | AL43: 1 | AM43: 0 | AN43: 0 | AO43: 0 | AP43: 0 | AQ43: jā | AR43: 0 | AS43: 0 | AT43: 0 | AU43: 1 | AV43: jā | AW43: 0 | AX43: 0 | AY43: 0 | AZ43: 1 | BA43: jā | BB43: 0 | BC43: 0 | BD43: 0 | BE43: 1 | BF43: jā | BG43: 0 | BH43: 0 | BI43: 0 | BJ43: 1 | BK43: jā | BL43: 0 | BM43: 0 | BN43: 0 | BO43: 1 | BP43: jā | BQ43: 0 | BR43: 0 | BS43: 0 | BT43: 1 | BU43: jā | BV43: 0 | BW43: 0 | BX43: 0 | BY43: 1 | BZ43: jā | CA43: 0 | CB43: 0 | CC43: 0 | CD43: 1 | CE43: jā | CF43: 0 | CG43: 0 | CH43: 0 | CI43: 1 | CJ43: jā | CK43: 0 | CL43: 0 | CM43: 0 | CN43: 1 | CO43: jā | CP43: 0 | CQ43: 0 | CR43: 0 | CS43: 1 | CT43: jā | CU43: 0 | CV43: 0 | CW43: 0 | CX43: 1 | CY43: jā | CZ43: 0 | DA43: 0 | DB43: 0 | DC43: 1 | DD43: jā | DE43: 0 | DF43: 0 | DG43: 0 | DH43: 1 | DI43: jā | DJ43: 0 | DK43: 0 | DL43: 0 | DM43: 1
A44: 112 | B44: 260 | C44: 46111.413 | D44: 46111.413 | E44: 154 | F44: 0 | G44: 0 | H44: 0 | I44: 1 | J44: 0 | K44: 0 | M44: Zemkopības ministrija | N44: Lauku atbalsta dienests | O44: 0 | P44: 0 | Q44: 0 | R44: 0 | S44: 18 | T44: jā | U44: 0 | V44: 0 | W44: 0 | X44: 1 | Y44: jā | Z44: 0 | AA44: 0 | AB44: 0 | AC44: 1 | AD44: jā | AE44: 0 | AF44: 0 | AG44: 0 | AH44: 1 | AI44: 35 | AJ44: 0 | AK44: 0 | AL44: 0 | AM44: 0 | AN44: 1 | AO44: 0 | AP44: 0 | AQ44: jā | AR44: 0 | AS44: 0 | AT44: 0 | AU44: 1 | AV44: jā | AW44: 0 | AX44: 0 | AY44: 0 | AZ44: 1 | BA44: jā | BB44: 0 | BC44: 0 | BD44: 0 | BE44: 1 | BF44: jā | BG44: 0 | BH44: 0 | BI44: 0 | BJ44: 1 | BK44: jā | BL44: 0 | BM44: 0 | BN44: 0 | BO44: 1 | BP44: jā | BQ44: 0 | BR44: 0 | BS44: 0 | BT44: 1 | BU44: jā | BV44: 0 | BW44: 0 | BX44: 0 | BY44: 1 | BZ44: jā | CA44: 0 | CB44: 0 | CC44: 0 | CD44: 1 | CE44: jā | CF44: 0 | CG44: 0 | CH44: 0 | CI44: 1 | CJ44: jā | CK44: 0 | CL44: 0 | CM44: 0 | CN44: 1 | CO44: jā | CP44: 0 | CQ44: 0 | CR44: 0 | CS44: 1 | CT44: jā | CU44: 0 | CV44: 0 | CW44: 0 | CX44: 1 | CY44: jā | CZ44: 0 | DA44: 0 | DB44: 0 | DC44: 1 | DD44: jā | DE44: 0 | DF44: 0 | DG44: 0 | DH44: 1 | DI44: jā | DJ44: 0 | DK44: 0 | DL44: 0 | DM44: 1
A45: 113 | B45: 261 | C45: 46111.601 | D45: 46111.601 | E45: 154 | F45: 0 | G45: 0 | H45: 0 | I45: 1 | J45: 0 | K45: 0 | M45: Izglītības un zinātnes ministrija | N45: Jaunatnes strptautisko programmu aģentūra | O45: 0 | P45: 0 | Q45: 4 | R45: 4 | S45: 10 | T45: jā | U45: 0 | V45: 0 | W45: 0 | X45: 1 | Y45: jā | Z45: 0 | AA45: 0 | AB45: 0 | AC45: 1 | AD45: daļēji | AE45: 0 | AF45: 0 | AG45: 1 | AH45: 0 | AI45: 16 | AJ45: 0 | AK45: 0 | AL45: 0 | AM45: 1 | AN45: 0 | AO45: 0 | AP45: 0 | AQ45: daļēji | AR45: 0 | AS45: 0 | AT45: 1 | AU45: 0 | AV45: daļēji | AW45: 0 | AX45: 0 | AY45: 1 | AZ45: 0 | BA45: jā | BB45: 0 | BC45: 0 | BD45: 0 | BE45: 1 | BF45: daļēji | BG45: 0 | BH45: 0 | BI45: 1 | BJ45: 0 | BK45: jā | BL45: 0 | BM45: 0 | BN45: 0 | BO45: 1 | BP45: jā | BQ45: 0 | BR45: 0 | BS45: 0 | BT45: 1 | BU45: jā | BV45: 0 | BW45: 0 | BX45: 0 | BY45: 1 | BZ45: jā | CA45: 0 | CB45: 0 | CC45: 0 | CD45: 1 | CE45: nē | CF45: 0 | CG45: 1 | CH45: 0 | CI45: 0 | CJ45: nē | CK45: 0 | CL45: 1 | CM45: 0 | CN45: 0 | CO45: nē | CP45: 0 | CQ45: 1 | CR45: 0 | CS45: 0 | CT45: nē | CU45: 0 | CV45: 1 | CW45: 0 | CX45: 0 | CY45: jā | CZ45: 0 | DA45: 0 | DB45: 0 | DC45: 1 | DD45: jā | DE45: 0 | DF45: 0 | DG45: 0 | DH45: 1 | DI45: jā | DJ45: 0 | DK45: 0 | DL45: 0 | DM45: 1
... A56: 105 | B56: 253 | C56: 46106.599 | D56: 46106.599 | E56: 159 | F56: 0 | G56: 0 | H56: 0 | I56: 1 | J56: 0 | K56: 0 | M56: Kultūras ministrija | N56: SIA Starptautiskā Rakstnieku un tulkotāju māja | O56: 0 | P56: 0 | Q56: 0 | R56: 8 | S56: 10 | T56: jā | U56: 0 | V56: 0 | W56: 0 | X56: 1 | Y56: jā | Z56: 0 | AA56: 0 | AB56: 0 | AC56: 1 | AD56: jā | AE56: 0 | AF56: 0 | AG56: 0 | AH56: 1 | AI56: 5 | AJ56: 0 | AK56: 0 | AL56: 1 | AM56: 0 | AN56: 0 | AO56: 0 | AP56: 0 | AQ56: jā | AR56: 0 | AS56: 0 | AT56: 0 | AU56: 1 | AV56: daļēji | AW56: 0 | AX56: 0 | AY56: 1 | AZ56: 0 | BA56: jā | BB56: 0 | BC56: 0 | BD56: 0 | BE56: 1 | BF56: daļēji | BG56: 0 | BH56: 0 | BI56: 1 | BJ56: 0 | BK56: jā | BL56: 0 | BM56: 0 | BN56: 0 | BO56: 1 | BP56: daļēji | BQ56: 0 | BR56: 0 | BS56: 1 | BT56: 0 | BU56: daļēji | BV56: 0 | BW56: 0 | BX56: 1 | BY56: 0 | BZ56: daļēji | CA56: 0 | CB56: 0 | CC56: 1 | CD56: 0 | CE56: jā | CF56: 0 | CG56: 0 | CH56: 0 | CI56: 1 | CJ56: daļēji | CK56: 0 | CL56: 0 | CM56: 1 | CN56: 0 | CO56: daļēji | CP56: 0 | CQ56: 0 | CR56: 1 | CS56: 0 | CT56: daļēji | CU56: 0 | CV56: 0 | CW56: 1 | CX56: 0 | CY56: jā | CZ56: 0 | DA56: 0 | DB56: 0 | DC56: 1 | DD56: jā | DE56: 0 | DF56: 0 | DG56: 0 | DH56: 1 | DI56: jā | DJ56: 0 | DK56: 0 | DL56: 0 | DM56: 1
A57: 101 | B57: 249 | C57: 46039.678 | D57: 46039.678 | E57: 226 | F57: 0 | G57: 0 | H57: 0 | I57: 0 | J57: 1 | K57: 0 | M57: Cits | N57: Valsts kanceleja | O57: 0 | P57: 0 | Q57: 16 | R57: 2 | S57: 0 | T57: daļēji | U57: 0 | V57: 0 | W57: 1 | X57: 0 | Y57: nē | Z57: 0 | AA57: 1 | AB57: 0 | AC57: 0 | AD57: nē | AE57: 0 | AF57: 1 | AG57: 0 | AH57: 0 | AI57: nav zināms | AJ57: 0 | AK57: 0 | AL57: 0 | AM57: 0 | AN57: 0 | AO57: 0 | AP57: 1 | AQ57: nē | AR57: 0 | AS57: 1 | AT57: 0 | AU57: 0 | AV57: nē | AW57: 0 | AX57: 1 | AY57: 0 | AZ57: 0 | BA57: nē | BB57: 0 | BC57: 1 | BD57: 0 | BE57: 0 | BF57: nē | BG57: 0 | BH57: 1 | BI57: 0 | BJ57: 0 | BK57: daļēji | BL57: 0 | BM57: 0 | BN57: 1 | BO57: 0 | BP57: nē | BQ57: 0 | BR57: 1 | BS57: 0 | BT57: 0 | BU57: nē | BV57: 0 | BW57: 1 | BX57: 0 | BY57: 0 | BZ57: nē | CA57: 0 | CB57: 1 | CC57: 0 | CD57: 0 | CE57: nē | CF57: 0 | CG57: 1 | CH57: 0 | CI57: 0 | CJ57: nē | CK57: 0 | CL57: 1 | CM57: 0 | CN57: 0 | CO57: nē | CP57: 0 | CQ57: 1 | CR57: 0 | CS57: 0 | CT57: nē | CU57: 0 | CV57: 1 | CW57: 0 | CX57: 0 | CY57: nē | CZ57: 0 | DA57: 1 | DB57: 0 | DC57: 0 | DD57: nē | DE57: 0 | DF57: 1 | DG57: 0 | DH57: 0 | DI57: nē | DJ57: 0 | DK57: 1 | DL57: 0 | DM57: 0
A58: 100 | B58: 248 | C58: 46006.605 | D58: 46006.605 | E58: 259 | F58: 0 | G58: 0 | H58: 0 | I58: 0 | J58: 1 | K58: 0 | M58: Tieslietu ministrija | N58: Uzņēmumu reģistrs | O58: 0 | P58: 0 | Q58: 0 | R58: 0 | S58: 18 | T58: jā | U58: 0 | V58: 0 | W58: 0 | X58: 1 | Y58: jā | Z58: 0 | AA58: 0 | AB58: 0 | AC58: 1 | AD58: jā | AE58: 0 | AF58: 0 | AG58: 0 | AH58: 1 | AI58: 6 | AJ58: 0 | AK58: 0 | AL58: 1 | AM58: 0 | AN58: 0 | AO58: 0 | AP58: 0 | AQ58: jā | AR58: 0 | AS58: 0 | AT58: 0 | AU58: 1 | AV58: jā | AW58: 0 | AX58: 0 | AY58: 0 | AZ58: 1 | BA58: jā | BB58: 0 | BC58: 0 | BD58: 0 | BE58: 1 | BF58: jā | BG58: 0 | BH58: 0 | BI58: 0 | BJ58: 1 | BK58: jā | BL58: 0 | BM58: 0 | BN58: 0 | BO58: 1 | BP58: jā | BQ58: 0 | BR58: 0 | BS58: 0 | BT58: 1 | BU58: jā | BV58: 0 | BW58: 0 | BX58: 0 | BY58: 1 | BZ58: jā | CA58: 0 | CB58: 0 | CC58: 0 | CD58: 1 | CE58: jā | CF58: 0 | CG58: 0 | CH58: 0 | CI58: 1 | CJ58: jā | CK58: 0 | CL58: 0 | CM58: 0 | CN58: 1 | CO58: jā | CP58: 0 | CQ58: 0 | CR58: 0 | CS58: 1 | CT58: jā | CU58: 0 | CV58: 0 | CW58: 0 | CX58: 1 | CY58: jā | CZ58: 0 | DA58: 0 | DB58: 0 | DC58: 1 | DD58: jā | DE58: 0 | DF58: 0 | DG58: 0 | DH58: 1 | DI58: jā | DJ58: 0 | DK58: 0 | DL58: 0 | DM58: 1
A59: 99 | B59: 247 | C59: 45994.664 | D59: 45994.664 | E59: 271 | F59: 0 | G59: 0 | H59: 0 | I59: 0 | J59: 1 | K59: 0 | M59: Iekšlietu ministrija | N59: Informācijas centrs | O59: 0 | P59: 0 | Q59: 7 | R59: 6 | S59: 5 | T59: jā | U59: 0 | V59: 0 | W59: 0 | X59: 1 | Y59: nē | Z59: 0 | AA59: 1 | AB59: 0 | AC59: 0 | AD59: jā | AE59: 0 | AF59: 0 | AG59: 0 | AH59: 1 | AI59: 131 | AJ59: 0 | AK59: 0 | AL59: 0 | AM59: 0 | AN59: 0 | AO59: 1 | AP59: 0 | AQ59: jā | AR59: 0 | AS59: 0 | AT59: 0 | AU59: 1 | AV59: nē | AW59: 0 | AX59: 1 | AY59: 0 | AZ59: 0 | BA59: jā | BB59: 0 | BC59: 0 | BD59: 0 | BE59: 1 | BF59: daļēji | BG59: 0 | BH59: 0 | BI59: 1 | BJ59: 0 | BK59: jā | BL59: 0 | BM59: 0 | BN59: 0 | BO59: 1 | BP59: daļēji | BQ59: 0 | BR59: 0 | BS59: 1 | BT59: 0 | BU59: daļēji | BV59: 0 | BW59: 0 | BX59: 1 | BY59: 0 | BZ59: nē | CA59: 0 | CB59: 1 | CC59: 0 | CD59: 0 | CE59: daļēji | CF59: 0 | CG59: 0 | CH59: 1 | CI59: 0 | CJ59: daļēji | CK59: 0 | CL59: 0 | CM59: 1 | CN59: 0 | CO59: daļēji | CP59: 0 | CQ59: 0 | CR59: 1 | CS59: 0 | CT59: nē | CU59: 0 | CV59: 1 | CW59: 0 | CX59: 0 | CY59: nē | CZ59: 0 | DA59: 1 | DB59: 0 | DC59: 0 | DD59: nē | DE59: 0 | DF59: 1 | DG59: 0 | DH59: 0 | DI59: nē | DJ59: 0 | DK59: 1 | DL59: 0 | DM59: 0
A60: 98 | B60: 245 | C60: 45943.739 | D60: 45943.739 | E60: 322 | F60: 0 | G60: 0 | H60: 0 | I60: 0 | J60: 1 | K60: 0 | M60: Cits | N60: Sabiedrības integrācijas fonds | O60: 0 | P60: 0 | Q60: 0 | R60: 0 | S60: 18 | T60: jā | U60: 0 | V60: 0 | W60: 0 | X60: 1 | Y60: jā | Z60: 0 | AA60: 0 | AB60: 0 | AC60: 1 | AD60: jā | AE60: 0 | AF60: 0 | AG60: 0 | AH60: 1 | AI60: 10 | AJ60: 0 | AK60: 0 | AL60: 1 | AM60: 0 | AN60: 0 | AO60: 0 | AP60: 0 | AQ60: jā | AR60: 0 | AS60: 0 | AT60: 0 | AU60: 1 | AV60: jā | AW60: 0 | AX60: 0 | AY60: 0 | AZ60: 1 | BA60: jā | BB60: 0 | BC60: 0 | BD60: 0 | BE60: 1 | BF60: jā | BG60: 0 | BH60: 0 | BI60: 0 | BJ60: 1 | BK60: jā | BL60: 0 | BM60: 0 | BN60: 0 | BO60: 1 | BP60: jā | BQ60: 0 | BR60: 0 | BS60: 0 | BT60: 1 | BU60: jā | BV60: 0 | BW60: 0 | BX60: 0 | BY60: 1 | BZ60: jā | CA60: 0 | CB60: 0 | CC60: 0 | CD60: 1 | CE60: jā | CF60: 0 | CG60: 0 | CH60: 0 | CI60: 1 | CJ60: jā | CK60: 0 | CL60: 0 | CM60: 0 | CN60: 1 | CO60: jā | CP60: 0 | CQ60: 0 | CR60: 0 | CS60: 1 | CT60: jā | CU60: 0 | CV60: 0 | CW60: 0 | CX60: 1 | CY60: jā | CZ60: 0 | DA60: 0 | DB60: 0 | DC60: 1 | DD60: jā | DE60: 0 | DF60: 0 | DG60: 0 | DH60: 1 | DI60: jā | DJ60: 0 | DK60: 0 | DL60: 0 | DM60: 1
A61: 97 | B61: 244 | C61: 45940.56 | D61: 45940.56 | E61: 325 | F61: 0 | G61: 0 | H61: 0 | I61: 0 | J61: 1 | K61: 0 | M61: Satiksmes ministrija | N61: Valsts dzelzceļa tehniskā inspekcija | O61: 0 | P61: 0 | Q61: 18 | R61: 0 | S61: 0 | T61: nē | U61: 0 | V61: 1 | W61: 0 | X61: 0 | Y61: nē | Z61: 0 | AA61: 1 | AB61: 0 | AC61: 0 | AD61: nē | AE61: 0 | AF61: 1 | AG61: 0 | AH61: 0 | AI61: 11 | AJ61: 0 | AK61: 0 | AL61: 0 | AM61: 1 | AN61: 0 | AO61: 0 | AP61: 0 | AQ61: nē | AR61: 0 | AS61: 1 | AT61: 0 | AU61: 0 | AV61: nē | AW61: 0 | AX61: 1 | AY61: 0 | AZ61: 0 | BA61: nē | BB61: 0 | BC61: 1 | BD61: 0 | BE61: 0 | BF61: nē | BG61: 0 | BH61: 1 | BI61: 0 | BJ61: 0 | BK61: nē | BL61: 0 | BM61: 1 | BN61: 0 | BO61: 0 | BP61: nē | BQ61: 0 | BR61: 1 | BS61: 0 | BT61: 0 | BU61: nē | BV61: 0 | BW61: 1 | BX61: 0 | BY61: 0 | BZ61: nē | CA61: 0 | CB61: 1 | CC61: 0 | CD61: 0 | CE61: nē | CF61: 0 | CG61: 1 | CH61: 0 | CI61: 0 | CJ61: nē | CK61: 0 | CL61: 1 | CM61: 0 | CN61: 0 | CO61: nē | CP61: 0 | CQ61: 1 | CR61: 0 | CS61: 0 | CT61: nē | CU61: 0 | CV61: 1 | CW61: 0 | CX61: 0 | CY61: nē | CZ61: 0 | DA61: 1 | DB61: 0 | DC61: 0 | DD61: nē | DE61: 0 | DF61: 1 | DG61: 0 | DH61: 0 | DI61: nē | DJ61: 0 | DK61: 1 | DL61: 0 | DM61: 0
A62: 96 | B62: 243 | C62: 45939.379 | D62: 45939.379 | E62: 326 | F62: 0 | G62: 0 | H62: 0 | I62: 0 | J62: 1 | K62: 0 | M62: Iekšlietu ministrija | N62: Nodrošinājuma valsts aģentūra | O62: 0 | P62: 0 | Q62: 14 | R62: 4 | S62: 0 | T62: daļēji | U62: 0 | V62: 0 | W62: 1 | X62: 0 | Y62: daļēji | Z62: 0 | AA62: 0 | AB62: 1 | AC62: 0 | AD62: nē | AE62: 0 | AF62: 1 | AG62: 0 | AH62: 0 | AI62: 8 | AJ62: 0 | AK62: 0 | AL62: 1 | AM62: 0 | AN62: 0 | AO62: 0 | AP62: 0 | AQ62: nē | AR62: 0 | AS62: 1 | AT62: 0 | AU62: 0 | AV62: nē | AW62: 0 | AX62: 1 | AY62: 0 | AZ62: 0 | BA62: daļēji | BB62: 0 | BC62: 0 | BD62: 1 | BE62: 0 | BF62: nē | BG62: 0 | BH62: 1 | BI62: 0 | BJ62: 0 | BK62: daļēji | BL62: 0 | BM62: 0 | BN62: 1 | BO62: 0 | BP62: nē | BQ62: 0 | BR62: 1 | BS62: 0 | BT62: 0 | BU62: nē | BV62: 0 | BW62: 1 | BX62: 0 | BY62: 0 | BZ62: nē | CA62: 0 | CB62: 1 | CC62: 0 | CD62: 0 | CE62: nē | CF62: 0 | CG62: 1 | CH62: 0 | CI62: 0 | CJ62: nē | CK62: 0 | CL62: 1 | CM62: 0 | CN62: 0 | CO62: nē | CP62: 0 | CQ62: 1 | CR62: 0 | CS62: 0 | CT62: nē | CU62: 0 | CV62: 1 | CW62: 0 | CX62: 0 | CY62: nē | CZ62: 0 | DA62: 1 | DB62: 0 | DC62: 0 | DD62: nē | DE62: 0 | DF62: 1 | DG62: 0 | DH62: 0 | DI62: nē | DJ62: 0 | DK62: 1 | DL62: 0 | DM62: 0
A63: 95 | B63: 242 | C63: 45938.417 | D63: 45938.417 | E63: 327 | F63: 0 | G63: 0 | H63: 0 | I63: 0 | J63: 1 | K63: 0 | M63: Aizsardzības ministrija | N63: SIA "Valsts aizsardzības korporācija" | O63: 0 | P63: 0 | Q63: 18 | R63: 0 | S63: 0 | T63: nē | U63: 0 | V63: 1 | W63: 0 | X63: 0 | Y63: nē | Z63: 0 | AA63: 1 | AB63: 0 | AC63: 0 | AD63: nē | AE63: 0 | AF63: 1 | AG63: 0 | AH63: 0 | AI63: nav | AJ63: 1 | AK63: 0 | AL63: 0 | AM63: 0 | AN63: 0 | AO63: 0 | AP63: 0 | AQ63: nē | AR63: 0 | AS63: 1 | AT63: 0 | AU63: 0 | AV63: nē | AW63: 0 | AX63: 1 | AY63: 0 | AZ63: 0 | BA63: nē | BB63: 0 | BC63: 1 | BD63: 0 | BE63: 0 | BF63: nē | BG63: 0 | BH63: 1 | BI63: 0 | BJ63: 0 | BK63: nē | BL63: 0 | BM63: 1 | BN63: 0 | BO63: 0 | BP63: nē | BQ63: 0 | BR63: 1 | BS63: 0 | BT63: 0 | BU63: nē | BV63: 0 | BW63: 1 | BX63: 0 | BY63: 0 | BZ63: nē | CA63: 0 | CB63: 1 | CC63: 0 | CD63: 0 | CE63: nē | CF63: 0 | CG63: 1 | CH63: 0 | CI63: 0 | CJ63: nē | CK63: 0 | CL63: 1 | CM63: 0 | CN63: 0 | CO63: nē | CP63: 0 | CQ63: 1 | CR63: 0 | CS63: 0 | CT63: nē | CU63: 0 | CV63: 1 | CW63: 0 | CX63: 0 | CY63: nē | CZ63: 0 | DA63: 1 | DB63: 0 | DC63: 0 | DD63: nē | DE63: 0 | DF63: 1 | DG63: 0 | DH63: 0 | DI63: nē | DJ63: 0 | DK63: 1 | DL63: 0 | DM63: 0
A64: 94 | B64: 241 | C64: 45933.551 | D64: 45933.551 | E64: 332 | F64: 0 | G64: 0 | H64: 0 | I64: 0 | J64: 1 | K64: 0 | M64: 0 | N64: Nacionālā kultūras mantojuma pārvalde | O64: 0 | P64: 0 | Q64: 17 | R64: 0 | S64: 1 | T64: jā | U64: 0 | V64: 0 | W64: 0 | X64: 1 | Y64: nē | Z64: 0 | AA64: 1 | AB64: 0 | AC64: 0 | AD64: nē | AE64: 0 | AF64: 1 | AG64: 0 | AH64: 0 | AI64: nav zināms | AJ64: 0 | AK64: 0 | AL64: 0 | AM64: 0 | AN64: 0 | AO64: 0 | AP64: 1 | AQ64: nē | AR64: 0 | AS64: 1 | AT64: 0 | AU64: 0 | AV64: nē | AW64: 0 | AX64: 1 | AY64: 0 | AZ64: 0 | BA64: nē | BB64: 0 | BC64: 1 | BD64: 0 | BE64: 0 | BF64: nē | BG64: 0 | BH64: 1 | BI64: 0 | BJ64: 0 | BK64: nē | BL64: 0 | BM64: 1 | BN64: 0 | BO64: 0 | BP64: nē | BQ64: 0 | BR64: 1 | BS64: 0 | BT64: 0 | BU64: nē | BV64: 0 | BW64: 1 | BX64: 0 | BY64: 0 | BZ64: nē | CA64: 0 | CB64: 1 | CC64: 0 | CD64: 0 | CE64: nē | CF64: 0 | CG64: 1 | CH64: 0 | CI64: 0 | CJ64: nē | CK64: 0 | CL64: 1 | CM64: 0 | CN64: 0 | CO64: nē | CP64: 0 | CQ64: 1 | CR64: 0 | CS64: 0 | CT64: nē | CU64: 0 | CV64: 1 | CW64: 0 | CX64: 0 | CY64: nē | CZ64: 0 | DA64: 1 | DB64: 0 | DC64: 0 | DD64: nē | DE64: 0 | DF64: 1 | DG64: 0 | DH64: 0 | DI64: nē | DJ64: 0 | DK64: 1 | DL64: 0 | DM64: 0
A65: 93 | B65: 240 | C65: 45931.357 | D65: 45931.357 | E65: 334 | F65: 0 | G65: 0 | H65: 0 | I65: 0 | J65: 1 | K65: 0 | M65: 0 | N65: SIA Elektroniskie sakari | O65: 0 | P65: 0 | Q65: 4 | R65: 10 | S65: 4 | T65: daļēji | U65: 0 | V65: 0 | W65: 1 | X65: 0 | Y65: jā | Z65: 0 | AA65: 0 | AB65: 0 | AC65: 1 | AD65: jā | AE65: 0 | AF65: 0 | AG65: 0 | AH65: 1 | AI65: 6 | AJ65: 0 | AK65: 0 | AL65: 1 | AM65: 0 | AN65: 0 | AO65: 0 | AP65: 0 | AQ65: jā | AR65: 0 | AS65: 0 | AT65: 0 | AU65: 1 | AV65: jā | AW65: 0 | AX65: 0 | AY65: 0 | AZ65: 1 | BA65: daļēji | BB65: 0 | BC65: 0 | BD65: 1 | BE65: 0 | BF65: daļēji | BG65: 0 | BH65: 0 | BI65: 1 | BJ65: 0 | BK65: daļēji | BL65: 0 | BM65: 0 | BN65: 1 | BO65: 0 | BP65: daļēji | BQ65: 0 | BR65: 0 | BS65: 1 | BT65: 0 | BU65: daļēji | BV65: 0 | BW65: 0 | BX65: 1 | BY65: 0 | BZ65: nē | CA65: 0 | CB65: 1 | CC65: 0 | CD65: 0 | CE65: daļēji | CF65: 0 | CG65: 0 | CH65: 1 | CI65: 0 | CJ65: daļēji | CK65: 0 | CL65: 0 | CM65: 1 | CN65: 0 | CO65: daļēji | CP65: 0 | CQ65: 0 | CR65: 1 | CS65: 0 | CT65: daļēji | CU65: 0 | CV65: 0 | CW65: 1 | CX65: 0 | CY65: nē | CZ65: 0 | DA65: 1 | DB65: 0 | DC65: 0 | DD65: nē | DE65: 0 | DF65: 1 | DG65: 0 | DH65: 0 | DI65: nē | DJ65: 0 | DK65: 1 | DL65: 0 | DM65: 0
A66: 85 | B66: 230 | C66: 45930.407 | D66: 45930.407 | E66: 335 | F66: 0 | G66: 0 | H66: 0 | I66: 0 | J66: 1 | K66: 0 | M66: 0 | N66: SIA "Latvijas Nacionālais sporta centrs" | O66: 0 | P66: 0 | Q66: 15 | R66: 0 | S66: 3 | T66: nē | U66: 0 | V66: 1 | W66: 0 | X66: 0 | Y66: nē | Z66: 0 | AA66: 1 | AB66: 0 | AC66: 0 | AD66: nē | AE66: 0 | AF66: 1 | AG66: 0 | AH66: 0 | AI66: nav zināms | AJ66: 0 | AK66: 0 | AL66: 0 | AM66: 0 | AN66: 0 | AO66: 0 | AP66: 1 | AQ66: nē | AR66: 0 | AS66: 1 | AT66: 0 | AU66: 0 | AV66: nē | AW66: 0 | AX66: 1 | AY66: 0 | AZ66: 0 | BA66: nē | BB66: 0 | BC66: 1 | BD66: 0 | BE66: 0 | BF66: nē | BG66: 0 | BH66: 1 | BI66: 0 | BJ66: 0 | BK66: nē | BL66: 0 | BM66: 1 | BN66: 0 | BO66: 0 | BP66: nē | BQ66: 0 | BR66: 1 | BS66: 0 | BT66: 0 | BU66: nē | BV66: 0 | BW66: 1 | BX66: 0 | BY66: 0 | BZ66: nē | CA66: 0 | CB66: 1 | CC66: 0 | CD66: 0 | CE66: nē | CF66: 0 | CG66: 1 | CH66: 0 | CI66: 0 | CJ66: nē | CK66: 0 | CL66: 1 | CM66: 0 | CN66: 0 | CO66: nē | CP66: 0 | CQ66: 1 | CR66: 0 | CS66: 0 | CT66: nē | CU66: 0 | CV66: 1 | CW66: 0 | CX66: 0 | CY66: jā | CZ66: 0 | DA66: 0 | DB66: 0 | DC66: 1 | DD66: jā | DE66: 0 | DF66: 0 | DG66: 0 | DH66: 1 | DI66: jā | DJ66: 0 | DK66: 0 | DL66: 0 | DM66: 1
A67: 87 | B67: 232 | C67: 45930.434 | D67: 45930.434 | E67: 335 | F67: 0 | G67: 0 | H67: 0 | I67: 0 | J67: 1 | K67: 0 | M67: 0 | N67: Pārtikas un veterinārais dienests | O67: 0 | P67: 0 | Q67: 0 | R67: 3 | S67: 15 | T67: jā | U67: 0 | V67: 0 | W67: 0 | X67: 1 | Y67: daļēji | Z67: 0 | AA67: 0 | AB67: 1 | AC67: 0 | AD67: jā | AE67: 0 | AF67: 0 | AG67: 0 | AH67: 1 | AI67: 46 | AJ67: 0 | AK67: 0 | AL67: 0 | AM67: 0 | AN67: 1 | AO67: 0 | AP67: 0 | AQ67: jā | AR67: 0 | AS67: 0 | AT67: 0 | AU67: 1 | AV67: daļēji | AW67: 0 | AX67: 0 | AY67: 1 | AZ67: 0 | BA67: jā | BB67: 0 | BC67: 0 | BD67: 0 | BE67: 1 | BF67: jā | BG67: 0 | BH67: 0 | BI67: 0 | BJ67: 1 | BK67: jā | BL67: 0 | BM67: 0 | BN67: 0 | BO67: 1 | BP67: jā | BQ67: 0 | BR67: 0 | BS67: 0 | BT67: 1 | BU67: jā | BV67: 0 | BW67: 0 | BX67: 0 | BY67: 1 | BZ67: jā | CA67: 0 | CB67: 0 | CC67: 0 | CD67: 1 | CE67: jā | CF67: 0 | CG67: 0 | CH67: 0 | CI67: 1 | CJ67: jā | CK67: 0 | CL67: 0 | CM67: 0 | CN67: 1 | CO67: jā | CP67: 0 | CQ67: 0 | CR67: 0 | CS67: 1 | CT67: daļēji | CU67: 0 | CV67: 0 | CW67: 1 | CX67: 0 | CY67: jā | CZ67: 0 | DA67: 0 | DB67: 0 | DC67: 1 | DD67: jā | DE67: 0 | DF67: 0 | DG67: 0 | DH67: 1 | DI67: jā | DJ67: 0 | DK67: 0 | DL67: 0 | DM67: 1
A68: 89 | B68: 234 | C68: 45930.454 | D68: 45930.454 | E68: 335 | F68: 0 | G68: 0 | H68: 0 | I68: 0 | J68: 1 | K68: 0 | M68: 0 | N68: Latvijas Investīciju un attīstības aģentūra | O68: 0 | P68: 0 | Q68: 10 | R68: 2 | S68: 6 | T68: jā | U68: 0 | V68: 0 | W68: 0 | X68: 1 | Y68: jā | Z68: 0 | AA68: 0 | AB68: 0 | AC68: 1 | AD68: daļēji | AE68: 0 | AF68: 0 | AG68: 1 | AH68: 0 | AI68: 36 | AJ68: 0 | AK68: 0 | AL68: 0 | AM68: 0 | AN68: 1 | AO68: 0 | AP68: 0 | AQ68: daļēji | AR68: 0 | AS68: 0 | AT68: 1 | AU68: 0 | AV68: nē | AW68: 0 | AX68: 1 | AY68: 0 | AZ68: 0 | BA68: jā | BB68: 0 | BC68: 0 | BD68: 0 | BE68: 1 | BF68: jā | BG68: 0 | BH68: 0 | BI68: 0 | BJ68: 1 | BK68: jā | BL68: 0 | BM68: 0 | BN68: 0 | BO68: 1 | BP68: nē | BQ68: 0 | BR68: 1 | BS68: 0 | BT68: 0 | BU68: nē | BV68: 0 | BW68: 1 | BX68: 0 | BY68: 0 | BZ68: nē | CA68: 0 | CB68: 1 | CC68: 0 | CD68: 0 | CE68: jā | CF68: 0 | CG68: 0 | CH68: 0 | CI68: 1 | CJ68: nē | CK68: 0 | CL68: 1 | CM68: 0 | CN68: 0 | CO68: nē | CP68: 0 | CQ68: 1 | CR68: 0 | CS68: 0 | CT68: nē | CU68: 0 | CV68: 1 | CW68: 0 | CX68: 0 | CY68: nē | CZ68: 0 | DA68: 1 | DB68: 0 | DC68: 0 | DD68: nē | DE68: 0 | DF68: 1 | DG68: 0 | DH68: 0 | DI68: nē | DJ68: 0 | DK68: 1 | DL68: 0 | DM68: 0
A69: 90 | B69: 235 | C69: 45930.46 | D69: 45930.46 | E69: 335 | F69: 0 | G69: 0 | H69: 0 | I69: 0 | J69: 1 | K69: 0 | M69: 0 | N69: VSIA Latvijas Vides, ģeoloģijas un meteoroloģijas centrs | O69: 0 | P69: 0 | Q69: 14 | R69: 4 | S69: 0 | T69: daļēji | U69: 0 | V69: 0 | W69: 1 | X69: 0 | Y69: nē | Z69: 0 | AA69: 1 | AB69: 0 | AC69: 0 | AD69: nē | AE69: 0 | AF69: 1 | AG69: 0 | AH69: 0 | AI69: 85 | AJ69: 0 | AK69: 0 | AL69: 0 | AM69: 0 | AN69: 1 | AO69: 0 | AP69: 0 | AQ69: daļēji | AR69: 0 | AS69: 0 | AT69: 1 | AU69: 0 | AV69: daļēji | AW69: 0 | AX69: 0 | AY69: 1 | AZ69: 0 | BA69: nē | BB69: 0 | BC69: 1 | BD69: 0 | BE69: 0 | BF69: daļēji | BG69: 0 | BH69: 0 | BI69: 1 | BJ69: 0 | BK69: nē | BL69: 0 | BM69: 1 | BN69: 0 | BO69: 0 | BP69: nē | BQ69: 0 | BR69: 1 | BS69: 0 | BT69: 0 | BU69: nē | BV69: 0 | BW69: 1 | BX69: 0 | BY69: 0 | BZ69: nē | CA69: 0 | CB69: 1 | CC69: 0 | CD69: 0 | CE69: nē | CF69: 0 | CG69: 1 | CH69: 0 | CI69: 0 | CJ69: nē | CK69: 0 | CL69: 1 | CM69: 0 | CN69: 0 | CO69: nē | CP69: 0 | CQ69: 1 | CR69: 0 | CS69: 0 | CT69: nē | CU69: 0 | CV69: 1 | CW69: 0 | CX69: 0 | CY69: nē | CZ69: 0 | DA69: 1 | DB69: 0 | DC69: 0 | DD69: nē | DE69: 0 | DF69: 1 | DG69: 0 | DH69: 0 | DI69: nē | DJ69: 0 | DK69: 1 | DL69: 0 | DM69: 0
A70: 91 | B70: 236 | C70: 45930.522 | D70: 45930.522 | E70: 335 | F70: 0 | G70: 0 | H70: 0 | I70: 0 | J70: 1 | K70: 0 | M70: 0 | N70: AS "Pasažieru vilciens" | O70: 0 | P70: 0 | Q70: 15 | R70: 1 | S70: 2 | T70: nē | U70: 0 | V70: 1 | W70: 0 | X70: 0 | Y70: jā | Z70: 0 | AA70: 0 | AB70: 0 | AC70: 1 | AD70: daļēji | AE70: 0 | AF70: 0 | AG70: 1 | AH70: 0 | AI70: nav zināms | AJ70: 0 | AK70: 0 | AL70: 0 | AM70: 0 | AN70: 0 | AO70: 0 | AP70: 1 | AQ70: jā | AR70: 0 | AS70: 0 | AT70: 0 | AU70: 1 | AV70: nē | AW70: 0 | AX70: 1 | AY70: 0 | AZ70: 0 | BA70: nē | BB70: 0 | BC70: 1 | BD70: 0 | BE70: 0 | BF70: nē | BG70: 0 | BH70: 1 | BI70: 0 | BJ70: 0 | BK70: nē | BL70: 0 | BM70: 1 | BN70: 0 | BO70: 0 | BP70: nē | BQ70: 0 | BR70: 1 | BS70: 0 | BT70: 0 | BU70: nē | BV70: 0 | BW70: 1 | BX70: 0 | BY70: 0 | BZ70: nē | CA70: 0 | CB70: 1 | CC70: 0 | CD70: 0 | CE70: nē | CF70: 0 | CG70: 1 | CH70: 0 | CI70: 0 | CJ70: nē | CK70: 0 | CL70: 1 | CM70: 0 | CN70: 0 | CO70: nē | CP70: 0 | CQ70: 1 | CR70: 0 | CS70: 0 | CT70: nē | CU70: 0 | CV70: 1 | CW70: 0 | CX70: 0 | CY70: nē | CZ70: 0 | DA70: 1 | DB70: 0 | DC70: 0 | DD70: nē | DE70: 0 | DF70: 1 | DG70: 0 | DH70: 0 | DI70: nē | DJ70: 0 | DK70: 1 | DL70: 0 | DM70: 0
A71: 92 | B71: 238 | C71: 45930.598 | D71: 45930.598 | E71: 335 | F71: 0 | G71: 0 | H71: 0 | I71: 0 | J71: 1 | K71: 0 | M71: 0 | N71: Nacionālais veselības dienests | O71: 0 | P71: 0 | Q71: 6 | R71: 3 | S71: 9 | T71: jā | U71: 0 | V71: 0 | W71: 0 | X71: 1 | Y71: jā | Z71: 0 | AA71: 0 | AB71: 0 | AC71: 1 | AD71: nē | AE71: 0 | AF71: 1 | AG71: 0 | AH71: 0 | AI71: nav zināms | AJ71: 0 | AK71: 0 | AL71: 0 | AM71: 0 | AN71: 0 | AO71: 0 | AP71: 1 | AQ71: jā | AR71: 0 | AS71: 0 | AT71: 0 | AU71: 1 | AV71: jā | AW71: 0 | AX71: 0 | AY71: 0 | AZ71: 1 | BA71: jā | BB71: 0 | BC71: 0 | BD71: 0 | BE71: 1 | BF71: daļēji | BG71: 0 | BH71: 0 | BI71: 1 | BJ71: 0 | BK71: daļēji | BL71: 0 | BM71: 0 | BN71: 1 | BO71: 0 | BP71: jā | BQ71: 0 | BR71: 0 | BS71: 0 | BT71: 1 | BU71: jā | BV71: 0 | BW71: 0 | BX71: 0 | BY71: 1 | BZ71: nē | CA71: 0 | CB71: 1 | CC71: 0 | CD71: 0 | CE71: daļēji | CF71: 0 | CG71: 0 | CH71: 1 | CI71: 0 | CJ71: jā | CK71: 0 | CL71: 0 | CM71: 0 | CN71: 1 | CO71: jā | CP71: 0 | CQ71: 0 | CR71: 0 | CS71: 1 | CT71: nē | CU71: 0 | CV71: 1 | CW71: 0 | CX71: 0 | CY71: nē | CZ71: 0 | DA71: 1 | DB71: 0 | DC71: 0 | DD71: nē | DE71: 0 | DF71: 1 | DG71: 0 | DH71: 0 | DI71: nē | DJ71: 0 | DK71: 1 | DL71: 0 | DM71: 0
A72: 78 | B72: 222 | C72: 45929.43 | D72: 45929.43 | E72: 336 | F72: 0 | G72: 0 | H72: 0 | I72: 0 | J72: 1 | K72: 0 | M72: 0 | N72: Latvija Ģeotelpiskās informācijas aģentūra | O72: 0 | P72: 0 | Q72: 3 | R72: 4 | S72: 11 | T72: jā | U72: 0 | V72: 0 | W72: 0 | X72: 1 | Y72: daļēji | Z72: 0 | AA72: 0 | AB72: 1 | AC72: 0 | AD72: jā | AE72: 0 | AF72: 0 | AG72: 0 | AH72: 1 | AI72: 72 | AJ72: 0 | AK72: 0 | AL72: 0 | AM72: 0 | AN72: 1 | AO72: 0 | AP72: 0 | AQ72: jā | AR72: 0 | AS72: 0 | AT72: 0 | AU72: 1 | AV72: daļēji | AW72: 0 | AX72: 0 | AY72: 1 | AZ72: 0 | BA72: jā | BB72: 0 | BC72: 0 | BD72: 0 | BE72: 1 | BF72: jā | BG72: 0 | BH72: 0 | BI72: 0 | BJ72: 1 | BK72: jā | BL72: 0 | BM72: 0 | BN72: 0 | BO72: 1 | BP72: jā | BQ72: 0 | BR72: 0 | BS72: 0 | BT72: 1 | BU72: jā | BV72: 0 | BW72: 0 | BX72: 0 | BY72: 1 | BZ72: daļēji | CA72: 0 | CB72: 0 | CC72: 1 | CD72: 0 | CE72: jā | CF72: 0 | CG72: 0 | CH72: 0 | CI72: 1 | CJ72: jā | CK72: 0 | CL72: 0 | CM72: 0 | CN72: 1 | CO72: jā | CP72: 0 | CQ72: 0 | CR72: 0 | CS72: 1 | CT72: daļēji | CU72: 0 | CV72: 0 | CW72: 1 | CX72: 0 | CY72: nē | CZ72: 0 | DA72: 1 | DB72: 0 | DC72: 0 | DD72: nē | DE72: 0 | DF72: 1 | DG72: 0 | DH72: 0 | DI72: nē | DJ72: 0 | DK72: 1 | DL72: 0 | DM72: 0
A73: 79 | B73: 224 | C73: 45929.446 | D73: 45929.446 | E73: 336 | F73: 0 | G73: 0 | H73: 0 | I73: 0 | J73: 1 | K73: 0 | M73: 0 | N73: Valsts tiesu ekspertīžu birojs | O73: 0 | P73: 0 | Q73: 0 | R73: 0 | S73: 18 | T73: jā | U73: 0 | V73: 0 | W73: 0 | X73: 1 | Y73: jā | Z73: 0 | AA73: 0 | AB73: 0 | AC73: 1 | AD73: jā | AE73: 0 | AF73: 0 | AG73: 0 | AH73: 1 | AI73: 1 | AJ73: 0 | AK73: 1 | AL73: 0 | AM73: 0 | AN73: 0 | AO73: 0 | AP73: 0 | AQ73: jā | AR73: 0 | AS73: 0 | AT73: 0 | AU73: 1 | AV73: jā | AW73: 0 | AX73: 0 | AY73: 0 | AZ73: 1 | BA73: jā | BB73: 0 | BC73: 0 | BD73: 0 | BE73: 1 | BF73: jā | BG73: 0 | BH73: 0 | BI73: 0 | BJ73: 1 | BK73: jā | BL73: 0 | BM73: 0 | BN73: 0 | BO73: 1 | BP73: jā | BQ73: 0 | BR73: 0 | BS73: 0 | BT73: 1 | BU73: jā | BV73: 0 | BW73: 0 | BX73: 0 | BY73: 1 | BZ73: jā | CA73: 0 | CB73: 0 | CC73: 0 | CD73: 1 | CE73: jā | CF73: 0 | CG73: 0 | CH73: 0 | CI73: 1 | CJ73: jā | CK73: 0 | CL73: 0 | CM73: 0 | CN73: 1 | CO73: jā | CP73: 0 | CQ73: 0 | CR73: 0 | CS73: 1 | CT73: jā | CU73: 0 | CV73: 0 | CW73: 0 | CX73: 1 | CY73: jā | CZ73: 0 | DA73: 0 | DB73: 0 | DC73: 1 | DD73: jā | DE73: 0 | DF73: 0 | DG73: 0 | DH73: 1 | DI73: jā | DJ73: 0 | DK73: 0 | DL73: 0 | DM73: 1
A74: 80 | B74: 225 | C74: 45929.493 | D74: 45929.493 | E74: 336 | F74: 0 | G74: 0 | H74: 0 | I74: 0 | J74: 1 | K74: 0 | M74: 0 | N74: Datu valsts inspekcija | O74: 0 | P74: 0 | Q74: 3 | R74: 0 | S74: 15 | T74: jā | U74: 0 | V74: 0 | W74: 0 | X74: 1 | Y74: jā | Z74: 0 | AA74: 0 | AB74: 0 | AC74: 1 | AD74: jā | AE74: 0 | AF74: 0 | AG74: 0 | AH74: 1 | AI74: 8 | AJ74: 0 | AK74: 0 | AL74: 1 | AM74: 0 | AN74: 0 | AO74: 0 | AP74: 0 | AQ74: jā | AR74: 0 | AS74: 0 | AT74: 0 | AU74: 1 | AV74: nē | AW74: 0 | AX74: 1 | AY74: 0 | AZ74: 0 | BA74: jā | BB74: 0 | BC74: 0 | BD74: 0 | BE74: 1 | BF74: jā | BG74: 0 | BH74: 0 | BI74: 0 | BJ74: 1 | BK74: jā | BL74: 0 | BM74: 0 | BN74: 0 | BO74: 1 | BP74: jā | BQ74: 0 | BR74: 0 | BS74: 0 | BT74: 1 | BU74: jā | BV74: 0 | BW74: 0 | BX74: 0 | BY74: 1 | BZ74: jā | CA74: 0 | CB74: 0 | CC74: 0 | CD74: 1 | CE74: jā | CF74: 0 | CG74: 0 | CH74: 0 | CI74: 1 | CJ74: jā | CK74: 0 | CL74: 0 | CM74: 0 | CN74: 1 | CO74: jā | CP74: 0 | CQ74: 0 | CR74: 0 | CS74: 1 | CT74: jā | CU74: 0 | CV74: 0 | CW74: 0 | CX74: 1 | CY74: jā | CZ74: 0 | DA74: 0 | DB74: 0 | DC74: 1 | DD74: nē | DE74: 0 | DF74: 1 | DG74: 0 | DH74: 0 | DI74: nē | DJ74: 0 | DK74: 1 | DL74: 0 | DM74: 0
A75: 81 | B75: 226 | C75: 45929.571 | D75: 45929.571 | E75: 336 | F75: 0 | G75: 0 | H75: 0 | I75: 0 | J75: 1 | K75: 0 | M75: 0 | N75: Nacionālā elektronisko plašsaziņas līdzekļu padome | O75: 0 | P75: 0 | Q75: 9 | R75: 7 | S75: 2 | T75: daļēji | U75: 0 | V75: 0 | W75: 1 | X75: 0 | Y75: jā | Z75: 0 | AA75: 0 | AB75: 0 | AC75: 1 | AD75: nē | AE75: 0 | AF75: 1 | AG75: 0 | AH75: 0 | AI75: nav | AJ75: 1 | AK75: 0 | AL75: 0 | AM75: 0 | AN75: 0 | AO75: 0 | AP75: 0 | AQ75: jā | AR75: 0 | AS75: 0 | AT75: 0 | AU75: 1 | AV75: nē | AW75: 0 | AX75: 1 | AY75: 0 | AZ75: 0 | BA75: daļēji | BB75: 0 | BC75: 0 | BD75: 1 | BE75: 0 | BF75: daļēji | BG75: 0 | BH75: 0 | BI75: 1 | BJ75: 0 | BK75: daļēji | BL75: 0 | BM75: 0 | BN75: 1 | BO75: 0 | BP75: daļēji | BQ75: 0 | BR75: 0 | BS75: 1 | BT75: 0 | BU75: nē | BV75: 0 | BW75: 1 | BX75: 0 | BY75: 0 | BZ75: nē | CA75: 0 | CB75: 1 | CC75: 0 | CD75: 0 | CE75: daļēji | CF75: 0 | CG75: 0 | CH75: 1 | CI75: 0 | CJ75: daļēji | CK75: 0 | CL75: 0 | CM75: 1 | CN75: 0 | CO75: nē | CP75: 0 | CQ75: 1 | CR75: 0 | CS75: 0 | CT75: nē | CU75: 0 | CV75: 1 | CW75: 0 | CX75: 0 | CY75: nē | CZ75: 0 | DA75: 1 | DB75: 0 | DC75: 0 | DD75: nē | DE75: 0 | DF75: 1 | DG75: 0 | DH75: 0 | DI75: nē | DJ75: 0 | DK75: 1 | DL75: 0 | DM75: 0
A76: 82 | B76: 227 | C76: 45929.623 | D76: 45929.623 | E76: 336 | F76: 0 | G76: 0 | H76: 0 | I76: 0 | J76: 1 | K76: 0 | M76: 0 | N76: Latviešu valodas aģentūra | O76: 0 | P76: 0 | Q76: 1 | R76: 3 | S76: 14 | T76: daļēji | U76: 0 | V76: 0 | W76: 1 | X76: 0 | Y76: jā | Z76: 0 | AA76: 0 | AB76: 0 | AC76: 1 | AD76: jā | AE76: 0 | AF76: 0 | AG76: 0 | AH76: 1 | AI76: 2 | AJ76: 0 | AK76: 1 | AL76: 0 | AM76: 0 | AN76: 0 | AO76: 0 | AP76: 0 | AQ76: jā | AR76: 0 | AS76: 0 | AT76: 0 | AU76: 1 | AV76: jā | AW76: 0 | AX76: 0 | AY76: 0 | AZ76: 1 | BA76: jā | BB76: 0 | BC76: 0 | BD76: 0 | BE76: 1 | BF76: jā | BG76: 0 | BH76: 0 | BI76: 0 | BJ76: 1 | BK76: daļēji | BL76: 0 | BM76: 0 | BN76: 1 | BO76: 0 | BP76: jā | BQ76: 0 | BR76: 0 | BS76: 0 | BT76: 1 | BU76: jā | BV76: 0 | BW76: 0 | BX76: 0 | BY76: 1 | BZ76: daļēji | CA76: 0 | CB76: 0 | CC76: 1 | CD76: 0 | CE76: jā | CF76: 0 | CG76: 0 | CH76: 0 | CI76: 1 | CJ76: jā | CK76: 0 | CL76: 0 | CM76: 0 | CN76: 1 | CO76: jā | CP76: 0 | CQ76: 0 | CR76: 0 | CS76: 1 | CT76: nē | CU76: 0 | CV76: 1 | CW76: 0 | CX76: 0 | CY76: jā | CZ76: 0 | DA76: 0 | DB76: 0 | DC76: 1 | DD76: jā | DE76: 0 | DF76: 0 | DG76: 0 | DH76: 1 | DI76: jā | DJ76: 0 | DK76: 0 | DL76: 0 | DM76: 1
A77: 83 | B77: 228 | C77: 45929.623 | D77: 45929.623 | E77: 336 | F77: 0 | G77: 0 | H77: 0 | I77: 0 | J77: 1 | K77: 0 | M77: 0 | N77: Izglītības kvalitātes valsts dienests | O77: 0 | P77: 0 | Q77: 0 | R77: 10 | S77: 8 | T77: daļēji | U77: 0 | V77: 0 | W77: 1 | X77: 0 | Y77: jā | Z77: 0 | AA77: 0 | AB77: 0 | AC77: 1 | AD77: jā | AE77: 0 | AF77: 0 | AG77: 0 | AH77: 1 | AI77: 10 | AJ77: 0 | AK77: 0 | AL77: 1 | AM77: 0 | AN77: 0 | AO77: 0 | AP77: 0 | AQ77: jā | AR77: 0 | AS77: 0 | AT77: 0 | AU77: 1 | AV77: jā | AW77: 0 | AX77: 0 | AY77: 0 | AZ77: 1 | BA77: jā | BB77: 0 | BC77: 0 | BD77: 0 | BE77: 1 | BF77: daļēji | BG77: 0 | BH77: 0 | BI77: 1 | BJ77: 0 | BK77: daļēji | BL77: 0 | BM77: 0 | BN77: 1 | BO77: 0 | BP77: daļēji | BQ77: 0 | BR77: 0 | BS77: 1 | BT77: 0 | BU77: daļēji | BV77: 0 | BW77: 0 | BX77: 1 | BY77: 0 | BZ77: daļēji | CA77: 0 | CB77: 0 | CC77: 1 | CD77: 0 | CE77: daļēji | CF77: 0 | CG77: 0 | CH77: 1 | CI77: 0 | CJ77: daļēji | CK77: 0 | CL77: 0 | CM77: 1 | CN77: 0 | CO77: daļēji | CP77: 0 | CQ77: 0 | CR77: 1 | CS77: 0 | CT77: daļēji | CU77: 0 | CV77: 0 | CW77: 1 | CX77: 0 | CY77: jā | CZ77: 0 | DA77: 0 | DB77: 0 | DC77: 1 | DD77: jā | DE77: 0 | DF77: 0 | DG77: 0 | DH77: 1 | DI77: jā | DJ77: 0 | DK77: 0 | DL77: 0 | DM77: 1
A78: 84 | B78: 229 | C78: 45929.674 | D78: 45929.674 | E78: 336 | F78: 0 | G78: 0 | H78: 0 | I78: 0 | J78: 1 | K78: 0 | M78: 0 | N78: Latvijas Antidopinga birojs | O78: 0 | P78: 0 | Q78: 8 | R78: 8 | S78: 2 | T78: daļēji | U78: 0 | V78: 0 | W78: 1 | X78: 0 | Y78: nē | Z78: 0 | AA78: 1 | AB78: 0 | AC78: 0 | AD78: jā | AE78: 0 | AF78: 0 | AG78: 0 | AH78: 1 | AI78: 2 | AJ78: 0 | AK78: 1 | AL78: 0 | AM78: 0 | AN78: 0 | AO78: 0 | AP78: 0 | AQ78: daļēji | AR78: 0 | AS78: 0 | AT78: 1 | AU78: 0 | AV78: jā | AW78: 0 | AX78: 0 | AY78: 0 | AZ78: 1 | BA78: daļēji | BB78: 0 | BC78: 0 | BD78: 1 | BE78: 0 | BF78: daļēji | BG78: 0 | BH78: 0 | BI78: 1 | BJ78: 0 | BK78: nē | BL78: 0 | BM78: 1 | BN78: 0 | BO78: 0 | BP78: nē | BQ78: 0 | BR78: 1 | BS78: 0 | BT78: 0 | BU78: nē | BV78: 0 | BW78: 1 | BX78: 0 | BY78: 0 | BZ78: nē | CA78: 0 | CB78: 1 | CC78: 0 | CD78: 0 | CE78: daļēji | CF78: 0 | CG78: 0 | CH78: 1 | CI78: 0 | CJ78: daļēji | CK78: 0 | CL78: 0 | CM78: 1 | CN78: 0 | CO78: daļēji | CP78: 0 | CQ78: 0 | CR78: 1 | CS78: 0 | CT78: daļēji | CU78: 0 | CV78: 0 | CW78: 1 | CX78: 0 | CY78: nē | CZ78: 0 | DA78: 1 | DB78: 0 | DC78: 0 | DD78: nē | DE78: 0 | DF78: 1 | DG78: 0 | DH78: 0 | DI78: nē | DJ78: 0 | DK78: 1 | DL78: 0 | DM78: 0
A79: 76 | B79: 215 | C79: 45926.386 | D79: 45926.386 | E79: 339 | F79: 0 | G79: 0 | H79: 0 | I79: 0 | J79: 1 | K79: 0 | M79: 0 | N79: Valsts administrācijas skola | O79: 0 | P79: 0 | Q79: 1 | R79: 6 | S79: 11 | T79: jā | U79: 0 | V79: 0 | W79: 0 | X79: 1 | Y79: jā | Z79: 0 | AA79: 0 | AB79: 0 | AC79: 1 | AD79: jā | AE79: 0 | AF79: 0 | AG79: 0 | AH79: 1 | AI79: 4 | AJ79: 0 | AK79: 0 | AL79: 1 | AM79: 0 | AN79: 0 | AO79: 0 | AP79: 0 | AQ79: jā | AR79: 0 | AS79: 0 | AT79: 0 | AU79: 1 | AV79: nē | AW79: 0 | AX79: 1 | AY79: 0 | AZ79: 0 | BA79: jā | BB79: 0 | BC79: 0 | BD79: 0 | BE79: 1 | BF79: jā | BG79: 0 | BH79: 0 | BI79: 0 | BJ79: 1 | BK79: jā | BL79: 0 | BM79: 0 | BN79: 0 | BO79: 1 | BP79: daļēji | BQ79: 0 | BR79: 0 | BS79: 1 | BT79: 0 | BU79: daļēji | BV79: 0 | BW79: 0 | BX79: 1 | BY79: 0 | BZ79: daļēji | CA79: 0 | CB79: 0 | CC79: 1 | CD79: 0 | CE79: jā | CF79: 0 | CG79: 0 | CH79: 0 | CI79: 1 | CJ79: daļēji | CK79: 0 | CL79: 0 | CM79: 1 | CN79: 0 | CO79: daļēji | CP79: 0 | CQ79: 0 | CR79: 1 | CS79: 0 | CT79: daļēji | CU79: 0 | CV79: 0 | CW79: 1 | CX79: 0 | CY79: jā | CZ79: 0 | DA79: 0 | DB79: 0 | DC79: 1 | DD79: jā | DE79: 0 | DF79: 0 | DG79: 0 | DH79: 1 | DI79: jā | DJ79: 0 | DK79: 0 | DL79: 0 | DM79: 1
A80: 77 | B80: 220 | C80: 45926.748 | D80: 45926.748 | E80: 339 | F80: 0 | G80: 0 | H80: 0 | I80: 0 | J80: 1 | K80: 0 | M80: 0 | N80: Konkurences padome | O80: 0 | P80: 0 | Q80: 11 | R80: 4 | S80: 3 | T80: daļēji | U80: 0 | V80: 0 | W80: 1 | X80: 0 | Y80: jā | Z80: 0 | AA80: 0 | AB80: 0 | AC80: 1 | AD80: jā | AE80: 0 | AF80: 0 | AG80: 0 | AH80: 1 | AI80: 1 | AJ80: 0 | AK80: 1 | AL80: 0 | AM80: 0 | AN80: 0 | AO80: 0 | AP80: 0 | AQ80: jā | AR80: 0 | AS80: 0 | AT80: 0 | AU80: 1 | AV80: nē | AW80: 0 | AX80: 1 | AY80: 0 | AZ80: 0 | BA80: daļēji | BB80: 0 | BC80: 0 | BD80: 1 | BE80: 0 | BF80: daļēji | BG80: 0 | BH80: 0 | BI80: 1 | BJ80: 0 | BK80: daļēji | BL80: 0 | BM80: 0 | BN80: 1 | BO80: 0 | BP80: nē | BQ80: 0 | BR80: 1 | BS80: 0 | BT80: 0 | BU80: nē | BV80: 0 | BW80: 1 | BX80: 0 | BY80: 0 | BZ80: nē | CA80: 0 | CB80: 1 | CC80: 0 | CD80: 0 | CE80: nē | CF80: 0 | CG80: 1 | CH80: 0 | CI80: 0 | CJ80: nē | CK80: 0 | CL80: 1 | CM80: 0 | CN80: 0 | CO80: nē | CP80: 0 | CQ80: 1 | CR80: 0 | CS80: 0 | CT80: nē | CU80: 0 | CV80: 1 | CW80: 0 | CX80: 0 | CY80: nē | CZ80: 0 | DA80: 1 | DB80: 0 | DC80: 0 | DD80: nē | DE80: 0 | DF80: 1 | DG80: 0 | DH80: 0 | DI80: nē | DJ80: 0 | DK80: 1 | DL80: 0 | DM80: 0
A81: 74 | B81: 209 | C81: 45924.436 | D81: 45924.436 | E81: 341 | F81: 0 | G81: 0 | H81: 0 | I81: 0 | J81: 1 | K81: 0 | M81: 0 | N81: VAS Valsts nekustamie īpašumi | O81: 0 | P81: 0 | Q81: 8 | R81: 8 | S81: 2 | T81: nē | U81: 0 | V81: 1 | W81: 0 | X81: 0 | Y81: daļēji | Z81: 0 | AA81: 0 | AB81: 1 | AC81: 0 | AD81: jā | AE81: 0 | AF81: 0 | AG81: 0 | AH81: 1 | AI81: 2 | AJ81: 0 | AK81: 1 | AL81: 0 | AM81: 0 | AN81: 0 | AO81: 0 | AP81: 0 | AQ81: jā | AR81: 0 | AS81: 0 | AT81: 0 | AU81: 1 | AV81: nē | AW81: 0 | AX81: 1 | AY81: 0 | AZ81: 0 | BA81: daļēji | BB81: 0 | BC81: 0 | BD81: 1 | BE81: 0 | BF81: daļēji | BG81: 0 | BH81: 0 | BI81: 1 | BJ81: 0 | BK81: daļēji | BL81: 0 | BM81: 0 | BN81: 1 | BO81: 0 | BP81: nē | BQ81: 0 | BR81: 1 | BS81: 0 | BT81: 0 | BU81: nē | BV81: 0 | BW81: 1 | BX81: 0 | BY81: 0 | BZ81: nē | CA81: 0 | CB81: 1 | CC81: 0 | CD81: 0 | CE81: daļēji | CF81: 0 | CG81: 0 | CH81: 1 | CI81: 0 | CJ81: daļēji | CK81: 0 | CL81: 0 | CM81: 1 | CN81: 0 | CO81: daļēji | CP81: 0 | CQ81: 0 | CR81: 1 | CS81: 0 | CT81: daļēji | CU81: 0 | CV81: 0 | CW81: 1 | CX81: 0 | CY81: nē | CZ81: 0 | DA81: 1 | DB81: 0 | DC81: 0 | DD81: nē | DE81: 0 | DF81: 1 | DG81: 0 | DH81: 0 | DI81: nē | DJ81: 0 | DK81: 1 | DL81: 0 | DM81: 0
A82: 75 | B82: 210 | C82: 45924.439 | D82: 45924.439 | E82: 341 | F82: 0 | G82: 0 | H82: 0 | I82: 0 | J82: 1 | K82: 0 | M82: 0 | N82: Valsts augu aizsardzības dienests | O82: 0 | P82: 0 | Q82: 3 | R82: 7 | S82: 8 | T82: jā | U82: 0 | V82: 0 | W82: 0 | X82: 1 | Y82: jā | Z82: 0 | AA82: 0 | AB82: 0 | AC82: 1 | AD82: daļēji | AE82: 0 | AF82: 0 | AG82: 1 | AH82: 0 | AI82: 47 | AJ82: 0 | AK82: 0 | AL82: 0 | AM82: 0 | AN82: 1 | AO82: 0 | AP82: 0 | AQ82: jā | AR82: 0 | AS82: 0 | AT82: 0 | AU82: 1 | AV82: jā | AW82: 0 | AX82: 0 | AY82: 0 | AZ82: 1 | BA82: daļēji | BB82: 0 | BC82: 0 | BD82: 1 | BE82: 0 | BF82: daļēji | BG82: 0 | BH82: 0 | BI82: 1 | BJ82: 0 | BK82: jā | BL82: 0 | BM82: 0 | BN82: 0 | BO82: 1 | BP82: jā | BQ82: 0 | BR82: 0 | BS82: 0 | BT82: 1 | BU82: jā | BV82: 0 | BW82: 0 | BX82: 0 | BY82: 1 | BZ82: jā | CA82: 0 | CB82: 0 | CC82: 0 | CD82: 1 | CE82: daļēji | CF82: 0 | CG82: 0 | CH82: 1 | CI82: 0 | CJ82: daļēji | CK82: 0 | CL82: 0 | CM82: 1 | CN82: 0 | CO82: daļēji | CP82: 0 | CQ82: 0 | CR82: 1 | CS82: 0 | CT82: daļēji | CU82: 0 | CV82: 0 | CW82: 1 | CX82: 0 | CY82: nē | CZ82: 0 | DA82: 1 | DB82: 0 | DC82: 0 | DD82: nē | DE82: 0 | DF82: 1 | DG82: 0 | DH82: 0 | DI82: nē | DJ82: 0 | DK82: 1 | DL82: 0 | DM82: 0
A83: 71 | B83: 205 | C83: 45923.36 | D83: 45923.36 | E83: 342 | F83: 0 | G83: 0 | H83: 0 | I83: 0 | J83: 1 | K83: 0 | M83: 0 | N83: Valsts robežsardze | O83: 0 | P83: 0 | Q83: 2 | R83: 3 | S83: 13 | T83: jā | U83: 0 | V83: 0 | W83: 0 | X83: 1 | Y83: daļēji | Z83: 0 | AA83: 0 | AB83: 1 | AC83: 0 | AD83: jā | AE83: 0 | AF83: 0 | AG83: 0 | AH83: 1 | AI83: 2 | AJ83: 0 | AK83: 1 | AL83: 0 | AM83: 0 | AN83: 0 | AO83: 0 | AP83: 0 | AQ83: daļēji | AR83: 0 | AS83: 0 | AT83: 1 | AU83: 0 | AV83: daļēji | AW83: 0 | AX83: 0 | AY83: 1 | AZ83: 0 | BA83: jā | BB83: 0 | BC83: 0 | BD83: 0 | BE83: 1 | BF83: jā | BG83: 0 | BH83: 0 | BI83: 0 | BJ83: 1 | BK83: jā | BL83: 0 | BM83: 0 | BN83: 0 | BO83: 1 | BP83: jā | BQ83: 0 | BR83: 0 | BS83: 0 | BT83: 1 | BU83: jā | BV83: 0 | BW83: 0 | BX83: 0 | BY83: 1 | BZ83: nē | CA83: 0 | CB83: 1 | CC83: 0 | CD83: 0 | CE83: jā | CF83: 0 | CG83: 0 | CH83: 0 | CI83: 1 | CJ83: jā | CK83: 0 | CL83: 0 | CM83: 0 | CN83: 1 | CO83: jā | CP83: 0 | CQ83: 0 | CR83: 0 | CS83: 1 | CT83: nē | CU83: 0 | CV83: 1 | CW83: 0 | CX83: 0 | CY83: jā | CZ83: 0 | DA83: 0 | DB83: 0 | DC83: 1 | DD83: jā | DE83: 0 | DF83: 0 | DG83: 0 | DH83: 1 | DI83: jā | DJ83: 0 | DK83: 0 | DL83: 0 | DM83: 1
A84: 72 | B84: 206 | C84: 45923.382 | D84: 45923.382 | E84: 342 | F84: 0 | G84: 0 | H84: 0 | I84: 0 | J84: 1 | K84: 0 | M84: 0 | N84: VSIA "Latvijas Vēstnesis" | O84: 0 | P84: 0 | Q84: 0 | R84: 4 | S84: 14 | T84: jā | U84: 0 | V84: 0 | W84: 0 | X84: 1 | Y84: jā | Z84: 0 | AA84: 0 | AB84: 0 | AC84: 1 | AD84: jā | AE84: 0 | AF84: 0 | AG84: 0 | AH84: 1 | AI84: 4 | AJ84: 0 | AK84: 0 | AL84: 1 | AM84: 0 | AN84: 0 | AO84: 0 | AP84: 0 | AQ84: jā | AR84: 0 | AS84: 0 | AT84: 0 | AU84: 1 | AV84: jā | AW84: 0 | AX84: 0 | AY84: 0 | AZ84: 1 | BA84: jā | BB84: 0 | BC84: 0 | BD84: 0 | BE84: 1 | BF84: jā | BG84: 0 | BH84: 0 | BI84: 0 | BJ84: 1 | BK84: jā | BL84: 0 | BM84: 0 | BN84: 0 | BO84: 1 | BP84: jā | BQ84: 0 | BR84: 0 | BS84: 0 | BT84: 1 | BU84: daļēji | BV84: 0 | BW84: 0 | BX84: 1 | BY84: 0 | BZ84: daļēji | CA84: 0 | CB84: 0 | CC84: 1 | CD84: 0 | CE84: jā | CF84: 0 | CG84: 0 | CH84: 0 | CI84: 1 | CJ84: jā | CK84: 0 | CL84: 0 | CM84: 0 | CN84: 1 | CO84: daļēji | CP84: 0 | CQ84: 0 | CR84: 1 | CS84: 0 | CT84: daļēji | CU84: 0 | CV84: 0 | CW84: 1 | CX84: 0 | CY84: jā | CZ84: 0 | DA84: 0 | DB84: 0 | DC84: 1 | DD84: jā | DE84: 0 | DF84: 0 | DG84: 0 | DH84: 1 | DI84: jā | DJ84: 0 | DK84: 0 | DL84: 0 | DM84: 1
A85: 73 | B85: 208 | C85: 45923.575 | D85: 45923.575 | E85: 342 | F85: 0 | G85: 0 | H85: 0 | I85: 0 | J85: 1 | K85: 0 | M85: 0 | N85: Pārtikas drošības, dzīvnieku veselības un vides zinātniskais institūts "BIOR" | O85: 0 | P85: 0 | Q85: 7 | R85: 7 | S85: 4 | T85: daļēji | U85: 0 | V85: 0 | W85: 1 | X85: 0 | Y85: jā | Z85: 0 | AA85: 0 | AB85: 0 | AC85: 1 | AD85: daļēji | AE85: 0 | AF85: 0 | AG85: 1 | AH85: 0 | AI85: nav zināms | AJ85: 0 | AK85: 0 | AL85: 0 | AM85: 0 | AN85: 0 | AO85: 0 | AP85: 1 | AQ85: daļēji | AR85: 0 | AS85: 0 | AT85: 1 | AU85: 0 | AV85: jā | AW85: 0 | AX85: 0 | AY85: 0 | AZ85: 1 | BA85: jā | BB85: 0 | BC85: 0 | BD85: 0 | BE85: 1 | BF85: daļēji | BG85: 0 | BH85: 0 | BI85: 1 | BJ85: 0 | BK85: jā | BL85: 0 | BM85: 0 | BN85: 0 | BO85: 1 | BP85: daļēji | BQ85: 0 | BR85: 0 | BS85: 1 | BT85: 0 | BU85: nē | BV85: 0 | BW85: 1 | BX85: 0 | BY85: 0 | BZ85: nē | CA85: 0 | CB85: 1 | CC85: 0 | CD85: 0 | CE85: daļēji | CF85: 0 | CG85: 0 | CH85: 1 | CI85: 0 | CJ85: daļēji | CK85: 0 | CL85: 0 | CM85: 1 | CN85: 0 | CO85: nē | CP85: 0 | CQ85: 1 | CR85: 0 | CS85: 0 | CT85: nē | CU85: 0 | CV85: 1 | CW85: 0 | CX85: 0 | CY85: nē | CZ85: 0 | DA85: 1 | DB85: 0 | DC85: 0 | DD85: nē | DE85: 0 | DF85: 1 | DG85: 0 | DH85: 0 | DI85: nē | DJ85: 0 | DK85: 1 | DL85: 0 | DM85: 0
A86: 70 | B86: 203 | C86: 45922.4 | D86: 45922.4 | E86: 343 | F86: 0 | G86: 0 | H86: 0 | I86: 0 | J86: 1 | K86: 0 | M86: 0 | N86: Valsts izglītības attīstības aģentūra | O86: 0 | P86: 0 | Q86: 18 | R86: 0 | S86: 0 | T86: nē | U86: 0 | V86: 1 | W86: 0 | X86: 0 | Y86: nē | Z86: 0 | AA86: 1 | AB86: 0 | AC86: 0 | AD86: nē | AE86: 0 | AF86: 1 | AG86: 0 | AH86: 0 | AI86: nav | AJ86: 1 | AK86: 0 | AL86: 0 | AM86: 0 | AN86: 0 | AO86: 0 | AP86: 0 | AQ86: nē | AR86: 0 | AS86: 1 | AT86: 0 | AU86: 0 | AV86: nē | AW86: 0 | AX86: 1 | AY86: 0 | AZ86: 0 | BA86: nē | BB86: 0 | BC86: 1 | BD86: 0 | BE86: 0 | BF86: nē | BG86: 0 | BH86: 1 | BI86: 0 | BJ86: 0 | BK86: nē | BL86: 0 | BM86: 1 | BN86: 0 | BO86: 0 | BP86: nē | BQ86: 0 | BR86: 1 | BS86: 0 | BT86: 0 | BU86: nē | BV86: 0 | BW86: 1 | BX86: 0 | BY86: 0 | BZ86: nē | CA86: 0 | CB86: 1 | CC86: 0 | CD86: 0 | CE86: nē | CF86: 0 | CG86: 1 | CH86: 0 | CI86: 0 | CJ86: nē | CK86: 0 | CL86: 1 | CM86: 0 | CN86: 0 | CO86: nē | CP86: 0 | CQ86: 1 | CR86: 0 | CS86: 0 | CT86: nē | CU86: 0 | CV86: 1 | CW86: 0 | CX86: 0 | CY86: nē | CZ86: 0 | DA86: 1 | DB86: 0 | DC86: 0 | DD86: nē | DE86: 0 | DF86: 1 | DG86: 0 | DH86: 0 | DI86: nē | DJ86: 0 | DK86: 1 | DL86: 0 | DM86: 0
A87: 69 | B87: 201 | C87: 45919.502 | D87: 45919.502 | E87: 346 | F87: 0 | G87: 0 | H87: 0 | I87: 0 | J87: 1 | K87: 0 | M87: 0 | N87: Valsts aizsardzības militāro objektu un iepirkumu centrs | O87: 0 | P87: 0 | Q87: 1 | R87: 0 | S87: 17 | T87: jā | U87: 0 | V87: 0 | W87: 0 | X87: 1 | Y87: jā | Z87: 0 | AA87: 0 | AB87: 0 | AC87: 1 | AD87: jā | AE87: 0 | AF87: 0 | AG87: 0 | AH87: 1 | AI87: 4 | AJ87: 0 | AK87: 0 | AL87: 1 | AM87: 0 | AN87: 0 | AO87: 0 | AP87: 0 | AQ87: jā | AR87: 0 | AS87: 0 | AT87: 0 | AU87: 1 | AV87: jā | AW87: 0 | AX87: 0 | AY87: 0 | AZ87: 1 | BA87: jā | BB87: 0 | BC87: 0 | BD87: 0 | BE87: 1 | BF87: jā | BG87: 0 | BH87: 0 | BI87: 0 | BJ87: 1 | BK87: jā | BL87: 0 | BM87: 0 | BN87: 0 | BO87: 1 | BP87: jā | BQ87: 0 | BR87: 0 | BS87: 0 | BT87: 1 | BU87: jā | BV87: 0 | BW87: 0 | BX87: 0 | BY87: 1 | BZ87: jā | CA87: 0 | CB87: 0 | CC87: 0 | CD87: 1 | CE87: jā | CF87: 0 | CG87: 0 | CH87: 0 | CI87: 1 | CJ87: jā | CK87: 0 | CL87: 0 | CM87: 0 | CN87: 1 | CO87: jā | CP87: 0 | CQ87: 0 | CR87: 0 | CS87: 1 | CT87: jā | CU87: 0 | CV87: 0 | CW87: 0 | CX87: 1 | CY87: jā | CZ87: 0 | DA87: 0 | DB87: 0 | DC87: 1 | DD87: jā | DE87: 0 | DF87: 0 | DG87: 0 | DH87: 1 | DI87: nē | DJ87: 0 | DK87: 1 | DL87: 0 | DM87: 0
A88: 65 | B88: 196 | C88: 45918.409 | D88: 45918.409 | E88: 347 | F88: 0 | G88: 0 | H88: 0 | I88: 0 | J88: 1 | K88: 0 | M88: 0 | N88: Zāļu valsts aģentūra | O88: 0 | P88: 0 | Q88: 6 | R88: 7 | S88: 5 | T88: daļēji | U88: 0 | V88: 0 | W88: 1 | X88: 0 | Y88: jā | Z88: 0 | AA88: 0 | AB88: 0 | AC88: 1 | AD88: daļēji | AE88: 0 | AF88: 0 | AG88: 1 | AH88: 0 | AI88: 11 | AJ88: 0 | AK88: 0 | AL88: 0 | AM88: 1 | AN88: 0 | AO88: 0 | AP88: 0 | AQ88: jā | AR88: 0 | AS88: 0 | AT88: 0 | AU88: 1 | AV88: jā | AW88: 0 | AX88: 0 | AY88: 0 | AZ88: 1 | BA88: jā | BB88: 0 | BC88: 0 | BD88: 0 | BE88: 1 | BF88: daļēji | BG88: 0 | BH88: 0 | BI88: 1 | BJ88: 0 | BK88: jā | BL88: 0 | BM88: 0 | BN88: 0 | BO88: 1 | BP88: daļēji | BQ88: 0 | BR88: 0 | BS88: 1 | BT88: 0 | BU88: daļēji | BV88: 0 | BW88: 0 | BX88: 1 | BY88: 0 | BZ88: nē | CA88: 0 | CB88: 1 | CC88: 0 | CD88: 0 | CE88: daļēji | CF88: 0 | CG88: 0 | CH88: 1 | CI88: 0 | CJ88: daļēji | CK88: 0 | CL88: 0 | CM88: 1 | CN88: 0 | CO88: nē | CP88: 0 | CQ88: 1 | CR88: 0 | CS88: 0 | CT88: nē | CU88: 0 | CV88: 1 | CW88: 0 | CX88: 0 | CY88: nē | CZ88: 0 | DA88: 1 | DB88: 0 | DC88: 0 | DD88: nē | DE88: 0 | DF88: 1 | DG88: 0 | DH88: 0 | DI88: nē | DJ88: 0 | DK88: 1 | DL88: 0 | DM88: 0
A89: 66 | B89: 197 | C89: 45918.494 | D89: 45918.494 | E89: 347 | F89: 0 | G89: 0 | H89: 0 | I89: 0 | J89: 1 | K89: 0 | M89: 0 | N89: Valsts tiesu medicīnas ekspertīzes centrs | O89: 0 | P89: 0 | Q89: 6 | R89: 3 | S89: 9 | T89: jā | U89: 0 | V89: 0 | W89: 0 | X89: 1 | Y89: jā | Z89: 0 | AA89: 0 | AB89: 0 | AC89: 1 | AD89: jā | AE89: 0 | AF89: 0 | AG89: 0 | AH89: 1 | AI89: 7 | AJ89: 0 | AK89: 0 | AL89: 1 | AM89: 0 | AN89: 0 | AO89: 0 | AP89: 0 | AQ89: jā | AR89: 0 | AS89: 0 | AT89: 0 | AU89: 1 | AV89: nē | AW89: 0 | AX89: 1 | AY89: 0 | AZ89: 0 | BA89: jā | BB89: 0 | BC89: 0 | BD89: 0 | BE89: 1 | BF89: jā | BG89: 0 | BH89: 0 | BI89: 0 | BJ89: 1 | BK89: jā | BL89: 0 | BM89: 0 | BN89: 0 | BO89: 1 | BP89: jā | BQ89: 0 | BR89: 0 | BS89: 0 | BT89: 1 | BU89: daļēji | BV89: 0 | BW89: 0 | BX89: 1 | BY89: 0 | BZ89: daļēji | CA89: 0 | CB89: 0 | CC89: 1 | CD89: 0 | CE89: jā | CF89: 0 | CG89: 0 | CH89: 0 | CI89: 1 | CJ89: daļēji | CK89: 0 | CL89: 0 | CM89: 1 | CN89: 0 | CO89: nē | CP89: 0 | CQ89: 1 | CR89: 0 | CS89: 0 | CT89: nē | CU89: 0 | CV89: 1 | CW89: 0 | CX89: 0 | CY89: nē | CZ89: 0 | DA89: 1 | DB89: 0 | DC89: 0 | DD89: nē | DE89: 0 | DF89: 1 | DG89: 0 | DH89: 0 | DI89: nē | DJ89: 0 | DK89: 1 | DL89: 0 | DM89: 0
A90: 67 | B90: 198 | C90: 45918.552 | D90: 45918.552 | E90: 347 | F90: 0 | G90: 0 | H90: 0 | I90: 0 | J90: 1 | K90: 0 | M90: 0 | N90: Latvijas Nacionālais kultūras centrs | O90: 0 | P90: 0 | Q90: 4 | R90: 7 | S90: 7 | T90: jā | U90: 0 | V90: 0 | W90: 0 | X90: 1 | Y90: jā | Z90: 0 | AA90: 0 | AB90: 0 | AC90: 1 | AD90: daļēji | AE90: 0 | AF90: 0 | AG90: 1 | AH90: 0 | AI90: nav zināms | AJ90: 0 | AK90: 0 | AL90: 0 | AM90: 0 | AN90: 0 | AO90: 0 | AP90: 1 | AQ90: jā | AR90: 0 | AS90: 0 | AT90: 0 | AU90: 1 | AV90: nē | AW90: 0 | AX90: 1 | AY90: 0 | AZ90: 0 | BA90: jā | BB90: 0 | BC90: 0 | BD90: 0 | BE90: 1 | BF90: jā | BG90: 0 | BH90: 0 | BI90: 0 | BJ90: 1 | BK90: jā | BL90: 0 | BM90: 0 | BN90: 0 | BO90: 1 | BP90: daļēji | BQ90: 0 | BR90: 0 | BS90: 1 | BT90: 0 | BU90: daļēji | BV90: 0 | BW90: 0 | BX90: 1 | BY90: 0 | BZ90: daļēji | CA90: 0 | CB90: 0 | CC90: 1 | CD90: 0 | CE90: jā | CF90: 0 | CG90: 0 | CH90: 0 | CI90: 1 | CJ90: daļēji | CK90: 0 | CL90: 0 | CM90: 1 | CN90: 0 | CO90: daļēji | CP90: 0 | CQ90: 0 | CR90: 1 | CS90: 0 | CT90: daļēji | CU90: 0 | CV90: 0 | CW90: 1 | CX90: 0 | CY90: nē | CZ90: 0 | DA90: 1 | DB90: 0 | DC90: 0 | DD90: nē | DE90: 0 | DF90: 1 | DG90: 0 | DH90: 0 | DI90: nē | DJ90: 0 | DK90: 1 | DL90: 0 | DM90: 0
A91: 68 | B91: 200 | C91: 45918.635 | D91: 45918.635 | E91: 347 | F91: 0 | G91: 0 | H91: 0 | I91: 0 | J91: 1 | K91: 0 | M91: 0 | N91: Valsts probācijas dienests | O91: 0 | P91: 0 | Q91: 8 | R91: 6 | S91: 4 | T91: daļēji | U91: 0 | V91: 0 | W91: 1 | X91: 0 | Y91: jā | Z91: 0 | AA91: 0 | AB91: 0 | AC91: 1 | AD91: jā | AE91: 0 | AF91: 0 | AG91: 0 | AH91: 1 | AI91: 2 | AJ91: 0 | AK91: 1 | AL91: 0 | AM91: 0 | AN91: 0 | AO91: 0 | AP91: 0 | AQ91: jā | AR91: 0 | AS91: 0 | AT91: 0 | AU91: 1 | AV91: jā | AW91: 0 | AX91: 0 | AY91: 0 | AZ91: 1 | BA91: daļēji | BB91: 0 | BC91: 0 | BD91: 1 | BE91: 0 | BF91: daļēji | BG91: 0 | BH91: 0 | BI91: 1 | BJ91: 0 | BK91: nē | BL91: 0 | BM91: 1 | BN91: 0 | BO91: 0 | BP91: nē | BQ91: 0 | BR91: 1 | BS91: 0 | BT91: 0 | BU91: nē | BV91: 0 | BW91: 1 | BX91: 0 | BY91: 0 | BZ91: nē | CA91: 0 | CB91: 1 | CC91: 0 | CD91: 0 | CE91: daļēji | CF91: 0 | CG91: 0 | CH91: 1 | CI91: 0 | CJ91: daļēji | CK91: 0 | CL91: 0 | CM91: 1 | CN91: 0 | CO91: daļēji | CP91: 0 | CQ91: 0 | CR91: 1 | CS91: 0 | CT91: nē | CU91: 0 | CV91: 1 | CW91: 0 | CX91: 0 | CY91: nē | CZ91: 0 | DA91: 1 | DB91: 0 | DC91: 0 | DD91: nē | DE91: 0 | DF91: 1 | DG91: 0 | DH91: 0 | DI91: nē | DJ91: 0 | DK91: 1 | DL91: 0 | DM91: 0
A92: 60 | B92: 191 | C92: 45917.445 | D92: 45917.445 | E92: 348 | F92: 0 | G92: 0 | H92: 0 | I92: 0 | J92: 1 | K92: 0 | M92: 0 | N92: Slimību profilakses un kontroles centrs | O92: 0 | P92: 0 | Q92: 1 | R92: 1 | S92: 16 | T92: jā | U92: 0 | V92: 0 | W92: 0 | X92: 1 | Y92: jā | Z92: 0 | AA92: 0 | AB92: 0 | AC92: 1 | AD92: jā | AE92: 0 | AF92: 0 | AG92: 0 | AH92: 1 | AI92: 3 | AJ92: 0 | AK92: 0 | AL92: 1 | AM92: 0 | AN92: 0 | AO92: 0 | AP92: 0 | AQ92: jā | AR92: 0 | AS92: 0 | AT92: 0 | AU92: 1 | AV92: jā | AW92: 0 | AX92: 0 | AY92: 0 | AZ92: 1 | BA92: jā | BB92: 0 | BC92: 0 | BD92: 0 | BE92: 1 | BF92: jā | BG92: 0 | BH92: 0 | BI92: 0 | BJ92: 1 | BK92: daļēji | BL92: 0 | BM92: 0 | BN92: 1 | BO92: 0 | BP92: jā | BQ92: 0 | BR92: 0 | BS92: 0 | BT92: 1 | BU92: jā | BV92: 0 | BW92: 0 | BX92: 0 | BY92: 1 | BZ92: jā | CA92: 0 | CB92: 0 | CC92: 0 | CD92: 1 | CE92: jā | CF92: 0 | CG92: 0 | CH92: 0 | CI92: 1 | CJ92: jā | CK92: 0 | CL92: 0 | CM92: 0 | CN92: 1 | CO92: jā | CP92: 0 | CQ92: 0 | CR92: 0 | CS92: 1 | CT92: jā | CU92: 0 | CV92: 0 | CW92: 0 | CX92: 1 | CY92: jā | CZ92: 0 | DA92: 0 | DB92: 0 | DC92: 1 | DD92: jā | DE92: 0 | DF92: 0 | DG92: 0 | DH92: 1 | DI92: nē | DJ92: 0 | DK92: 1 | DL92: 0 | DM92: 0
A93: 61 | B93: 192 | C93: 45917.447 | D93: 45917.447 | E93: 348 | F93: 0 | G93: 0 | H93: 0 | I93: 0 | J93: 1 | K93: 0 | M93: 0 | N93: kapitālsabiedrība, akciju sabiedrība "Attīstības finanšu institūcija Altum" | O93: 0 | P93: 0 | Q93: 8 | R93: 5 | S93: 5 | T93: nē | U93: 0 | V93: 1 | W93: 0 | X93: 0 | Y93: nē | Z93: 0 | AA93: 1 | AB93: 0 | AC93: 0 | AD93: daļēji | AE93: 0 | AF93: 0 | AG93: 1 | AH93: 0 | AI93: nav zināms | AJ93: 0 | AK93: 0 | AL93: 0 | AM93: 0 | AN93: 0 | AO93: 0 | AP93: 1 | AQ93: jā | AR93: 0 | AS93: 0 | AT93: 0 | AU93: 1 | AV93: nē | AW93: 0 | AX93: 1 | AY93: 0 | AZ93: 0 | BA93: nē | BB93: 0 | BC93: 1 | BD93: 0 | BE93: 0 | BF93: daļēji | BG93: 0 | BH93: 0 | BI93: 1 | BJ93: 0 | BK93: nē | BL93: 0 | BM93: 1 | BN93: 0 | BO93: 0 | BP93: nē | BQ93: 0 | BR93: 1 | BS93: 0 | BT93: 0 | BU93: nē | BV93: 0 | BW93: 1 | BX93: 0 | BY93: 0 | BZ93: nē | CA93: 0 | CB93: 1 | CC93: 0 | CD93: 0 | CE93: daļēji | CF93: 0 | CG93: 0 | CH93: 1 | CI93: 0 | CJ93: jā | CK93: 0 | CL93: 0 | CM93: 0 | CN93: 1 | CO93: daļēji | CP93: 0 | CQ93: 0 | CR93: 1 | CS93: 0 | CT93: daļēji | CU93: 0 | CV93: 0 | CW93: 1 | CX93: 0 | CY93: jā | CZ93: 0 | DA93: 0 | DB93: 0 | DC93: 1 | DD93: jā | DE93: 0 | DF93: 0 | DG93: 0 | DH93: 1 | DI93: jā | DJ93: 0 | DK93: 0 | DL93: 0 | DM93: 1
A94: 62 | B94: 193 | C94: 45917.538 | D94: 45917.538 | E94: 348 | F94: 0 | G94: 0 | H94: 0 | I94: 0 | J94: 1 | K94: 0 | M94: 0 | N94: VSIA "Autotransporta direkcija" | O94: 0 | P94: 0 | Q94: 12 | R94: 6 | S94: 0 | T94: daļēji | U94: 0 | V94: 0 | W94: 1 | X94: 0 | Y94: nē | Z94: 0 | AA94: 1 | AB94: 0 | AC94: 0 | AD94: daļēji | AE94: 0 | AF94: 0 | AG94: 1 | AH94: 0 | AI94: 14 | AJ94: 0 | AK94: 0 | AL94: 0 | AM94: 1 | AN94: 0 | AO94: 0 | AP94: 0 | AQ94: daļēji | AR94: 0 | AS94: 0 | AT94: 1 | AU94: 0 | AV94: nē | AW94: 0 | AX94: 1 | AY94: 0 | AZ94: 0 | BA94: daļēji | BB94: 0 | BC94: 0 | BD94: 1 | BE94: 0 | BF94: daļēji | BG94: 0 | BH94: 0 | BI94: 1 | BJ94: 0 | BK94: nē | BL94: 0 | BM94: 1 | BN94: 0 | BO94: 0 | BP94: nē | BQ94: 0 | BR94: 1 | BS94: 0 | BT94: 0 | BU94: nē | BV94: 0 | BW94: 1 | BX94: 0 | BY94: 0 | BZ94: nē | CA94: 0 | CB94: 1 | CC94: 0 | CD94: 0 | CE94: daļēji | CF94: 0 | CG94: 0 | CH94: 1 | CI94: 0 | CJ94: nē | CK94: 0 | CL94: 1 | CM94: 0 | CN94: 0 | CO94: nē | CP94: 0 | CQ94: 1 | CR94: 0 | CS94: 0 | CT94: nē | CU94: 0 | CV94: 1 | CW94: 0 | CX94: 0 | CY94: nē | CZ94: 0 | DA94: 1 | DB94: 0 | DC94: 0 | DD94: nē | DE94: 0 | DF94: 1 | DG94: 0 | DH94: 0 | DI94: nē | DJ94: 0 | DK94: 1 | DL94: 0 | DM94: 0
A95: 63 | B95: 194 | C95: 45917.625 | D95: 45917.625 | E95: 348 | F95: 0 | G95: 0 | H95: 0 | I95: 0 | J95: 1 | K95: 0 | M95: 0 | N95: Valsts aģentūra "Civilās aviācijas aģentūra" | O95: 0 | P95: 0 | Q95: 4 | R95: 7 | S95: 7 | T95: jā | U95: 0 | V95: 0 | W95: 0 | X95: 1 | Y95: jā | Z95: 0 | AA95: 0 | AB95: 0 | AC95: 1 | AD95: daļēji | AE95: 0 | AF95: 0 | AG95: 1 | AH95: 0 | AI95: 93 | AJ95: 0 | AK95: 0 | AL95: 0 | AM95: 0 | AN95: 0 | AO95: 1 | AP95: 0 | AQ95: daļēji | AR95: 0 | AS95: 0 | AT95: 1 | AU95: 0 | AV95: nē | AW95: 0 | AX95: 1 | AY95: 0 | AZ95: 0 | BA95: daļēji | BB95: 0 | BC95: 0 | BD95: 1 | BE95: 0 | BF95: daļēji | BG95: 0 | BH95: 0 | BI95: 1 | BJ95: 0 | BK95: jā | BL95: 0 | BM95: 0 | BN95: 0 | BO95: 1 | BP95: jā | BQ95: 0 | BR95: 0 | BS95: 0 | BT95: 1 | BU95: jā | BV95: 0 | BW95: 0 | BX95: 0 | BY95: 1 | BZ95: jā | CA95: 0 | CB95: 0 | CC95: 0 | CD95: 1 | CE95: jā | CF95: 0 | CG95: 0 | CH95: 0 | CI95: 1 | CJ95: daļēji | CK95: 0 | CL95: 0 | CM95: 1 | CN95: 0 | CO95: daļēji | CP95: 0 | CQ95: 0 | CR95: 1 | CS95: 0 | CT95: daļēji | CU95: 0 | CV95: 0 | CW95: 1 | CX95: 0 | CY95: nē | CZ95: 0 | DA95: 1 | DB95: 0 | DC95: 0 | DD95: nē | DE95: 0 | DF95: 1 | DG95: 0 | DH95: 0 | DI95: nē | DJ95: 0 | DK95: 1 | DL95: 0 | DM95: 0
A96: 64 | B96: 195 | C96: 45917.659 | D96: 45917.659 | E96: 348 | F96: 0 | G96: 0 | H96: 0 | I96: 0 | J96: 1 | K96: 0 | M96: 0 | N96: Valsts tehniskās uzraudzības aģentūra | O96: 0 | P96: 0 | Q96: 0 | R96: 3 | S96: 15 | T96: jā | U96: 0 | V96: 0 | W96: 0 | X96: 1 | Y96: jā | Z96: 0 | AA96: 0 | AB96: 0 | AC96: 1 | AD96: jā | AE96: 0 | AF96: 0 | AG96: 0 | AH96: 1 | AI96: 10 | AJ96: 0 | AK96: 0 | AL96: 1 | AM96: 0 | AN96: 0 | AO96: 0 | AP96: 0 | AQ96: jā | AR96: 0 | AS96: 0 | AT96: 0 | AU96: 1 | AV96: daļēji | AW96: 0 | AX96: 0 | AY96: 1 | AZ96: 0 | BA96: jā | BB96: 0 | BC96: 0 | BD96: 0 | BE96: 1 | BF96: jā | BG96: 0 | BH96: 0 | BI96: 0 | BJ96: 1 | BK96: jā | BL96: 0 | BM96: 0 | BN96: 0 | BO96: 1 | BP96: jā | BQ96: 0 | BR96: 0 | BS96: 0 | BT96: 1 | BU96: jā | BV96: 0 | BW96: 0 | BX96: 0 | BY96: 1 | BZ96: daļēji | CA96: 0 | CB96: 0 | CC96: 1 | CD96: 0 | CE96: jā | CF96: 0 | CG96: 0 | CH96: 0 | CI96: 1 | CJ96: jā | CK96: 0 | CL96: 0 | CM96: 0 | CN96: 1 | CO96: jā | CP96: 0 | CQ96: 0 | CR96: 0 | CS96: 1 | CT96: daļēji | CU96: 0 | CV96: 0 | CW96: 1 | CX96: 0 | CY96: jā | CZ96: 0 | DA96: 0 | DB96: 0 | DC96: 1 | DD96: jā | DE96: 0 | DF96: 0 | DG96: 0 | DH96: 1 | DI96: jā | DJ96: 0 | DK96: 0 | DL96: 0 | DM96: 1
A97: 57 | B97: 185 | C97: 45916.439 | D97: 45916.439 | E97: 349 | F97: 0 | G97: 0 | H97: 0 | I97: 0 | J97: 1 | K97: 0 | M97: 0 | N97: Latvijas standarts, SIA | O97: 0 | P97: 0 | Q97: 2 | R97: 2 | S97: 14 | T97: jā | U97: 0 | V97: 0 | W97: 0 | X97: 1 | Y97: jā | Z97: 0 | AA97: 0 | AB97: 0 | AC97: 1 | AD97: jā | AE97: 0 | AF97: 0 | AG97: 0 | AH97: 1 | AI97: 2 | AJ97: 0 | AK97: 1 | AL97: 0 | AM97: 0 | AN97: 0 | AO97: 0 | AP97: 0 | AQ97: jā | AR97: 0 | AS97: 0 | AT97: 0 | AU97: 1 | AV97: nē | AW97: 0 | AX97: 1 | AY97: 0 | AZ97: 0 | BA97: jā | BB97: 0 | BC97: 0 | BD97: 0 | BE97: 1 | BF97: jā | BG97: 0 | BH97: 0 | BI97: 0 | BJ97: 1 | BK97: jā | BL97: 0 | BM97: 0 | BN97: 0 | BO97: 1 | BP97: jā | BQ97: 0 | BR97: 0 | BS97: 0 | BT97: 1 | BU97: jā | BV97: 0 | BW97: 0 | BX97: 0 | BY97: 1 | BZ97: daļēji | CA97: 0 | CB97: 0 | CC97: 1 | CD97: 0 | CE97: jā | CF97: 0 | CG97: 0 | CH97: 0 | CI97: 1 | CJ97: jā | CK97: 0 | CL97: 0 | CM97: 0 | CN97: 1 | CO97: jā | CP97: 0 | CQ97: 0 | CR97: 0 | CS97: 1 | CT97: daļēji | CU97: 0 | CV97: 0 | CW97: 1 | CX97: 0 | CY97: jā | CZ97: 0 | DA97: 0 | DB97: 0 | DC97: 1 | DD97: jā | DE97: 0 | DF97: 0 | DG97: 0 | DH97: 1 | DI97: nē | DJ97: 0 | DK97: 1 | DL97: 0 | DM97: 0
A98: 58 | B98: 187 | C98: 45916.544 | D98: 45916.544 | E98: 349 | F98: 0 | G98: 0 | H98: 0 | I98: 0 | J98: 1 | K98: 0 | M98: 0 | N98: VSIA "Latvijas proves birojs" | O98: 0 | P98: 0 | Q98: 4 | R98: 8 | S98: 6 | T98: jā | U98: 0 | V98: 0 | W98: 0 | X98: 1 | Y98: jā | Z98: 0 | AA98: 0 | AB98: 0 | AC98: 1 | AD98: daļēji | AE98: 0 | AF98: 0 | AG98: 1 | AH98: 0 | AI98: 6 | AJ98: 0 | AK98: 0 | AL98: 1 | AM98: 0 | AN98: 0 | AO98: 0 | AP98: 0 | AQ98: daļēji | AR98: 0 | AS98: 0 | AT98: 1 | AU98: 0 | AV98: nē | AW98: 0 | AX98: 1 | AY98: 0 | AZ98: 0 | BA98: jā | BB98: 0 | BC98: 0 | BD98: 0 | BE98: 1 | BF98: jā | BG98: 0 | BH98: 0 | BI98: 0 | BJ98: 1 | BK98: jā | BL98: 0 | BM98: 0 | BN98: 0 | BO98: 1 | BP98: daļēji | BQ98: 0 | BR98: 0 | BS98: 1 | BT98: 0 | BU98: daļēji | BV98: 0 | BW98: 0 | BX98: 1 | BY98: 0 | BZ98: daļēji | CA98: 0 | CB98: 0 | CC98: 1 | CD98: 0 | CE98: jā | CF98: 0 | CG98: 0 | CH98: 0 | CI98: 1 | CJ98: daļēji | CK98: 0 | CL98: 0 | CM98: 1 | CN98: 0 | CO98: daļēji | CP98: 0 | CQ98: 0 | CR98: 1 | CS98: 0 | CT98: daļēji | CU98: 0 | CV98: 0 | CW98: 1 | CX98: 0 | CY98: nē | CZ98: 0 | DA98: 1 | DB98: 0 | DC98: 0 | DD98: nē | DE98: 0 | DF98: 1 | DG98: 0 | DH98: 0 | DI98: nē | DJ98: 0 | DK98: 1 | DL98: 0 | DM98: 0
A99: 59 | B99: 189 | C99: 45916.681 | D99: 45916.681 | E99: 349 | F99: 0 | G99: 0 | H99: 0 | I99: 0 | J99: 1 | K99: 0 | M99: 0 | N99: Valsts SIA "Zemkopības ministrijas nekustamie īpašumi" | O99: 0 | P99: 0 | Q99: 4 | R99: 8 | S99: 6 | T99: jā | U99: 0 | V99: 0 | W99: 0 | X99: 1 | Y99: jā | Z99: 0 | AA99: 0 | AB99: 0 | AC99: 1 | AD99: daļēji | AE99: 0 | AF99: 0 | AG99: 1 | AH99: 0 | AI99: 2 | AJ99: 0 | AK99: 1 | AL99: 0 | AM99: 0 | AN99: 0 | AO99: 0 | AP99: 0 | AQ99: daļēji | AR99: 0 | AS99: 0 | AT99: 1 | AU99: 0 | AV99: nē | AW99: 0 | AX99: 1 | AY99: 0 | AZ99: 0 | BA99: jā | BB99: 0 | BC99: 0 | BD99: 0 | BE99: 1 | BF99: daļēji | BG99: 0 | BH99: 0 | BI99: 1 | BJ99: 0 | BK99: jā | BL99: 0 | BM99: 0 | BN99: 0 | BO99: 1 | BP99: jā | BQ99: 0 | BR99: 0 | BS99: 0 | BT99: 1 | BU99: daļēji | BV99: 0 | BW99: 0 | BX99: 1 | BY99: 0 | BZ99: daļēji | CA99: 0 | CB99: 0 | CC99: 1 | CD99: 0 | CE99: jā | CF99: 0 | CG99: 0 | CH99: 0 | CI99: 1 | CJ99: daļēji | CK99: 0 | CL99: 0 | CM99: 1 | CN99: 0 | CO99: daļēji | CP99: 0 | CQ99: 0 | CR99: 1 | CS99: 0 | CT99: daļēji | CU99: 0 | CV99: 0 | CW99: 1 | CX99: 0 | CY99: nē | CZ99: 0 | DA99: 1 | DB99: 0 | DC99: 0 | DD99: nē | DE99: 0 | DF99: 1 | DG99: 0 | DH99: 0 | DI99: nē | DJ99: 0 | DK99: 1 | DL99: 0 | DM99: 0
A100: 53 | B100: 181 | C100: 45915.356 | D100: 45915.356 | E100: 350 | F100: 0 | G100: 0 | H100: 0 | I100: 0 | J100: 1 | K100: 0 | M100: 0 | N100: Uzturlīdzekļu garantiju fonda administrācija | O100: 0 | P100: 0 | Q100: 5 | R100: 0 | S100: 13 | T100: jā | U100: 0 | V100: 0 | W100: 0 | X100: 1 | Y100: jā | Z100: 0 | AA100: 0 | AB100: 0 | AC100: 1 | AD100: jā | AE100: 0 | AF100: 0 | AG100: 0 | AH100: 1 | AI100: 3 | AJ100: 0 | AK100: 0 | AL100: 1 | AM100: 0 | AN100: 0 | AO100: 0 | AP100: 0 | AQ100: jā | AR100: 0 | AS100: 0 | AT100: 0 | AU100: 1 | AV100: nē | AW100: 0 | AX100: 1 | AY100: 0 | AZ100: 0 | BA100: jā | BB100: 0 | BC100: 0 | BD100: 0 | BE100: 1 | BF100: jā | BG100: 0 | BH100: 0 | BI100: 0 | BJ100: 1 | BK100: jā | BL100: 0 | BM100: 0 | BN100: 0 | BO100: 1 | BP100: jā | BQ100: 0 | BR100: 0 | BS100: 0 | BT100: 1 | BU100: nē | BV100: 0 | BW100: 1 | BX100: 0 | BY100: 0 | BZ100: nē | CA100: 0 | CB100: 1 | CC100: 0 | CD100: 0 | CE100: jā | CF100: 0 | CG100: 0 | CH100: 0 | CI100: 1 | CJ100: jā | CK100: 0 | CL100: 0 | CM100: 0 | CN100: 1 | CO100: nē | CP100: 0 | CQ100: 1 | CR100: 0 | CS100: 0 | CT100: nē | CU100: 0 | CV100: 1 | CW100: 0 | CX100: 0 | CY100: jā | CZ100: 0 | DA100: 0 | DB100: 0 | DC100: 1 | DD100: jā | DE100: 0 | DF100: 0 | DG100: 0 | DH100: 1 | DI100: jā | DJ100: 0 | DK100: 0 | DL100: 0 | DM100: 1
A101: 54 | B101: 182 | C101: 45915.515 | D101: 45915.515 | E101: 350 | F101: 0 | G101: 0 | H101: 0 | I101: 0 | J101: 1 | K101: 0 | M101: 0 | N101: Izložu un azartspēļu uzraudzības inspekcija | O101: 0 | P101: 0 | Q101: 0 | R101: 3 | S101: 15 | T101: jā | U101: 0 | V101: 0 | W101: 0 | X101: 1 | Y101: jā | Z101: 0 | AA101: 0 | AB101: 0 | AC101: 1 | AD101: jā | AE101: 0 | AF101: 0 | AG101: 0 | AH101: 1 | AI101: 5 | AJ101: 0 | AK101: 0 | AL101: 1 | AM101: 0 | AN101: 0 | AO101: 0 | AP101: 0 | AQ101: jā | AR101: 0 | AS101: 0 | AT101: 0 | AU101: 1 | AV101: jā | AW101: 0 | AX101: 0 | AY101: 0 | AZ101: 1 | BA101: jā | BB101: 0 | BC101: 0 | BD101: 0 | BE101: 1 | BF101: jā | BG101: 0 | BH101: 0 | BI101: 0 | BJ101: 1 | BK101: jā | BL101: 0 | BM101: 0 | BN101: 0 | BO101: 1 | BP101: jā | BQ101: 0 | BR101: 0 | BS101: 0 | BT101: 1 | BU101: jā | BV101: 0 | BW101: 0 | BX101: 0 | BY101: 1 | BZ101: jā | CA101: 0 | CB101: 0 | CC101: 0 | CD101: 1 | CE101: jā | CF101: 0 | CG101: 0 | CH101: 0 | CI101: 1 | CJ101: daļēji | CK101: 0 | CL101: 0 | CM101: 1 | CN101: 0 | CO101: daļēji | CP101: 0 | CQ101: 0 | CR101: 1 | CS101: 0 | CT101: daļēji | CU101: 0 | CV101: 0 | CW101: 1 | CX101: 0 | CY101: jā | CZ101: 0 | DA101: 0 | DB101: 0 | DC101: 1 | DD101: jā | DE101: 0 | DF101: 0 | DG101: 0 | DH101: 1 | DI101: jā | DJ101: 0 | DK101: 0 | DL101: 0 | DM101: 1
A102: 55 | B102: 183 | C102: 45915.584 | D102: 45915.584 | E102: 350 | F102: 0 | G102: 0 | H102: 0 | I102: 0 | J102: 1 | K102: 0 | M102: 0 | N102: Valsts asinsdonoru centrs | O102: 0 | P102: 0 | Q102: 3 | R102: 11 | S102: 4 | T102: daļēji | U102: 0 | V102: 0 | W102: 1 | X102: 0 | Y102: jā | Z102: 0 | AA102: 0 | AB102: 0 | AC102: 1 | AD102: jā | AE102: 0 | AF102: 0 | AG102: 0 | AH102: 1 | AI102: 2 | AJ102: 0 | AK102: 1 | AL102: 0 | AM102: 0 | AN102: 0 | AO102: 0 | AP102: 0 | AQ102: daļēji | AR102: 0 | AS102: 0 | AT102: 1 | AU102: 0 | AV102: jā | AW102: 0 | AX102: 0 | AY102: 0 | AZ102: 1 | BA102: daļēji | BB102: 0 | BC102: 0 | BD102: 1 | BE102: 0 | BF102: daļēji | BG102: 0 | BH102: 0 | BI102: 1 | BJ102: 0 | BK102: daļēji | BL102: 0 | BM102: 0 | BN102: 1 | BO102: 0 | BP102: jā | BQ102: 0 | BR102: 0 | BS102: 0 | BT102: 1 | BU102: daļēji | BV102: 0 | BW102: 0 | BX102: 1 | BY102: 0 | BZ102: daļēji | CA102: 0 | CB102: 0 | CC102: 1 | CD102: 0 | CE102: daļēji | CF102: 0 | CG102: 0 | CH102: 1 | CI102: 0 | CJ102: daļēji | CK102: 0 | CL102: 0 | CM102: 1 | CN102: 0 | CO102: daļēji | CP102: 0 | CQ102: 0 | CR102: 1 | CS102: 0 | CT102: daļēji | CU102: 0 | CV102: 0 | CW102: 1 | CX102: 0 | CY102: nē | CZ102: 0 | DA102: 1 | DB102: 0 | DC102: 0 | DD102: nē | DE102: 0 | DF102: 1 | DG102: 0 | DH102: 0 | DI102: nē | DJ102: 0 | DK102: 1 | DL102: 0 | DM102: 0
A103: 56 | B103: 184 | C103: 45915.592 | D103: 45915.592 | E103: 350 | F103: 0 | G103: 0 | H103: 0 | I103: 0 | J103: 1 | K103: 0 | M103: 0 | N103: Nodarbinātības valsts aģentūra | O103: 0 | P103: 0 | Q103: 12 | R103: 5 | S103: 1 | T103: daļēji | U103: 0 | V103: 0 | W103: 1 | X103: 0 | Y103: nē | Z103: 0 | AA103: 1 | AB103: 0 | AC103: 0 | AD103: daļēji | AE103: 0 | AF103: 0 | AG103: 1 | AH103: 0 | AI103: 37 | AJ103: 0 | AK103: 0 | AL103: 0 | AM103: 0 | AN103: 1 | AO103: 0 | AP103: 0 | AQ103: jā | AR103: 0 | AS103: 0 | AT103: 0 | AU103: 1 | AV103: daļēji | AW103: 0 | AX103: 0 | AY103: 1 | AZ103: 0 | BA103: nē | BB103: 0 | BC103: 1 | BD103: 0 | BE103: 0 | BF103: daļēji | BG103: 0 | BH103: 0 | BI103: 1 | BJ103: 0 | BK103: nē | BL103: 0 | BM103: 1 | BN103: 0 | BO103: 0 | BP103: nē | BQ103: 0 | BR103: 1 | BS103: 0 | BT103: 0 | BU103: nē | BV103: 0 | BW103: 1 | BX103: 0 | BY103: 0 | BZ103: nē | CA103: 0 | CB103: 1 | CC103: 0 | CD103: 0 | CE103: daļēji | CF103: 0 | CG103: 0 | CH103: 1 | CI103: 0 | CJ103: nē | CK103: 0 | CL103: 1 | CM103: 0 | CN103: 0 | CO103: nē | CP103: 0 | CQ103: 1 | CR103: 0 | CS103: 0 | CT103: nē | CU103: 0 | CV103: 1 | CW103: 0 | CX103: 0 | CY103: nē | CZ103: 0 | DA103: 1 | DB103: 0 | DC103: 0 | DD103: nē | DE103: 0 | DF103: 1 | DG103: 0 | DH103: 0 | DI103: nē | DJ103: 0 | DK103: 1 | DL103: 0 | DM103: 0
A104: 38 | B104: 164 | C104: 45911.386 | D104: 45911.386 | E104: 354 | F104: 0 | G104: 0 | H104: 0 | I104: 0 | J104: 1 | K104: 0 | M104: 0 | N104: Gulbenes novada jauniešu centrs "Bāze" | O104: 0 | P104: 0 | Q104: 11 | R104: 4 | S104: 3 | T104: jā | U104: 0 | V104: 0 | W104: 0 | X104: 1 | Y104: jā | Z104: 0 | AA104: 0 | AB104: 0 | AC104: 1 | AD104: daļēji | AE104: 0 | AF104: 0 | AG104: 1 | AH104: 0 | AI104: 4 | AJ104: 0 | AK104: 0 | AL104: 1 | AM104: 0 | AN104: 0 | AO104: 0 | AP104: 0 | AQ104: daļēji | AR104: 0 | AS104: 0 | AT104: 1 | AU104: 0 | AV104: nē | AW104: 0 | AX104: 1 | AY104: 0 | AZ104: 0 | BA104: jā | BB104: 0 | BC104: 0 | BD104: 0 | BE104: 1 | BF104: daļēji | BG104: 0 | BH104: 0 | BI104: 1 | BJ104: 0 | BK104: daļēji | BL104: 0 | BM104: 0 | BN104: 1 | BO104: 0 | BP104: nē | BQ104: 0 | BR104: 1 | BS104: 0 | BT104: 0 | BU104: nē | BV104: 0 | BW104: 1 | BX104: 0 | BY104: 0 | BZ104: nē | CA104: 0 | CB104: 1 | CC104: 0 | CD104: 0 | CE104: nē | CF104: 0 | CG104: 1 | CH104: 0 | CI104: 0 | CJ104: nē | CK104: 0 | CL104: 1 | CM104: 0 | CN104: 0 | CO104: nē | CP104: 0 | CQ104: 1 | CR104: 0 | CS104: 0 | CT104: nē | CU104: 0 | CV104: 1 | CW104: 0 | CX104: 0 | CY104: nē | CZ104: 0 | DA104: 1 | DB104: 0 | DC104: 0 | DD104: nē | DE104: 0 | DF104: 1 | DG104: 0 | DH104: 0 | DI104: nē | DJ104: 0 | DK104: 1 | DL104: 0 | DM104: 0
A105: 39 | B105: 166 | C105: 45911.41 | D105: 45911.41 | E105: 354 | F105: 0 | G105: 0 | H105: 0 | I105: 0 | J105: 1 | K105: 0 | M105: 0 | N105: Gulbenes labiekārtošanas iestāde | O105: 0 | P105: 0 | Q105: 9 | R105: 2 | S105: 7 | T105: jā | U105: 0 | V105: 0 | W105: 0 | X105: 1 | Y105: jā | Z105: 0 | AA105: 0 | AB105: 0 | AC105: 1 | AD105: jā | AE105: 0 | AF105: 0 | AG105: 0 | AH105: 1 | AI105: 14 | AJ105: 0 | AK105: 0 | AL105: 0 | AM105: 1 | AN105: 0 | AO105: 0 | AP105: 0 | AQ105: jā | AR105: 0 | AS105: 0 | AT105: 0 | AU105: 1 | AV105: jā | AW105: 0 | AX105: 0 | AY105: 0 | AZ105: 1 | BA105: jā | BB105: 0 | BC105: 0 | BD105: 0 | BE105: 1 | BF105: daļēji | BG105: 0 | BH105: 0 | BI105: 1 | BJ105: 0 | BK105: jā | BL105: 0 | BM105: 0 | BN105: 0 | BO105: 1 | BP105: nē | BQ105: 0 | BR105: 1 | BS105: 0 | BT105: 0 | BU105: nē | BV105: 0 | BW105: 1 | BX105: 0 | BY105: 0 | BZ105: nē | CA105: 0 | CB105: 1 | CC105: 0 | CD105: 0 | CE105: daļēji | CF105: 0 | CG105: 0 | CH105: 1 | CI105: 0 | CJ105: nē | CK105: 0 | CL105: 1 | CM105: 0 | CN105: 0 | CO105: nē | CP105: 0 | CQ105: 1 | CR105: 0 | CS105: 0 | CT105: nē | CU105: 0 | CV105: 1 | CW105: 0 | CX105: 0 | CY105: nē | CZ105: 0 | DA105: 1 | DB105: 0 | DC105: 0 | DD105: nē | DE105: 0 | DF105: 1 | DG105: 0 | DH105: 0 | DI105: nē | DJ105: 0 | DK105: 1 | DL105: 0 | DM105: 0
... A126: 30 | B126: 151 | C126: 45905.509 | D126: 45905.509 | E126: 360 | F126: 0 | G126: 0 | H126: 0 | I126: 0 | J126: 1 | K126: 0 | M126: 0 | N126: Valsts vides dienests | O126: 0 | P126: 0 | Q126: 0 | R126: 0 | S126: 18 | T126: jā | U126: 0 | V126: 0 | W126: 0 | X126: 1 | Y126: jā | Z126: 0 | AA126: 0 | AB126: 0 | AC126: 1 | AD126: jā | AE126: 0 | AF126: 0 | AG126: 0 | AH126: 1 | AI126: 36 | AJ126: 0 | AK126: 0 | AL126: 0 | AM126: 0 | AN126: 1 | AO126: 0 | AP126: 0 | AQ126: jā | AR126: 0 | AS126: 0 | AT126: 0 | AU126: 1 | AV126: jā | AW126: 0 | AX126: 0 | AY126: 0 | AZ126: 1 | BA126: jā | BB126: 0 | BC126: 0 | BD126: 0 | BE126: 1 | BF126: jā | BG126: 0 | BH126: 0 | BI126: 0 | BJ126: 1 | BK126: jā | BL126: 0 | BM126: 0 | BN126: 0 | BO126: 1 | BP126: jā | BQ126: 0 | BR126: 0 | BS126: 0 | BT126: 1 | BU126: jā | BV126: 0 | BW126: 0 | BX126: 0 | BY126: 1 | BZ126: jā | CA126: 0 | CB126: 0 | CC126: 0 | CD126: 1 | CE126: jā | CF126: 0 | CG126: 0 | CH126: 0 | CI126: 1 | CJ126: jā | CK126: 0 | CL126: 0 | CM126: 0 | CN126: 1 | CO126: jā | CP126: 0 | CQ126: 0 | CR126: 0 | CS126: 1 | CT126: jā | CU126: 0 | CV126: 0 | CW126: 0 | CX126: 1 | CY126: jā | CZ126: 0 | DA126: 0 | DB126: 0 | DC126: 1 | DD126: jā | DE126: 0 | DF126: 0 | DG126: 0 | DH126: 1 | DI126: jā | DJ126: 0 | DK126: 0 | DL126: 0 | DM126: 1
A127: 27 | B127: 143 | C127: 45904.422 | D127: 45904.422 | E127: 361 | F127: 0 | G127: 0 | H127: 0 | I127: 0 | J127: 0 | K127: 1 | M127: 0 | N127: VSIA Šampētera nams | O127: 0 | P127: 0 | Q127: 18 | R127: 0 | S127: 0 | T127: nē | U127: 0 | V127: 1 | W127: 0 | X127: 0 | Y127: nē | Z127: 0 | AA127: 1 | AB127: 0 | AC127: 0 | AD127: nē | AE127: 0 | AF127: 1 | AG127: 0 | AH127: 0 | AI127: nav | AJ127: 1 | AK127: 0 | AL127: 0 | AM127: 0 | AN127: 0 | AO127: 0 | AP127: 0 | AQ127: nē | AR127: 0 | AS127: 1 | AT127: 0 | AU127: 0 | AV127: nē | AW127: 0 | AX127: 1 | AY127: 0 | AZ127: 0 | BA127: nē | BB127: 0 | BC127: 1 | BD127: 0 | BE127: 0 | BF127: nē | BG127: 0 | BH127: 1 | BI127: 0 | BJ127: 0 | BK127: nē | BL127: 0 | BM127: 1 | BN127: 0 | BO127: 0 | BP127: nē | BQ127: 0 | BR127: 1 | BS127: 0 | BT127: 0 | BU127: nē | BV127: 0 | BW127: 1 | BX127: 0 | BY127: 0 | BZ127: nē | CA127: 0 | CB127: 1 | CC127: 0 | CD127: 0 | CE127: nē | CF127: 0 | CG127: 1 | CH127: 0 | CI127: 0 | CJ127: nē | CK127: 0 | CL127: 1 | CM127: 0 | CN127: 0 | CO127: nē | CP127: 0 | CQ127: 1 | CR127: 0 | CS127: 0 | CT127: nē | CU127: 0 | CV127: 1 | CW127: 0 | CX127: 0 | CY127: nē | CZ127: 0 | DA127: 1 | DB127: 0 | DC127: 0 | DD127: nē | DE127: 0 | DF127: 1 | DG127: 0 | DH127: 0 | DI127: nē | DJ127: 0 | DK127: 1 | DL127: 0 | DM127: 0
A128: 28 | B128: 146 | C128: 45904.516 | D128: 45904.516 | E128: 361 | F128: 0 | G128: 0 | H128: 0 | I128: 0 | J128: 0 | K128: 1 | M128: 0 | N128: Kiberdrošības incidentu novēršanas institūcija CERT.LV | O128: 0 | P128: 0 | Q128: 4 | R128: 2 | S128: 12 | T128: jā | U128: 0 | V128: 0 | W128: 0 | X128: 1 | Y128: jā | Z128: 0 | AA128: 0 | AB128: 0 | AC128: 1 | AD128: jā | AE128: 0 | AF128: 0 | AG128: 0 | AH128: 1 | AI128: 2 | AJ128: 0 | AK128: 1 | AL128: 0 | AM128: 0 | AN128: 0 | AO128: 0 | AP128: 0 | AQ128: jā | AR128: 0 | AS128: 0 | AT128: 0 | AU128: 1 | AV128: daļēji | AW128: 0 | AX128: 0 | AY128: 1 | AZ128: 0 | BA128: jā | BB128: 0 | BC128: 0 | BD128: 0 | BE128: 1 | BF128: jā | BG128: 0 | BH128: 0 | BI128: 0 | BJ128: 1 | BK128: jā | BL128: 0 | BM128: 0 | BN128: 0 | BO128: 1 | BP128: jā | BQ128: 0 | BR128: 0 | BS128: 0 | BT128: 1 | BU128: jā | BV128: 0 | BW128: 0 | BX128: 0 | BY128: 1 | BZ128: daļēji | CA128: 0 | CB128: 0 | CC128: 1 | CD128: 0 | CE128: jā | CF128: 0 | CG128: 0 | CH128: 0 | CI128: 1 | CJ128: jā | CK128: 0 | CL128: 0 | CM128: 0 | CN128: 1 | CO128: jā | CP128: 0 | CQ128: 0 | CR128: 0 | CS128: 1 | CT128: nē | CU128: 0 | CV128: 1 | CW128: 0 | CX128: 0 | CY128: nē | CZ128: 0 | DA128: 1 | DB128: 0 | DC128: 0 | DD128: nē | DE128: 0 | DF128: 1 | DG128: 0 | DH128: 0 | DI128: nē | DJ128: 0 | DK128: 1 | DL128: 0 | DM128: 0
A129: 6 | B129: 75 | C129: 45770.453 | D129: 45770.453 | E129: 495 | F129: 0 | G129: 0 | H129: 0 | I129: 0 | J129: 0 | K129: 1 | M129: 0 | N129: Transporta nelaimes gadījumu un incidentu izmeklēšanas birojs | O129: 0 | P129: 0 | Q129: 8 | R129: 1 | S129: 4 | T129: nē | U129: 0 | V129: 1 | W129: 0 | X129: 0 | Y129: jā | Z129: 0 | AA129: 0 | AB129: 0 | AC129: 1 | AD129: jā | AE129: 0 | AF129: 0 | AG129: 0 | AH129: 1 | AI129: 1 | AJ129: 0 | AK129: 1 | AL129: 0 | AM129: 0 | AN129: 0 | AO129: 0 | AP129: 0 | AQ129: jā | AR129: 0 | AS129: 0 | AT129: 0 | AU129: 1 | AV129: jā | AW129: 0 | AX129: 0 | AY129: 0 | AZ129: 1 | BA129: nē | BB129: 0 | BC129: 1 | BD129: 0 | BE129: 0 | BF129: nē | BG129: 0 | BH129: 1 | BI129: 0 | BJ129: 0 | BK129: daļēji | BL129: 0 | BM129: 0 | BN129: 1 | BO129: 0 | BP129: nav zināms | BQ129: 1 | BR129: 0 | BS129: 0 | BT129: 0 | BU129: nav zināms | BV129: 1 | BW129: 0 | BX129: 0 | BY129: 0 | BZ129: nav zināms | CA129: 1 | CB129: 0 | CC129: 0 | CD129: 0 | CE129: nav zināms | CF129: 1 | CG129: 0 | CH129: 0 | CI129: 0 | CJ129: nē | CK129: 0 | CL129: 1 | CM129: 0 | CN129: 0 | CO129: nē | CP129: 0 | CQ129: 1 | CR129: 0 | CS129: 0 | CT129: nav zināms | CU129: 1 | CV129: 0 | CW129: 0 | CX129: 0 | CY129: nē | CZ129: 0 | DA129: 1 | DB129: 0 | DC129: 0 | DD129: nē | DE129: 0 | DF129: 1 | DG129: 0 | DH129: 0 | DI129: nē | DJ129: 0 | DK129: 1 | DL129: 0 | DM129: 0
A130: 7 | B130: 78 | C130: 45770.569 | D130: 45770.569 | E130: 495 | F130: 0 | G130: 0 | H130: 0 | I130: 0 | J130: 0 | K130: 1 | M130: 0 | N130: VSIA "Latvijas Jūras administrācija" | O130: 0 | P130: 0 | Q130: 0 | R130: 5 | S130: 8 | T130: jā | U130: 0 | V130: 0 | W130: 0 | X130: 1 | Y130: daļēji | Z130: 0 | AA130: 0 | AB130: 1 | AC130: 0 | AD130: daļēji | AE130: 0 | AF130: 0 | AG130: 1 | AH130: 0 | AI130: 27 | AJ130: 0 | AK130: 0 | AL130: 0 | AM130: 1 | AN130: 0 | AO130: 0 | AP130: 0 | AQ130: jā | AR130: 0 | AS130: 0 | AT130: 0 | AU130: 1 | AV130: daļēji | AW130: 0 | AX130: 0 | AY130: 1 | AZ130: 0 | BA130: jā | BB130: 0 | BC130: 0 | BD130: 0 | BE130: 1 | BF130: daļēji | BG130: 0 | BH130: 0 | BI130: 1 | BJ130: 0 | BK130: jā | BL130: 0 | BM130: 0 | BN130: 0 | BO130: 1 | BP130: nav zināms | BQ130: 1 | BR130: 0 | BS130: 0 | BT130: 0 | BU130: nav zināms | BV130: 1 | BW130: 0 | BX130: 0 | BY130: 0 | BZ130: nav zināms | CA130: 1 | CB130: 0 | CC130: 0 | CD130: 0 | CE130: nav zināms | CF130: 1 | CG130: 0 | CH130: 0 | CI130: 0 | CJ130: jā | CK130: 0 | CL130: 0 | CM130: 0 | CN130: 1 | CO130: daļēji | CP130: 0 | CQ130: 0 | CR130: 1 | CS130: 0 | CT130: nav zināms | CU130: 1 | CV130: 0 | CW130: 0 | CX130: 0 | CY130: jā | CZ130: 0 | DA130: 0 | DB130: 0 | DC130: 1 | DD130: jā | DE130: 0 | DF130: 0 | DG130: 0 | DH130: 1 | DI130: jā | DJ130: 0 | DK130: 0 | DL130: 0 | DM130: 1
A131: 8 | B131: 79 | C131: 45770.688 | D131: 45770.688 | E131: 495 | F131: 0 | G131: 0 | H131: 0 | I131: 0 | J131: 0 | K131: 1 | M131: 0 | N131: Latvijas Zinātnes padome | O131: 0 | P131: 0 | Q131: 6 | R131: 6 | S131: 1 | T131: daļēji | U131: 0 | V131: 0 | W131: 1 | X131: 0 | Y131: daļēji | Z131: 0 | AA131: 0 | AB131: 1 | AC131: 0 | AD131: daļēji | AE131: 0 | AF131: 0 | AG131: 1 | AH131: 0 | AI131: 2 | AJ131: 0 | AK131: 1 | AL131: 0 | AM131: 0 | AN131: 0 | AO131: 0 | AP131: 0 | AQ131: daļēji | AR131: 0 | AS131: 0 | AT131: 1 | AU131: 0 | AV131: daļēji | AW131: 0 | AX131: 0 | AY131: 1 | AZ131: 0 | BA131: jā | BB131: 0 | BC131: 0 | BD131: 0 | BE131: 1 | BF131: daļēji | BG131: 0 | BH131: 0 | BI131: 1 | BJ131: 0 | BK131: nē | BL131: 0 | BM131: 1 | BN131: 0 | BO131: 0 | BP131: nav zināms | BQ131: 1 | BR131: 0 | BS131: 0 | BT131: 0 | BU131: nav zināms | BV131: 1 | BW131: 0 | BX131: 0 | BY131: 0 | BZ131: nav zināms | CA131: 1 | CB131: 0 | CC131: 0 | CD131: 0 | CE131: nav zināms | CF131: 1 | CG131: 0 | CH131: 0 | CI131: 0 | CJ131: nē | CK131: 0 | CL131: 1 | CM131: 0 | CN131: 0 | CO131: nē | CP131: 0 | CQ131: 1 | CR131: 0 | CS131: 0 | CT131: nav zināms | CU131: 1 | CV131: 0 | CW131: 0 | CX131: 0 | CY131: nē | CZ131: 0 | DA131: 1 | DB131: 0 | DC131: 0 | DD131: nē | DE131: 0 | DF131: 1 | DG131: 0 | DH131: 0 | DI131: nē | DJ131: 0 | DK131: 1 | DL131: 0 | DM131: 0
A132: 9 | B132: 81 | C132: 45770.857 | D132: 45770.857 | E132: 495 | F132: 0 | G132: 0 | H132: 0 | I132: 0 | J132: 0 | K132: 1 | M132: 0 | N132: Valsts aģentūra “Latvijas Nacionālais akreditācijas birojs” | O132: 0 | P132: 0 | Q132: 9 | R132: 4 | S132: 0 | T132: daļēji | U132: 0 | V132: 0 | W132: 1 | X132: 0 | Y132: nē | Z132: 0 | AA132: 1 | AB132: 0 | AC132: 0 | AD132: nē | AE132: 0 | AF132: 1 | AG132: 0 | AH132: 0 | AI132: 1 | AJ132: 0 | AK132: 1 | AL132: 0 | AM132: 0 | AN132: 0 | AO132: 0 | AP132: 0 | AQ132: nē | AR132: 0 | AS132: 1 | AT132: 0 | AU132: 0 | AV132: nē | AW132: 0 | AX132: 1 | AY132: 0 | AZ132: 0 | BA132: daļēji | BB132: 0 | BC132: 0 | BD132: 1 | BE132: 0 | BF132: daļēji | BG132: 0 | BH132: 0 | BI132: 1 | BJ132: 0 | BK132: daļēji | BL132: 0 | BM132: 0 | BN132: 1 | BO132: 0 | BP132: nav zināms | BQ132: 1 | BR132: 0 | BS132: 0 | BT132: 0 | BU132: nav zināms | BV132: 1 | BW132: 0 | BX132: 0 | BY132: 0 | BZ132: nav zināms | CA132: 1 | CB132: 0 | CC132: 0 | CD132: 0 | CE132: nav zināms | CF132: 1 | CG132: 0 | CH132: 0 | CI132: 0 | CJ132: nē | CK132: 0 | CL132: 1 | CM132: 0 | CN132: 0 | CO132: nē | CP132: 0 | CQ132: 1 | CR132: 0 | CS132: 0 | CT132: nav zināms | CU132: 1 | CV132: 0 | CW132: 0 | CX132: 0 | CY132: nē | CZ132: 0 | DA132: 1 | DB132: 0 | DC132: 0 | DD132: nē | DE132: 0 | DF132: 1 | DG132: 0 | DH132: 0 | DI132: nē | DJ132: 0 | DK132: 1 | DL132: 0 | DM132: 0
A133: 4 | B133: 70 | C133: 45763.408 | D133: 45763.408 | E133: 502 | F133: 0 | G133: 0 | H133: 0 | I133: 0 | J133: 0 | K133: 1 | M133: 0 | N133: Kultūras informācijas sistēmu centrs | O133: 0 | P133: 0 | Q133: 1 | R133: 4 | S133: 8 | T133: jā | U133: 0 | V133: 0 | W133: 0 | X133: 1 | Y133: jā | Z133: 0 | AA133: 0 | AB133: 0 | AC133: 1 | AD133: jā | AE133: 0 | AF133: 0 | AG133: 0 | AH133: 1 | AI133: 16 | AJ133: 0 | AK133: 0 | AL133: 0 | AM133: 1 | AN133: 0 | AO133: 0 | AP133: 0 | AQ133: jā | AR133: 0 | AS133: 0 | AT133: 0 | AU133: 1 | AV133: jā | AW133: 0 | AX133: 0 | AY133: 0 | AZ133: 1 | BA133: daļēji | BB133: 0 | BC133: 0 | BD133: 1 | BE133: 0 | BF133: daļēji | BG133: 0 | BH133: 0 | BI133: 1 | BJ133: 0 | BK133: nē | BL133: 0 | BM133: 1 | BN133: 0 | BO133: 0 | BP133: nav zināms | BQ133: 1 | BR133: 0 | BS133: 0 | BT133: 0 | BU133: nav zināms | BV133: 1 | BW133: 0 | BX133: 0 | BY133: 0 | BZ133: nav zināms | CA133: 1 | CB133: 0 | CC133: 0 | CD133: 0 | CE133: nav zināms | CF133: 1 | CG133: 0 | CH133: 0 | CI133: 0 | CJ133: daļēji | CK133: 0 | CL133: 0 | CM133: 1 | CN133: 0 | CO133: daļēji | CP133: 0 | CQ133: 0 | CR133: 1 | CS133: 0 | CT133: nav zināms | CU133: 1 | CV133: 0 | CW133: 0 | CX133: 0 | CY133: jā | CZ133: 0 | DA133: 0 | DB133: 0 | DC133: 1 | DD133: jā | DE133: 0 | DF133: 0 | DG133: 0 | DH133: 1 | DI133: jā | DJ133: 0 | DK133: 0 | DL133: 0 | DM133: 1
A134: 5 | B134: 72 | C134: 45763.455 | D134: 45763.455 | E134: 502 | F134: 0 | G134: 0 | H134: 0 | I134: 0 | J134: 0 | K134: 1 | M134: 0 | N134: Jaunsardzes centrs | O134: 0 | P134: 0 | Q134: 13 | R134: 0 | S134: 0 | T134: nē | U134: 0 | V134: 1 | W134: 0 | X134: 0 | Y134: nē | Z134: 0 | AA134: 1 | AB134: 0 | AC134: 0 | AD134: nē | AE134: 0 | AF134: 1 | AG134: 0 | AH134: 0 | AI134: nav zināms | AJ134: 0 | AK134: 0 | AL134: 0 | AM134: 0 | AN134: 0 | AO134: 0 | AP134: 1 | AQ134: nē | AR134: 0 | AS134: 1 | AT134: 0 | AU134: 0 | AV134: nē | AW134: 0 | AX134: 1 | AY134: 0 | AZ134: 0 | BA134: nē | BB134: 0 | BC134: 1 | BD134: 0 | BE134: 0 | BF134: nē | BG134: 0 | BH134: 1 | BI134: 0 | BJ134: 0 | BK134: nē | BL134: 0 | BM134: 1 | BN134: 0 | BO134: 0 | BP134: nav zināms | BQ134: 1 | BR134: 0 | BS134: 0 | BT134: 0 | BU134: nav zināms | BV134: 1 | BW134: 0 | BX134: 0 | BY134: 0 | BZ134: nav zināms | CA134: 1 | CB134: 0 | CC134: 0 | CD134: 0 | CE134: nav zināms | CF134: 1 | CG134: 0 | CH134: 0 | CI134: 0 | CJ134: nē | CK134: 0 | CL134: 1 | CM134: 0 | CN134: 0 | CO134: nē | CP134: 0 | CQ134: 1 | CR134: 0 | CS134: 0 | CT134: nav zināms | CU134: 1 | CV134: 0 | CW134: 0 | CX134: 0 | CY134: nē | CZ134: 0 | DA134: 1 | DB134: 0 | DC134: 0 | DD134: nē | DE134: 0 | DF134: 1 | DG134: 0 | DH134: 0 | DI134: nē | DJ134: 0 | DK134: 1 | DL134: 0 | DM134: 0
...

Sheet Kopsavilkums_C
C1: VARAM aptauja par "Pakalpojumu vides pilnveides plāna 2024.–2027. gadam" īstenošanas gaitu | J1: =IF(Apstrade_C!A1>0,"● Informācija apkopota:"," ") -> ● Informācija apkopota: | P1: =Apstrade_C!A1 -> 31.08.2026. | W1: ● Pakalpojumu vides pilnveide: https://www.varam.gov.lv/lv/pakalpojumu-vides-pilnveide
C2: Iestādei – "Iestādes pakalpojumu kopuma vadītājam" | W2: ● Atbalsts: pvp@varam.gov.lv
J3: Iestāžu skaits | Q3: Iestāžu īpatsvars | W3: ● Tiešsaistes konsultācijas: katru ceturtdienu 15:00–17:00 (MS Teams vidē)
B4: "Pakalpojumu vides pilnveides plāna 2024.–2027. gadam" pasākumi | E4: Pilnveides posmi | G4: Pakalpojumu vides pilnveides gaita iestādēs (iestāžu pašdeklarētais progress) | J4: → nē | K4: → daļēji | L4: jā | M4: nav zināms | N4: Pilnveides progress ↓↓↓ | Q4: → nē | R4: → daļēji | S4: jā | T4: nav zināms | W4: Vispārīga informācija
B7: P1.1. | C7: Apmācīt iestāžu pārstāvjus par pakalpojumu veidiem, pakalpojumu pārvaldības mērogiem un līmeņiem, pakalpojumu pārvaldības lomām un to pienākumiem | E7: Sākotnējā apmācība | G7: 1. | H7: Iestādē ir veikta darbinieku sākotnējā apmācība par pakalpojumu veidiem, pakalpojumu pārvaldības mērogiem un līmeņiem, galvenajām pakalpojumu pārvaldības lomām un lomām atbilstošajiem pienākumiem | J7: =Apstrade_C!T5 -> 12 | K7: =Apstrade_C!T6 -> 19 | L7: =Apstrade_C!T7 -> 80 | M7: =Apstrade_C!T4 -> 0 | Q7: =IF($X$10=0," ",J7/$X$10) -> 0.10810811 | R7: =IF($X$10=0," ",K7/$X$10) -> 0.17117117 | S7: =IF($X$10=0," ",L7/$X$10) -> 0.72072072 | T7: =IF($X$10=0," ",M7/$X$10) -> 0 | W7: Iestādes kopā: | X7: =X11+X10 -> 128
E8: ↓ | O8: =IF($X$10=0," ",E8) -> ↓ | W8: Aptaujas anketas aizpildīšana (iestāžu pašdeklarēšanās)
B9: P1.2. | C9: Izveidot pakalpojumu pārvaldības politikas īstenošanas komandas | E9: Komandu izveide | G9: 2. | H9: Iestādē ir noteikts Iestādes pakalpojumu kopuma vadītājs – atbildīgais par pakalpojumu pārvaldību iestādē kopumā | J9: =Apstrade_C!Y5 -> 16 | K9: =Apstrade_C!Y6 -> 8 | L9: =Apstrade_C!Y7 -> 87 | M9: =Apstrade_C!Y4 -> 0 | Q9: =IF($X$10=0," ",J9/$X$10) -> 0.14414414 | R9: =IF($X$10=0," ",K9/$X$10) -> 0.072072072 | S9: =IF($X$10=0," ",L9/$X$10) -> 0.78378378 | T9: =IF($X$10=0," ",M9/$X$10) -> 0
G10: 3. | H10: Iestādē ir izveidots visu pakalpojumu pilnais saraksts – "Pakalpojumu portfolio" | J10: =Apstrade_C!AD5 -> 14 | K10: =Apstrade_C!AD6 -> 22 | L10: =Apstrade_C!AD7 -> 75 | M10: =Apstrade_C!AD4 -> 0 | Q10: =IF($X$10=0," ",J10/$X$10) -> 0.12612613 | R10: =IF($X$10=0," ",K10/$X$10) -> 0.1981982 | S10: =IF($X$10=0," ",L10/$X$10) -> 0.67567568 | T10: =IF($X$10=0," ",M10/$X$10) -> 0 | W10: Iestādes, kas ir aizpildījušas aptaujas anketu | X10: =Apstrade_C!N7 -> 111 | Y10: =IF(X7=0," ",X10/X7) -> 0.8671875 | AC10: =IF(Y11=1,"D",IF(Y11=0,"C"," "))
G11: 4. | H11: Iestādē ir noteikti visu Pakalpojumu vadītāji | J11: =Apstrade_C!AQ5 -> 11 | K11: =Apstrade_C!AQ6 -> 24 | L11: =Apstrade_C!AQ7 -> 76 | M11: =Apstrade_C!AQ4 -> 0 | Q11: =IF($X$10=0," ",J11/$X$10) -> 0.099099099 | R11: =IF($X$10=0," ",K11/$X$10) -> 0.21621622 | S11: =IF($X$10=0," ",L11/$X$10) -> 0.68468468 | T11: =IF($X$10=0," ",M11/$X$10) -> 0 | W11: Iestādes, kas vēl nav aizpildījušas aptaujas anketu | X11: =Apstrade_C!N5 -> 17 | Y11: =IF(X7=0,"",X11/X7) -> 0.1328125
G12: 5. | H12: Iestādē Iestādes pakalpojumu kopuma vadītājs un visu Pakalpojumu vadītāji ir apstiprināti ar rīkojumu | J12: =Apstrade_C!AV5 -> 38 | K12: =Apstrade_C!AV6 -> 16 | L12: =Apstrade_C!AV7 -> 57 | M12: =Apstrade_C!AV4 -> 0 | Q12: =IF($X$10=0," ",J12/$X$10) -> 0.34234234 | R12: =IF($X$10=0," ",K12/$X$10) -> 0.14414414 | S12: =IF($X$10=0," ",L12/$X$10) -> 0.51351351 | T12: =IF($X$10=0," ",M12/$X$10) -> 0 | W12: Iestāžu iesaistīšanās pakalpojumu vides pilnveidē
E13: ↓ | O13: =IF($X$10=0," ",E13) -> ↓
B14: P1-3 | C14: Apmācīt pakalpojumu pārvaldības politikas īstenošanas komandas par pakalpojumu pārvaldības politiku | E14: Vispārējā komandu apmācība | G14: 6. | H14: Iestādē Iestādes pakalpojumu kopuma vadītājs ir apmācīts par pakalpojumu pārvaldības politiku kopumā, tostarp pakalpojumu pārvaldības sistēmas sastāvdaļām | J14: =Apstrade_C!BA5 -> 15 | K14: =Apstrade_C!BA6 -> 20 | L14: =Apstrade_C!BA7 -> 76 | M14: =Apstrade_C!BA4 -> 0 | Q14: =IF($X$10=0," ",J14/$X$10) -> 0.13513514 | R14: =IF($X$10=0," ",K14/$X$10) -> 0.18018018 | S14: =IF($X$10=0," ",L14/$X$10) -> 0.68468468 | T14: =IF($X$10=0," ",M14/$X$10) -> 0 | W14: Pakalpojumi kopā: | X14: =Apstrade_C!AI2 -> 1669
G15: 7. | H15: Iestādē visu Pakalpojumu vadītāji ir apmācīti par pakalpojumu pārvaldības politiku kopumā, tostarp pakalpojumu pārvaldības sistēmas sastāvdaļām | J15: =Apstrade_C!BF5 -> 13 | K15: =Apstrade_C!BF6 -> 47 | L15: =Apstrade_C!BF7 -> 51 | M15: =Apstrade_C!BF4 -> 0 | Q15: =IF($X$10=0," ",J15/$X$10) -> 0.11711712 | R15: =IF($X$10=0," ",K15/$X$10) -> 0.42342342 | S15: =IF($X$10=0," ",L15/$X$10) -> 0.45945946 | T15: =IF($X$10=0," ",M15/$X$10) -> 0 | W15: Pakalpojumu skaita sadalījums iestādēs
E16: ↓↓ | O16: =IF($X$10=0," ",E16) -> ↓↓
B17: P2.2. | C17: Apmācīt pakalpojumu pārvaldības politikas īstenošanas komandas par pakalpojumu un pakalpojumu pārvaldības esošā stāvokļa novērtēšanu un pilnveides plānu izveidi | E17: Specializētā komandu apmācība | G17: 8. | H17: Iestādē Iestādes pakalpojumu kopuma vadītājs ir apmācīts par pakalpojumu un pakalpojumu pārvaldības novērtēšanu un pilnveides plānu izveidi | J17: =Apstrade_C!BK5 -> 18 | K17: =Apstrade_C!BK6 -> 19 | L17: =Apstrade_C!BK7 -> 74 | M17: =Apstrade_C!BK4 -> 0 | Q17: =IF($X$10=0," ",J17/$X$10) -> 0.16216216 | R17: =IF($X$10=0," ",K17/$X$10) -> 0.17117117 | S17: =IF($X$10=0," ",L17/$X$10) -> 0.66666667 | T17: =IF($X$10=0," ",M17/$X$10) -> 0 | W17: pakalpojumu skaits | Y17: pakalpojumu nav | Z17: 1 vai 2 | AA17: 3–10 | AB17: 11–30 | AC17: 31–90 | AD17: vairāk kā 90 | AE17: nav zināms
G18: 9. | H18: Iestādē visu Pakalpojumu vadītāji ir apmācīti par pakalpojumu un pakalpojumu pārvaldības novērtēšanu un pilnveides plānu izveidi | J18: =Apstrade_C!CE5 -> 16 | K18: =Apstrade_C!CE6 -> 28 | L18: =Apstrade_C!CE7 -> 58 | M18: =Apstrade_C!CE4 -> 9 | Q18: =IF($X$10=0," ",J18/$X$10) -> 0.14414414 | R18: =IF($X$10=0," ",K18/$X$10) -> 0.25225225 | S18: =IF($X$10=0," ",L18/$X$10) -> 0.52252252 | T18: =IF($X$10=0," ",M18/$X$10) -> 0.081081081 | W18: iestāžu skaits | Y18: =Apstrade_C!AJ9 -> 4 | Z18: =Apstrade_C!AK9 -> 18 | AA18: =Apstrade_C!AL9 -> 43 | AB18: =Apstrade_C!AM9 -> 18 | AC18: =Apstrade_C!AN9 -> 15 | AD18: =Apstrade_C!AO9 -> 3 | AE18: =Apstrade_C!AP9 -> 10
E19: ↓↓ | O19: =IF($X$10=0," ",E19) -> ↓↓ | W19: iestāžu īpatsvars | Y19: =IF($X$10=0," ",Y18/$X$10) -> 0.036036036 | Z19: =IF($X$10=0," ",Z18/$X$10) -> 0.16216216 | AA19: =IF($X$10=0," ",AA18/$X$10) -> 0.38738739 | AB19: =IF($X$10=0," ",AB18/$X$10) -> 0.16216216 | AC19: =IF($X$10=0," ",AC18/$X$10) -> 0.13513514 | AD19: =IF($X$10=0," ",AD18/$X$10) -> 0.027027027 | AE19: =IF($X$10=0," ",AE18/$X$10) -> 0.09009009
B20: P2.3. | C20: Novērtēt katras iestādes pakalpojumu un pakalpojumu pārvaldības atbilstību pakalpojumu pārvaldības politikai | E20: Atbilstības pakalpojumu pārvaldības politikai novērtēšana | G20: 10. | H20: Iestādē Iestādes pakalpojumu kopuma vadītājs ir veicis esošās situācijas (atbilstības politikai) novērtēšanu | J20: =Apstrade_C!BP5 -> 37 | K20: =Apstrade_C!BP6 -> 14 | L20: =Apstrade_C!BP7 -> 51 | M20: =Apstrade_C!BP4 -> 9 | Q20: =IF($X$10=0," ",J20/$X$10) -> 0.33333333 | R20: =IF($X$10=0," ",K20/$X$10) -> 0.12612613 | S20: =IF($X$10=0," ",L20/$X$10) -> 0.45945946 | T20: =IF($X$10=0," ",M20/$X$10) -> 0.081081081 | W20: Informācijas atjaunošana (kad iestādes iepriekšējo reizi ir aktualizējušas aptaujas anketas datus)
G21: 11. | H21: Iestādē Iestādes pakalpojumu kopuma vadītājs ir apzinājis novērtēšanā konstatēto neatbilstību cēloņus | J21: =Apstrade_C!BU5 -> 42 | K21: =Apstrade_C!BU6 -> 15 | L21: =Apstrade_C!BU7 -> 45 | M21: =Apstrade_C!BU4 -> 9 | Q21: =IF($X$10=0," ",J21/$X$10) -> 0.37837838 | R21: =IF($X$10=0," ",K21/$X$10) -> 0.13513514 | S21: =IF($X$10=0," ",L21/$X$10) -> 0.40540541 | T21: =IF($X$10=0," ",M21/$X$10) -> 0.081081081
G22: 12. | H22: Iestādē visu Pakalpojumu vadītāji ir veikuši esošās situācijas (atbilstības politikai) novērtēšanu | J22: =Apstrade_C!CJ5 -> 42 | K22: =Apstrade_C!CJ6 -> 26 | L22: =Apstrade_C!CJ7 -> 43 | M22: =Apstrade_C!CJ4 -> 0 | Q22: =IF($X$10=0," ",J22/$X$10) -> 0.37837838 | R22: =IF($X$10=0," ",K22/$X$10) -> 0.23423423 | S22: =IF($X$10=0," ",L22/$X$10) -> 0.38738739 | T22: =IF($X$10=0," ",M22/$X$10) -> 0
G23: 13. | H23: Iestādē visu Pakalpojumu vadītāji ir apzinājuši novērtēšanā konstatēto neatbilstību cēloņus | J23: =Apstrade_C!CO5 -> 48 | K23: =Apstrade_C!CO6 -> 26 | L23: =Apstrade_C!CO7 -> 37 | M23: =Apstrade_C!CO4 -> 0 | Q23: =IF($X$10=0," ",J23/$X$10) -> 0.43243243 | R23: =IF($X$10=0," ",K23/$X$10) -> 0.23423423 | S23: =IF($X$10=0," ",L23/$X$10) -> 0.33333333 | T23: =IF($X$10=0," ",M23/$X$10) -> 0 | W23: dienu skaits kopš iepriekšējās aktualizēšanas | Y23: 5 (nedēļa) | Z23: 6–30 (mēnesis) | AA23: 31–90 (3 mēneši) | AB23: 91–180 (puse gada) | AC23: 181–360 (gads) | AD23: senāk
E24: ↓↓ | O24: =IF($X$10=0," ",E24) -> ↓↓ | W24: iestāžu skaits | Y24: =Apstrade_C!F9 -> 0 | Z24: =Apstrade_C!G9 -> 2 | AA24: =Apstrade_C!H9 -> 1 | AB24: =Apstrade_C!I9 -> 27 | AC24: =Apstrade_C!J9 -> 70 | AD24: =Apstrade_C!K9 -> 11
B25: P2.4. | C25: Izveidot katras iestādes pakalpojumu un pakalpojumu pārvaldības pilnveides individuālos plānus atbilstoši pakalpojumu pārvaldības politikai, iestādes atbilstības novērtējumam un iestādes iespējām | E25: Neatbilstību novēršanas – pilnveides plānošana | G25: 14. | H25: Iestādē Iestādes pakalpojumu kopuma vadītājs ir izveidojis pilnveides plānu novērtēšanā konstatēto neatbilstību novēršanai | J25: =Apstrade_C!BZ5 -> 50 | K25: =Apstrade_C!BZ6 -> 20 | L25: =Apstrade_C!BZ7 -> 32 | M25: =Apstrade_C!BZ4 -> 9 | Q25: =IF($X$10=0," ",J25/$X$10) -> 0.45045045 | R25: =IF($X$10=0," ",K25/$X$10) -> 0.18018018 | S25: =IF($X$10=0," ",L25/$X$10) -> 0.28828829 | T25: =IF($X$10=0," ",M25/$X$10) -> 0.081081081 | W25: iestāžu īpatsvars | Y25: =IF($X$10=0," ",Y24/$X$10) -> 0 | Z25: =IF($X$10=0," ",Z24/$X$10) -> 0.018018018 | AA25: =IF($X$10=0," ",AA24/$X$10) -> 0.009009009 | AB25: =IF($X$10=0," ",AB24/$X$10) -> 0.24324324 | AC25: =IF($X$10=0," ",AC24/$X$10) -> 0.63063063 | AD25: =IF($X$10=0," ",AD24/$X$10) -> 0.099099099
G26: 15. | H26: Iestādē visu Pakalpojumu vadītāji ir izveidojuši pilnveides plānus novērtēšanā konstatēto neatbilstību novēršanai | J26: =Apstrade_C!CT5 -> 52 | K26: =Apstrade_C!CT6 -> 25 | L26: =Apstrade_C!CT7 -> 25 | M26: =Apstrade_C!CT4 -> 9 | Q26: =IF($X$10=0," ",J26/$X$10) -> 0.46846847 | R26: =IF($X$10=0," ",K26/$X$10) -> 0.22522523 | S26: =IF($X$10=0," ",L26/$X$10) -> 0.22522523 | T26: =IF($X$10=0," ",M26/$X$10) -> 0.081081081 | Z26: atbilžu skaits | AA26: atbilžu īpatsvars
E27: ↓↓↓ | O27: =IF($X$10=0," ",E27) -> ↓↓↓
B28: P5.1. | C28: Katrā iestādē pilnveidot pakalpojumu pārvaldības uzdevumu veikšanu atbilstoši iestādes individuālajam pilnveides plānam šim periodam | E28: Pilnveide (saskaņā ar neatbilstību novēršanas plānu) | G28: 16. | H28: Iestādē Iestādes pakalpojumu kopuma vadītājs un visu Pakalpojumu vadītāji ir uzsākuši pakalpojumu pārvaldības uzdevumu veikšanas pilnveidi (neatbilstību novēršanu) | J28: =Apstrade_C!CY5 -> 65 | L28: =Apstrade_C!CY7 -> 46 | Q28: =IF($X$10=0," ",J28/$X$10) -> 0.58558559 | S28: =IF($X$10=0," ",L28/$X$10) -> 0.41441441 | W28: Pakalpojumu vides pilnveides progress kopumā (iestāžu atbildes uz aptaujas anketas jautājumiem – pašdeklarēšanās) | X28: atbilde "jā" | Z28: =SUM(L7:L30) -> 994 | AA28: =IF(SUM($Z$28:$Z$30)=0," ",Z28/SUM($Z$28:$Z$30)) -> 0.50896057
B29: P5.2. | C29: Katrā iestādē pilnveidot pakalpojumus atbilstoši iestādes individuālajam pilnveides plānam šim periodam | G29: 17. | H29: Iestādē Iestādes pakalpojumu kopuma vadītājs un visu Pakalpojumu vadītāji ir uzsākuši pakalpojumu izveides, sniegšanas un attīstības nosacījumiem pilnveidi (neatbilstību novēršanu) | J29: =Apstrade_C!DD5 -> 68 | L29: =Apstrade_C!DD7 -> 43 | Q29: =IF($X$10=0," ",J29/$X$10) -> 0.61261261 | S29: =IF($X$10=0," ",L29/$X$10) -> 0.38738739 | X29: atbilde "daļēji" | Z29: =SUM(K7:K30) -> 329 | AA29: =IF(SUM($Z$28:$Z$30)=0," ",Z29/SUM($Z$28:$Z$30)) -> 0.16845878
B30: P5.3. | C30: Katrā iestādē pilnveidot pakalpojumiem un pakalpojumu pārvaldībai nepieciešamās spējas un resursus atbilstoši iestādes individuālajam pilnveides plānam šim periodam | G30: 18. | H30: Iestādē Iestādes pakalpojumu kopuma vadītājs un visu Pakalpojumu vadītāji ir uzsākuši pakalpojumiem un pakalpojumu pārvaldībai nepieciešamo spēju un resursu pilnveidi (neatbilstību novēršanu) | J30: =Apstrade_C!DI5 -> 73 | L30: =Apstrade_C!DI7 -> 38 | Q30: =IF($X$10=0," ",J30/$X$10) -> 0.65765766 | S30: =IF($X$10=0," ",L30/$X$10) -> 0.34234234 | X30: atbilde "nē" | Z30: =SUM(J7:J30) -> 630 | AA30: =IF(SUM($Z$28:$Z$30)=0," ",Z30/SUM($Z$28:$Z$30)) -> 0.32258065
