Workbook
Name _ftnref1: Likmes!$B$2

Sheet Kopsavilkums
H1: 7.pielikums
A2: KOMANDĒJUMU IZDEVUMU PLĀNOŠANAS RĪKS
A4: Iniciatīvas īstenotājs
A5: Iniciatīvas nosaukums
A6: Iniciatīvas īstenošanas laiks
A7: Kontaktpersona (vārds, uzvārds, tālrunis, e-pasts)
A9: 1. Vienkāršoto izdevumu pārskats Ārvalstu komandējuma izmaksas tiek segtas, piemērojot trīs vienas vienības izmaksu standarta likmes: 1) naktsmītnes vienības izmaksu standarta likmi; 2) uzturēšanās vienības izmaksu standarta likmi; 3) likmi ceļa izdevumiem. Minētajās vienības izmaksu standarta likmēs ir ietvertas visas izmaksas, kas saistītas ar attiecīgo ārvalstu komandējumu un ir attiecināmas saskaņā ar iniciatīvas apstiprināto budžetu. Vienības izmaksās iekļautās izmaksas nevar tikt iekļautas nevienā citā izmaksu kategorijā, un jebkuras izmaksas, kas var rasties komandējuma laikā, netiek attiecinātas uz projekta faktiskajām izmaksām (atskaites 2.daļā "Faktisko izdevumu pārskats"). Izņēmumi: pasākumu organizēšanas izmaksas komandētajā valstī, dalības maksas pasākumos (piemēram, semināri, konferences), kas notiek komandētajā valstī. Tabulā jānorāda visi iniciatīvas ietvaros veiktie ārvalstu komandējumi. Katrs ārvalstu komandējums jānorāda atsevišķā tabulas rindā. Attiecīgi nepieciešamo informāciju norāda arī atskaites lapās "Naktsmītne un uzturēšanās" un "Ceļa izdevumi"
A10: Nr.p. k. | B10: Komandējuma valsts (ir izvēlne) | C10: Informācija par plānoto komandējumu | E10: Vienkāršoto izmaksu aprēķina kopsavilkums, kas ieklaujams pieteikumā
C11: Komandējuma dienu skaits (jāievada manuāli) | D11: Personu skaits (jāievada manuāli) | E11: Attiecināmā summa par naktsmītni (EUR) (nosaka automātiski) | F11: Attiecināmā summa par uzturēšanos (EUR) (nosaka automātiski) | G11: Attiecināmā summa par ceļa izdevumiem (EUR) (nosaka automātiski) | H11: Attiecināmā summa KOPĀ (EUR) (nosaka automātiski)
A12: 1. | E12: ='Nakstmītne un uzturēšanās'!F4 | F12: ='Nakstmītne un uzturēšanās'!H4 | G12: ='Ceļa izdevumi'!I4 | H12: =IFERROR(E12+F12+G12,"")
A13: 2. | E13: ='Nakstmītne un uzturēšanās'!F5 | F13: ='Nakstmītne un uzturēšanās'!H5 | G13: ='Ceļa izdevumi'!I11 | H13: =IFERROR(E13+F13+G13,"")
A14: 3. | E14: ='Nakstmītne un uzturēšanās'!F6 | F14: ='Nakstmītne un uzturēšanās'!H6 | G14: ='Ceļa izdevumi'!I18 | H14: =IFERROR(E14+F14+G14,"")
A15: 4. | E15: ='Nakstmītne un uzturēšanās'!F7 | F15: ='Nakstmītne un uzturēšanās'!H7 | G15: ='Ceļa izdevumi'!I25 | H15: =IFERROR(E15+F15+G15,"")
A16: 5. | E16: ='Nakstmītne un uzturēšanās'!F8 | F16: ='Nakstmītne un uzturēšanās'!H8 | G16: ='Ceļa izdevumi'!I32 | H16: =IFERROR(E16+F16+G16,"")
B17: KOPĀ: | E17: =SUM(E12:E16) -> 0 | F17: =SUM(F12:F16) -> 0 | G17: =SUM(G12:G16) -> 0 | H17: =E17+F17+G17 -> 0
A18: tabulas lauki, kas ir iekrāsoti pelēkā krāsā, nav jāaizpilda
A20: Aizpildīšanas noteikumi:
A21: 1. | B21: Lapā "Kopsavilkums" ar izvēlni izvēlas valsti uz kuru būs brauciens, tālāk norāda plānoto dienu skaitu un plānoto personu skaitu
A22: 2. | B22: Lapā "Naktsmīnte un uzturēšanās" var apskatīties kā izrēķina piemērojamās summas atbilstoši likmēm un var apskatīties pie atslaites iesniedzamos dokumentus.
A23: 3. | B23: Lapā "Ceļa izdevumi": -) kolonnā "Brauciena veids" izvēlas vai tas ir starptautisks, vai starppilsētu brauciens komandētā valstī -) kolonnā "Maršruts" norāda uz kurieni lido (attiecīgās valsts pilsēta; piemēram, Rīga - Oslo) vai no kuras pilsētas uz kuru pilsētu brauc attiecīgā valstī (piemēram, Oslo - Bergena) -) kalkulatorā ievieto attiecīgās pilsētas un iedoto attālumu ieraksta kolonnā "Attālums braucienam pēc kalkulatora" un no kalkulatota izdeido ekrānšāviņu, kuru iekopē pie attiecīgā punkta tabulas apakšā un izvēlas "Jā" kolonnā "Zem tabulas ir pievienots attāluma kalkulatora ekrānšāviņs" -) kolonnā "Vai izmantoti videi draudzīgi transporta veidi" izvēlas "Jā", ja ir videi draudzīgi, "Nē", ja nav (detalizētāk skaidrots metodikā)
A25: 4. | B25: DSF pieteikumā iekļauj rindas - Naktsmītnes; uzturēšanās izmaksas; ceļa izdevumi un ieraksta plānotās summas no lapas "Kopsavilkums" attiecīgi kolonnām "Attiecināmā summa par naktsmītni (EUR)"; "Attiecināmā summa par uzturēšanos (EUR)"; "Attiecināmā summa par ceļa izdevumiem (EUR)"
A26: 5. | B26: Iesniedzamie dokumenti kopā ar atskaiti: -) komandējuma rīkojums, kurā norādīts komandējuma dienu skaits un vieta vai vietas, ja norisinās vairākās vietās, uz kuru darbinieks tiek sūtīts komandējumā, un komandējuma mērķis; -) pasākuma/semināra/apmācību darba kārtība un dalībnieku saraksts par katru dienu; -) attāluma kalkulatora ekrānšāviņs.

Sheet Nakstmītne un uzturēšanās
A2: Vienkāršoto izmaksu aprēķins naktsmītnes un uzturēšanās izdevumiem
A3: Nr.p. k. | B3: Komandējuma valsts (nosaka automātiski) | C3: Komandējuma dienu skaits (nosaka automātiski) | D3: Faktiskais personu skaits (nosaka automātiski) | E3: Likme naktsmītnei (EUR) (nosaka automātiski) | F3: Attiecināmā summa par naktsmītni (EUR) (nosaka automātiski) | G3: Uzturēšanās likme (EUR) (nosaka automātiski) | H3: Attiecināmā summa par uzturēšanos (EUR) (nosaka automātiski) | I3: Attiecināmā summa KOPĀ (EUR) (nosaka automātiski) | J3: Rīkojums par komandējumu (lūdzu, norādīt) | L3: Pasākuma/ semināra/ apmācību darba kārtība (lūdzu, norādīt) | N3: Dalībnieku saraksts par katru dienu (lūdzu, norādīt)
A4: =IF(Kopsavilkums!A12="","",Kopsavilkums!A12) -> 1. | B4: =IF(Kopsavilkums!B12="","",Kopsavilkums!B12) | C4: =IF(Kopsavilkums!C12="","",Kopsavilkums!C12) | D4: =IF(Kopsavilkums!D12="","",Kopsavilkums!D12) | E4: =_xlfn.XLOOKUP(B4,Likmes!$A$3:$A$56,Likmes!$B$3:$B$56,"Nav atrasta likme") -> Nav atrasta likme | F4: =IFERROR((D4*E4)*(C4-1),"") | G4: =_xlfn.XLOOKUP(B4,Likmes!$A$3:$A$56,Likmes!$E$3:$E$56,"Nav atrasta likme") -> Nav atrasta likme | H4: =IFERROR((D4*G4)*C4,"") | I4: =IFERROR(F4+H4,"") | K4: =IF(J4="Jā","✓",IF(J4="","✗","")) -> ✗ | M4: =IF(L4="Jā","✓",IF(L4="","✗","")) -> ✗ | O4: =IF(N4="Jā","✓",IF(N4="","✗","")) -> ✗
A5: =IF(Kopsavilkums!A13="","",Kopsavilkums!A13) -> 2. | B5: =IF(Kopsavilkums!B13="","",Kopsavilkums!B13) | C5: =IF(Kopsavilkums!C13="","",Kopsavilkums!C13) | D5: =IF(Kopsavilkums!D13="","",Kopsavilkums!D13) | E5: =_xlfn.XLOOKUP(B5,Likmes!$A$3:$A$56,Likmes!$B$3:$B$56,"Nav atrasta likme") -> Nav atrasta likme | F5: =IFERROR((D5*E5)*(C5-1),"") | G5: =_xlfn.XLOOKUP(B5,Likmes!$A$3:$A$56,Likmes!$E$3:$E$56,"Nav atrasta likme") -> Nav atrasta likme | H5: =IFERROR((D5*G5)*C5,"") | I5: =IFERROR(F5+H5,"") | K5: =IF(J5="Jā","✓",IF(J5="","✗","")) -> ✗ | M5: =IF(L5="Jā","✓",IF(L5="","✗","")) -> ✗ | O5: =IF(N5="Jā","✓",IF(N5="","✗","")) -> ✗
A6: =IF(Kopsavilkums!A14="","",Kopsavilkums!A14) -> 3. | B6: =IF(Kopsavilkums!B14="","",Kopsavilkums!B14) | C6: =IF(Kopsavilkums!C14="","",Kopsavilkums!C14) | D6: =IF(Kopsavilkums!D14="","",Kopsavilkums!D14) | E6: =_xlfn.XLOOKUP(B6,Likmes!$A$3:$A$56,Likmes!$B$3:$B$56,"Nav atrasta likme") -> Nav atrasta likme | F6: =IFERROR((D6*E6)*(C6-1),"") | G6: =_xlfn.XLOOKUP(B6,Likmes!$A$3:$A$56,Likmes!$E$3:$E$56,"Nav atrasta likme") -> Nav atrasta likme | H6: =IFERROR((D6*G6)*C6,"") | I6: =IFERROR(F6+H6,"") | K6: =IF(J6="Jā","✓",IF(J6="","✗","")) -> ✗ | M6: =IF(L6="Jā","✓",IF(L6="","✗","")) -> ✗ | O6: =IF(N6="Jā","✓",IF(N6="","✗","")) -> ✗
A7: =IF(Kopsavilkums!A15="","",Kopsavilkums!A15) -> 4. | B7: =IF(Kopsavilkums!B15="","",Kopsavilkums!B15) | C7: =IF(Kopsavilkums!C15="","",Kopsavilkums!C15) | D7: =IF(Kopsavilkums!D15="","",Kopsavilkums!D15) | E7: =_xlfn.XLOOKUP(B7,Likmes!$A$3:$A$56,Likmes!$B$3:$B$56,"Nav atrasta likme") -> Nav atrasta likme | F7: =IFERROR((D7*E7)*(C7-1),"") | G7: =_xlfn.XLOOKUP(B7,Likmes!$A$3:$A$56,Likmes!$E$3:$E$56,"Nav atrasta likme") -> Nav atrasta likme | H7: =IFERROR((D7*G7)*C7,"") | I7: =IFERROR(F7+H7,"") | K7: =IF(J7="Jā","✓",IF(J7="","✗","")) -> ✗ | M7: =IF(L7="Jā","✓",IF(L7="","✗","")) -> ✗ | O7: =IF(N7="Jā","✓",IF(N7="","✗","")) -> ✗
A8: =IF(Kopsavilkums!A16="","",Kopsavilkums!A16) -> 5. | B8: =IF(Kopsavilkums!B16="","",Kopsavilkums!B16) | C8: =IF(Kopsavilkums!C16="","",Kopsavilkums!C16) | D8: =IF(Kopsavilkums!D16="","",Kopsavilkums!D16) | E8: =_xlfn.XLOOKUP(B8,Likmes!$A$3:$A$56,Likmes!$B$3:$B$56,"Nav atrasta likme") -> Nav atrasta likme | F8: =IFERROR((D8*E8)*(C8-1),"") | G8: =_xlfn.XLOOKUP(B8,Likmes!$A$3:$A$56,Likmes!$E$3:$E$56,"Nav atrasta likme") -> Nav atrasta likme | H8: =IFERROR((D8*G8)*C8,"") | I8: =IFERROR(F8+H8,"") | K8: =IF(J8="Jā","✓",IF(J8="","✗","")) -> ✗ | M8: =IF(L8="Jā","✓",IF(L8="","✗","")) -> ✗ | O8: =IF(N8="Jā","✓",IF(N8="","✗","")) -> ✗
A9: KOPĀ: | F9: =SUM(F4:F8) -> 0 | H9: =SUM(H4:H8) -> 0 | I9: =F9+H9 -> 0
A10: Tabulas lauki, kas ir iekrāsoti pelēkā krāsā, nav jāaizpilda

Sheet Ceļa izdevumi
A2: Vienkāršoto izmaksu aprēķins ceļa izdevumiem
A3: Nr.p. k. | B3: Brauciena veids (ir izvēlne) | C3: Faktiskais personu skaits (nosaka automātiski) | D3: Maršruts (jāievada manuāli) | E3: Attālums braucienam pēc kalkulatora (km) (jāievada manuāli, izmantojot attāluma aprēķina kalkulatoru) | F3: Attāluma diapozons (nosaka automātiski) | G3: Vai izmantoti videi draudzīgi transporta veidi (ir izvēlne) | H3: Ceļa izdevumu likme (EUR) (nosaka automātiski) | I3: Attiecināmā summa par ceļa izdevumiem (EUR) (nosaka automātiski) | J3: Zem tabulas ir pievienots attāluma kalkulatora ekrānšāviņs (lūdzu, izvēlaties)
A4: =IF(Kopsavilkums!A12="","",Kopsavilkums!A12) -> 1. | B4: =IF(Kopsavilkums!B12="","",Kopsavilkums!B12) | I4: =IF(SUM(I5:I10)=0,"",SUM(I5:I10))
A5: 1.1. | C5: =IF(Kopsavilkums!$D$12="","",Kopsavilkums!$D$12) | F5: =IF(E5="","",IF(E5<=99,"10–99 km",IF(E5<=499,"100–499 km",IF(E5<=1999,"500–1999 km",IF(E5<=2999,"2000–2999 km",IF(E5<=3999,"3000–3999 km",IF(E5<=7999,"4000–7999 km","8000 km vai vairāk"))))))) | H5: =IF(G5="Jā",_xlfn.XLOOKUP(F5,Likmes!$G$3:$G$9,Likmes!$H$3:$H$9,""),IF(G5="Nē",_xlfn.XLOOKUP(F5,Likmes!$G$3:$G$9,Likmes!$I$3:$I$9,""),"")) | I5: =IFERROR(C5*H5,"") | K5: =IF(J5="Jā","✓",IF(J5="","✗","")) -> ✗
A6: 1.2. | C6: =IF(Kopsavilkums!$D$12="","",Kopsavilkums!$D$12) | F6: =IF(E6="","",IF(E6<=99,"10–99 km",IF(E6<=499,"100–499 km",IF(E6<=1999,"500–1999 km",IF(E6<=2999,"2000–2999 km",IF(E6<=3999,"3000–3999 km",IF(E6<=7999,"4000–7999 km","8000 km vai vairāk"))))))) | H6: =IF(G6="Jā",_xlfn.XLOOKUP(F6,Likmes!$G$3:$G$9,Likmes!$H$3:$H$9,""),IF(G6="Nē",_xlfn.XLOOKUP(F6,Likmes!$G$3:$G$9,Likmes!$I$3:$I$9,""),"")) | I6: =IFERROR(C6*H6,"") | K6: =IF(J6="Jā","✓",IF(J6="","✗","")) -> ✗
A7: 1.3. | C7: =IF(Kopsavilkums!$D$12="","",Kopsavilkums!$D$12) | F7: =IF(E7="","",IF(E7<=99,"10–99 km",IF(E7<=499,"100–499 km",IF(E7<=1999,"500–1999 km",IF(E7<=2999,"2000–2999 km",IF(E7<=3999,"3000–3999 km",IF(E7<=7999,"4000–7999 km","8000 km vai vairāk"))))))) | H7: =IF(G7="Jā",_xlfn.XLOOKUP(F7,Likmes!$G$3:$G$9,Likmes!$H$3:$H$9,""),IF(G7="Nē",_xlfn.XLOOKUP(F7,Likmes!$G$3:$G$9,Likmes!$I$3:$I$9,""),"")) | I7: =IFERROR(C7*H7,"") | K7: =IF(J7="Jā","✓",IF(J7="","✗","")) -> ✗
A8: 1.4. | C8: =IF(Kopsavilkums!$D$12="","",Kopsavilkums!$D$12) | F8: =IF(E8="","",IF(E8<=99,"10–99 km",IF(E8<=499,"100–499 km",IF(E8<=1999,"500–1999 km",IF(E8<=2999,"2000–2999 km",IF(E8<=3999,"3000–3999 km",IF(E8<=7999,"4000–7999 km","8000 km vai vairāk"))))))) | H8: =IF(G8="Jā",_xlfn.XLOOKUP(F8,Likmes!$G$3:$G$9,Likmes!$H$3:$H$9,""),IF(G8="Nē",_xlfn.XLOOKUP(F8,Likmes!$G$3:$G$9,Likmes!$I$3:$I$9,""),"")) | I8: =IFERROR(C8*H8,"") | K8: =IF(J8="Jā","✓",IF(J8="","✗","")) -> ✗
A9: 1.5. | C9: =IF(Kopsavilkums!$D$12="","",Kopsavilkums!$D$12) | F9: =IF(E9="","",IF(E9<=99,"10–99 km",IF(E9<=499,"100–499 km",IF(E9<=1999,"500–1999 km",IF(E9<=2999,"2000–2999 km",IF(E9<=3999,"3000–3999 km",IF(E9<=7999,"4000–7999 km","8000 km vai vairāk"))))))) | H9: =IF(G9="Jā",_xlfn.XLOOKUP(F9,Likmes!$G$3:$G$9,Likmes!$H$3:$H$9,""),IF(G9="Nē",_xlfn.XLOOKUP(F9,Likmes!$G$3:$G$9,Likmes!$I$3:$I$9,""),"")) | I9: =IFERROR(C9*H9,"") | K9: =IF(J9="Jā","✓",IF(J9="","✗","")) -> ✗
A10: 1.6. | C10: =IF(Kopsavilkums!$D$12="","",Kopsavilkums!$D$12) | F10: =IF(E10="","",IF(E10<=99,"10–99 km",IF(E10<=499,"100–499 km",IF(E10<=1999,"500–1999 km",IF(E10<=2999,"2000–2999 km",IF(E10<=3999,"3000–3999 km",IF(E10<=7999,"4000–7999 km","8000 km vai vairāk"))))))) | H10: =IF(G10="Jā",_xlfn.XLOOKUP(F10,Likmes!$G$3:$G$9,Likmes!$H$3:$H$9,""),IF(G10="Nē",_xlfn.XLOOKUP(F10,Likmes!$G$3:$G$9,Likmes!$I$3:$I$9,""),"")) | I10: =IFERROR(C10*H10,"") | K10: =IF(J10="Jā","✓",IF(J10="","✗","")) -> ✗
A11: =IF(Kopsavilkums!A13="","",Kopsavilkums!A13) -> 2. | B11: =IF(Kopsavilkums!B13="","",Kopsavilkums!B13) | I11: =IF(SUM(I12:I17)=0,"",SUM(I12:I17))
A12: 2.1. | C12: =IF(Kopsavilkums!$D$13="","",Kopsavilkums!$D$13) | F12: =IF(E12="","",IF(E12<=99,"10–99 km",IF(E12<=499,"100–499 km",IF(E12<=1999,"500–1999 km",IF(E12<=2999,"2000–2999 km",IF(E12<=3999,"3000–3999 km",IF(E12<=7999,"4000–7999 km","8000 km vai vairāk"))))))) | H12: =IF(G12="Jā",_xlfn.XLOOKUP(F12,Likmes!$G$3:$G$9,Likmes!$H$3:$H$9,""),IF(G12="Nē",_xlfn.XLOOKUP(F12,Likmes!$G$3:$G$9,Likmes!$I$3:$I$9,""),"")) | I12: =IFERROR(C12*H12,"") | K12: =IF(J12="Jā","✓",IF(J12="","✗","")) -> ✗
A13: 2.2. | C13: =IF(Kopsavilkums!$D$13="","",Kopsavilkums!$D$13) | F13: =IF(E13="","",IF(E13<=99,"10–99 km",IF(E13<=499,"100–499 km",IF(E13<=1999,"500–1999 km",IF(E13<=2999,"2000–2999 km",IF(E13<=3999,"3000–3999 km",IF(E13<=7999,"4000–7999 km","8000 km vai vairāk"))))))) | H13: =IF(G13="Jā",_xlfn.XLOOKUP(F13,Likmes!$G$3:$G$9,Likmes!$H$3:$H$9,""),IF(G13="Nē",_xlfn.XLOOKUP(F13,Likmes!$G$3:$G$9,Likmes!$I$3:$I$9,""),"")) | I13: =IFERROR(C13*H13,"") | K13: =IF(J13="Jā","✓",IF(J13="","✗","")) -> ✗
A14: 2.3. | C14: =IF(Kopsavilkums!$D$13="","",Kopsavilkums!$D$13) | F14: =IF(E14="","",IF(E14<=99,"10–99 km",IF(E14<=499,"100–499 km",IF(E14<=1999,"500–1999 km",IF(E14<=2999,"2000–2999 km",IF(E14<=3999,"3000–3999 km",IF(E14<=7999,"4000–7999 km","8000 km vai vairāk"))))))) | H14: =IF(G14="Jā",_xlfn.XLOOKUP(F14,Likmes!$G$3:$G$9,Likmes!$H$3:$H$9,""),IF(G14="Nē",_xlfn.XLOOKUP(F14,Likmes!$G$3:$G$9,Likmes!$I$3:$I$9,""),"")) | I14: =IFERROR(C14*H14,"") | K14: =IF(J14="Jā","✓",IF(J14="","✗","")) -> ✗
A15: 2.4. | C15: =IF(Kopsavilkums!$D$13="","",Kopsavilkums!$D$13) | F15: =IF(E15="","",IF(E15<=99,"10–99 km",IF(E15<=499,"100–499 km",IF(E15<=1999,"500–1999 km",IF(E15<=2999,"2000–2999 km",IF(E15<=3999,"3000–3999 km",IF(E15<=7999,"4000–7999 km","8000 km vai vairāk"))))))) | H15: =IF(G15="Jā",_xlfn.XLOOKUP(F15,Likmes!$G$3:$G$9,Likmes!$H$3:$H$9,""),IF(G15="Nē",_xlfn.XLOOKUP(F15,Likmes!$G$3:$G$9,Likmes!$I$3:$I$9,""),"")) | I15: =IFERROR(C15*H15,"") | K15: =IF(J15="Jā","✓",IF(J15="","✗","")) -> ✗
A16: 2.5. | C16: =IF(Kopsavilkums!$D$13="","",Kopsavilkums!$D$13) | F16: =IF(E16="","",IF(E16<=99,"10–99 km",IF(E16<=499,"100–499 km",IF(E16<=1999,"500–1999 km",IF(E16<=2999,"2000–2999 km",IF(E16<=3999,"3000–3999 km",IF(E16<=7999,"4000–7999 km","8000 km vai vairāk"))))))) | H16: =IF(G16="Jā",_xlfn.XLOOKUP(F16,Likmes!$G$3:$G$9,Likmes!$H$3:$H$9,""),IF(G16="Nē",_xlfn.XLOOKUP(F16,Likmes!$G$3:$G$9,Likmes!$I$3:$I$9,""),"")) | I16: =IFERROR(C16*H16,"") | K16: =IF(J16="Jā","✓",IF(J16="","✗","")) -> ✗
A17: 2.6. | C17: =IF(Kopsavilkums!$D$13="","",Kopsavilkums!$D$13) | F17: =IF(E17="","",IF(E17<=99,"10–99 km",IF(E17<=499,"100–499 km",IF(E17<=1999,"500–1999 km",IF(E17<=2999,"2000–2999 km",IF(E17<=3999,"3000–3999 km",IF(E17<=7999,"4000–7999 km","8000 km vai vairāk"))))))) | H17: =IF(G17="Jā",_xlfn.XLOOKUP(F17,Likmes!$G$3:$G$9,Likmes!$H$3:$H$9,""),IF(G17="Nē",_xlfn.XLOOKUP(F17,Likmes!$G$3:$G$9,Likmes!$I$3:$I$9,""),"")) | I17: =IFERROR(C17*H17,"") | K17: =IF(J17="Jā","✓",IF(J17="","✗","")) -> ✗
A18: =IF(Kopsavilkums!A14="","",Kopsavilkums!A14) -> 3. | B18: =IF(Kopsavilkums!B14="","",Kopsavilkums!B14) | I18: =IF(SUM(I19:I24)=0,"",SUM(I19:I24))
A19: 3.1. | C19: =IF(Kopsavilkums!$D$14="","",Kopsavilkums!$D$14) | F19: =IF(E19="","",IF(E19<=99,"10–99 km",IF(E19<=499,"100–499 km",IF(E19<=1999,"500–1999 km",IF(E19<=2999,"2000–2999 km",IF(E19<=3999,"3000–3999 km",IF(E19<=7999,"4000–7999 km","8000 km vai vairāk"))))))) | H19: =IF(G19="Jā",_xlfn.XLOOKUP(F19,Likmes!$G$3:$G$9,Likmes!$H$3:$H$9,""),IF(G19="Nē",_xlfn.XLOOKUP(F19,Likmes!$G$3:$G$9,Likmes!$I$3:$I$9,""),"")) | I19: =IFERROR(C19*H19,"") | K19: =IF(J19="Jā","✓",IF(J19="","✗","")) -> ✗
A20: 3.2. | C20: =IF(Kopsavilkums!$D$14="","",Kopsavilkums!$D$14) | F20: =IF(E20="","",IF(E20<=99,"10–99 km",IF(E20<=499,"100–499 km",IF(E20<=1999,"500–1999 km",IF(E20<=2999,"2000–2999 km",IF(E20<=3999,"3000–3999 km",IF(E20<=7999,"4000–7999 km","8000 km vai vairāk"))))))) | H20: =IF(G20="Jā",_xlfn.XLOOKUP(F20,Likmes!$G$3:$G$9,Likmes!$H$3:$H$9,""),IF(G20="Nē",_xlfn.XLOOKUP(F20,Likmes!$G$3:$G$9,Likmes!$I$3:$I$9,""),"")) | I20: =IFERROR(C20*H20,"") | K20: =IF(J20="Jā","✓",IF(J20="","✗","")) -> ✗
A21: 3.3. | C21: =IF(Kopsavilkums!$D$14="","",Kopsavilkums!$D$14) | F21: =IF(E21="","",IF(E21<=99,"10–99 km",IF(E21<=499,"100–499 km",IF(E21<=1999,"500–1999 km",IF(E21<=2999,"2000–2999 km",IF(E21<=3999,"3000–3999 km",IF(E21<=7999,"4000–7999 km","8000 km vai vairāk"))))))) | H21: =IF(G21="Jā",_xlfn.XLOOKUP(F21,Likmes!$G$3:$G$9,Likmes!$H$3:$H$9,""),IF(G21="Nē",_xlfn.XLOOKUP(F21,Likmes!$G$3:$G$9,Likmes!$I$3:$I$9,""),"")) | I21: =IFERROR(C21*H21,"") | K21: =IF(J21="Jā","✓",IF(J21="","✗","")) -> ✗
A22: 3.4. | C22: =IF(Kopsavilkums!$D$14="","",Kopsavilkums!$D$14) | F22: =IF(E22="","",IF(E22<=99,"10–99 km",IF(E22<=499,"100–499 km",IF(E22<=1999,"500–1999 km",IF(E22<=2999,"2000–2999 km",IF(E22<=3999,"3000–3999 km",IF(E22<=7999,"4000–7999 km","8000 km vai vairāk"))))))) | H22: =IF(G22="Jā",_xlfn.XLOOKUP(F22,Likmes!$G$3:$G$9,Likmes!$H$3:$H$9,""),IF(G22="Nē",_xlfn.XLOOKUP(F22,Likmes!$G$3:$G$9,Likmes!$I$3:$I$9,""),"")) | I22: =IFERROR(C22*H22,"") | K22: =IF(J22="Jā","✓",IF(J22="","✗","")) -> ✗
A23: 3.5. | C23: =IF(Kopsavilkums!$D$14="","",Kopsavilkums!$D$14) | F23: =IF(E23="","",IF(E23<=99,"10–99 km",IF(E23<=499,"100–499 km",IF(E23<=1999,"500–1999 km",IF(E23<=2999,"2000–2999 km",IF(E23<=3999,"3000–3999 km",IF(E23<=7999,"4000–7999 km","8000 km vai vairāk"))))))) | H23: =IF(G23="Jā",_xlfn.XLOOKUP(F23,Likmes!$G$3:$G$9,Likmes!$H$3:$H$9,""),IF(G23="Nē",_xlfn.XLOOKUP(F23,Likmes!$G$3:$G$9,Likmes!$I$3:$I$9,""),"")) | I23: =IFERROR(C23*H23,"") | K23: =IF(J23="Jā","✓",IF(J23="","✗","")) -> ✗
A24: 3.6. | C24: =IF(Kopsavilkums!$D$14="","",Kopsavilkums!$D$14) | F24: =IF(E24="","",IF(E24<=99,"10–99 km",IF(E24<=499,"100–499 km",IF(E24<=1999,"500–1999 km",IF(E24<=2999,"2000–2999 km",IF(E24<=3999,"3000–3999 km",IF(E24<=7999,"4000–7999 km","8000 km vai vairāk"))))))) | H24: =IF(G24="Jā",_xlfn.XLOOKUP(F24,Likmes!$G$3:$G$9,Likmes!$H$3:$H$9,""),IF(G24="Nē",_xlfn.XLOOKUP(F24,Likmes!$G$3:$G$9,Likmes!$I$3:$I$9,""),"")) | I24: =IFERROR(C24*H24,"") | K24: =IF(J24="Jā","✓",IF(J24="","✗","")) -> ✗
A25: =IF(Kopsavilkums!A15="","",Kopsavilkums!A15) -> 4. | B25: =IF(Kopsavilkums!B15="","",Kopsavilkums!B15) | I25: =IF(SUM(I26:I31)=0,"",SUM(I26:I31))
A26: 4.1. | C26: =IF(Kopsavilkums!$D$15="","",Kopsavilkums!$D$15) | F26: =IF(E26="","",IF(E26<=99,"10–99 km",IF(E26<=499,"100–499 km",IF(E26<=1999,"500–1999 km",IF(E26<=2999,"2000–2999 km",IF(E26<=3999,"3000–3999 km",IF(E26<=7999,"4000–7999 km","8000 km vai vairāk"))))))) | H26: =IF(G26="Jā",_xlfn.XLOOKUP(F26,Likmes!$G$3:$G$9,Likmes!$H$3:$H$9,""),IF(G26="Nē",_xlfn.XLOOKUP(F26,Likmes!$G$3:$G$9,Likmes!$I$3:$I$9,""),"")) | I26: =IFERROR(C26*H26,"") | K26: =IF(J26="Jā","✓",IF(J26="","✗","")) -> ✗
A27: 4.2. | C27: =IF(Kopsavilkums!$D$15="","",Kopsavilkums!$D$15) | F27: =IF(E27="","",IF(E27<=99,"10–99 km",IF(E27<=499,"100–499 km",IF(E27<=1999,"500–1999 km",IF(E27<=2999,"2000–2999 km",IF(E27<=3999,"3000–3999 km",IF(E27<=7999,"4000–7999 km","8000 km vai vairāk"))))))) | H27: =IF(G27="Jā",_xlfn.XLOOKUP(F27,Likmes!$G$3:$G$9,Likmes!$H$3:$H$9,""),IF(G27="Nē",_xlfn.XLOOKUP(F27,Likmes!$G$3:$G$9,Likmes!$I$3:$I$9,""),"")) | I27: =IFERROR(C27*H27,"") | K27: =IF(J27="Jā","✓",IF(J27="","✗","")) -> ✗
A28: 4.3. | C28: =IF(Kopsavilkums!$D$15="","",Kopsavilkums!$D$15) | F28: =IF(E28="","",IF(E28<=99,"10–99 km",IF(E28<=499,"100–499 km",IF(E28<=1999,"500–1999 km",IF(E28<=2999,"2000–2999 km",IF(E28<=3999,"3000–3999 km",IF(E28<=7999,"4000–7999 km","8000 km vai vairāk"))))))) | H28: =IF(G28="Jā",_xlfn.XLOOKUP(F28,Likmes!$G$3:$G$9,Likmes!$H$3:$H$9,""),IF(G28="Nē",_xlfn.XLOOKUP(F28,Likmes!$G$3:$G$9,Likmes!$I$3:$I$9,""),"")) | I28: =IFERROR(C28*H28,"") | K28: =IF(J28="Jā","✓",IF(J28="","✗","")) -> ✗
A29: 4.4. | C29: =IF(Kopsavilkums!$D$15="","",Kopsavilkums!$D$15) | F29: =IF(E29="","",IF(E29<=99,"10–99 km",IF(E29<=499,"100–499 km",IF(E29<=1999,"500–1999 km",IF(E29<=2999,"2000–2999 km",IF(E29<=3999,"3000–3999 km",IF(E29<=7999,"4000–7999 km","8000 km vai vairāk"))))))) | H29: =IF(G29="Jā",_xlfn.XLOOKUP(F29,Likmes!$G$3:$G$9,Likmes!$H$3:$H$9,""),IF(G29="Nē",_xlfn.XLOOKUP(F29,Likmes!$G$3:$G$9,Likmes!$I$3:$I$9,""),"")) | I29: =IFERROR(C29*H29,"") | K29: =IF(J29="Jā","✓",IF(J29="","✗","")) -> ✗
A30: 4.5. | C30: =IF(Kopsavilkums!$D$15="","",Kopsavilkums!$D$15) | F30: =IF(E30="","",IF(E30<=99,"10–99 km",IF(E30<=499,"100–499 km",IF(E30<=1999,"500–1999 km",IF(E30<=2999,"2000–2999 km",IF(E30<=3999,"3000–3999 km",IF(E30<=7999,"4000–7999 km","8000 km vai vairāk"))))))) | H30: =IF(G30="Jā",_xlfn.XLOOKUP(F30,Likmes!$G$3:$G$9,Likmes!$H$3:$H$9,""),IF(G30="Nē",_xlfn.XLOOKUP(F30,Likmes!$G$3:$G$9,Likmes!$I$3:$I$9,""),"")) | I30: =IFERROR(C30*H30,"") | K30: =IF(J30="Jā","✓",IF(J30="","✗","")) -> ✗
A31: 4.6. | C31: =IF(Kopsavilkums!$D$15="","",Kopsavilkums!$D$15) | F31: =IF(E31="","",IF(E31<=99,"10–99 km",IF(E31<=499,"100–499 km",IF(E31<=1999,"500–1999 km",IF(E31<=2999,"2000–2999 km",IF(E31<=3999,"3000–3999 km",IF(E31<=7999,"4000–7999 km","8000 km vai vairāk"))))))) | H31: =IF(G31="Jā",_xlfn.XLOOKUP(F31,Likmes!$G$3:$G$9,Likmes!$H$3:$H$9,""),IF(G31="Nē",_xlfn.XLOOKUP(F31,Likmes!$G$3:$G$9,Likmes!$I$3:$I$9,""),"")) | I31: =IFERROR(C31*H31,"") | K31: =IF(J31="Jā","✓",IF(J31="","✗","")) -> ✗
A32: =IF(Kopsavilkums!A16="","",Kopsavilkums!A16) -> 5. | B32: =IF(Kopsavilkums!B16="","",Kopsavilkums!B16) | I32: =IF(SUM(I33:I38)=0,"",SUM(I33:I38))
A33: 5.1. | C33: =IF(Kopsavilkums!$D$16="","",Kopsavilkums!$D$16) | F33: =IF(E33="","",IF(E33<=99,"10–99 km",IF(E33<=499,"100–499 km",IF(E33<=1999,"500–1999 km",IF(E33<=2999,"2000–2999 km",IF(E33<=3999,"3000–3999 km",IF(E33<=7999,"4000–7999 km","8000 km vai vairāk"))))))) | H33: =IF(G33="Jā",_xlfn.XLOOKUP(F33,Likmes!$G$3:$G$9,Likmes!$H$3:$H$9,""),IF(G33="Nē",_xlfn.XLOOKUP(F33,Likmes!$G$3:$G$9,Likmes!$I$3:$I$9,""),"")) | I33: =IFERROR(C33*H33,"") | K33: =IF(J33="Jā","✓",IF(J33="","✗","")) -> ✗
A34: 5.2. | C34: =IF(Kopsavilkums!$D$16="","",Kopsavilkums!$D$16) | F34: =IF(E34="","",IF(E34<=99,"10–99 km",IF(E34<=499,"100–499 km",IF(E34<=1999,"500–1999 km",IF(E34<=2999,"2000–2999 km",IF(E34<=3999,"3000–3999 km",IF(E34<=7999,"4000–7999 km","8000 km vai vairāk"))))))) | H34: =IF(G34="Jā",_xlfn.XLOOKUP(F34,Likmes!$G$3:$G$9,Likmes!$H$3:$H$9,""),IF(G34="Nē",_xlfn.XLOOKUP(F34,Likmes!$G$3:$G$9,Likmes!$I$3:$I$9,""),"")) | I34: =IFERROR(C34*H34,"") | K34: =IF(J34="Jā","✓",IF(J34="","✗","")) -> ✗
A35: 5.3. | C35: =IF(Kopsavilkums!$D$16="","",Kopsavilkums!$D$16) | F35: =IF(E35="","",IF(E35<=99,"10–99 km",IF(E35<=499,"100–499 km",IF(E35<=1999,"500–1999 km",IF(E35<=2999,"2000–2999 km",IF(E35<=3999,"3000–3999 km",IF(E35<=7999,"4000–7999 km","8000 km vai vairāk"))))))) | H35: =IF(G35="Jā",_xlfn.XLOOKUP(F35,Likmes!$G$3:$G$9,Likmes!$H$3:$H$9,""),IF(G35="Nē",_xlfn.XLOOKUP(F35,Likmes!$G$3:$G$9,Likmes!$I$3:$I$9,""),"")) | I35: =IFERROR(C35*H35,"") | K35: =IF(J35="Jā","✓",IF(J35="","✗","")) -> ✗
A36: 5.4. | C36: =IF(Kopsavilkums!$D$16="","",Kopsavilkums!$D$16) | F36: =IF(E36="","",IF(E36<=99,"10–99 km",IF(E36<=499,"100–499 km",IF(E36<=1999,"500–1999 km",IF(E36<=2999,"2000–2999 km",IF(E36<=3999,"3000–3999 km",IF(E36<=7999,"4000–7999 km","8000 km vai vairāk"))))))) | H36: =IF(G36="Jā",_xlfn.XLOOKUP(F36,Likmes!$G$3:$G$9,Likmes!$H$3:$H$9,""),IF(G36="Nē",_xlfn.XLOOKUP(F36,Likmes!$G$3:$G$9,Likmes!$I$3:$I$9,""),"")) | I36: =IFERROR(C36*H36,"") | K36: =IF(J36="Jā","✓",IF(J36="","✗","")) -> ✗
A37: 5.5. | C37: =IF(Kopsavilkums!$D$16="","",Kopsavilkums!$D$16) | F37: =IF(E37="","",IF(E37<=99,"10–99 km",IF(E37<=499,"100–499 km",IF(E37<=1999,"500–1999 km",IF(E37<=2999,"2000–2999 km",IF(E37<=3999,"3000–3999 km",IF(E37<=7999,"4000–7999 km","8000 km vai vairāk"))))))) | H37: =IF(G37="Jā",_xlfn.XLOOKUP(F37,Likmes!$G$3:$G$9,Likmes!$H$3:$H$9,""),IF(G37="Nē",_xlfn.XLOOKUP(F37,Likmes!$G$3:$G$9,Likmes!$I$3:$I$9,""),"")) | I37: =IFERROR(C37*H37,"") | K37: =IF(J37="Jā","✓",IF(J37="","✗","")) -> ✗
A38: 5.6. | C38: =IF(Kopsavilkums!$D$16="","",Kopsavilkums!$D$16) | F38: =IF(E38="","",IF(E38<=99,"10–99 km",IF(E38<=499,"100–499 km",IF(E38<=1999,"500–1999 km",IF(E38<=2999,"2000–2999 km",IF(E38<=3999,"3000–3999 km",IF(E38<=7999,"4000–7999 km","8000 km vai vairāk"))))))) | H38: =IF(G38="Jā",_xlfn.XLOOKUP(F38,Likmes!$G$3:$G$9,Likmes!$H$3:$H$9,""),IF(G38="Nē",_xlfn.XLOOKUP(F38,Likmes!$G$3:$G$9,Likmes!$I$3:$I$9,""),"")) | I38: =IFERROR(C38*H38,"") | K38: =IF(J38="Jā","✓",IF(J38="","✗","")) -> ✗
B39: KOPĀ: | I39: =SUM(I5:I10,I12:I17,I19:I24,I26:I31,I33:I38) -> 0
A40: Tabulas lauki, kas ir iekrāsoti pelēkā krāsā, nav jāaizpilda
A42: Ekrānšāviņu vietas no attāluma aprēķināšanas kalkulatora: | E42: https://erasmus-plus.ec.europa.eu/resources-and-tools/distance-calculator
A43: Ekrānšāviņu numerāciju norādīt atbilstoši tabulā norādītajai numerācijai
A44: 1.1. | B44: attāluma kalkulatora ekrānšāviņs | F44: 1.2. | G44: attāluma kalkulatora ekrānšāviņs
B47: attāluma kalkulatora ekrānšāviņs | G47: attāluma kalkulatora ekrānšāviņs
B50: attāluma kalkulatora ekrānšāviņs | G50: attāluma kalkulatora ekrānšāviņs
B53: attāluma kalkulatora ekrānšāviņs | G53: attāluma kalkulatora ekrānšāviņs
B55: attāluma kalkulatora ekrānšāviņs | G55: attāluma kalkulatora ekrānšāviņs
B58: attāluma kalkulatora ekrānšāviņs | G58: attāluma kalkulatora ekrānšāviņs
B61: attāluma kalkulatora ekrānšāviņs | G61: attāluma kalkulatora ekrānšāviņs
B64: attāluma kalkulatora ekrānšāviņs | G64: attāluma kalkulatora ekrānšāviņs
B67: attāluma kalkulatora ekrānšāviņs | G67: attāluma kalkulatora ekrānšāviņs
B70: attāluma kalkulatora ekrānšāviņs | G70: attāluma kalkulatora ekrānšāviņs
B73: attāluma kalkulatora ekrānšāviņs | G73: attāluma kalkulatora ekrānšāviņs
B76: attāluma kalkulatora ekrānšāviņs | G76: attāluma kalkulatora ekrānšāviņs
B79: attāluma kalkulatora ekrānšāviņs | G79: attāluma kalkulatora ekrānšāviņs
... B94: attāluma kalkulatora ekrānšāviņs | G94: attāluma kalkulatora ekrānšāviņs

Sheet Likmes
A1: Naktsmītnes vienības izmaksu standarta likme pa valstīm | D1: Uzturēšanās vienības izmaksu standarta likme pa valstīm | G1: Likme ceļa izdevumiem
A2: Valsts | B2: Likme EUR | D2: Valsts | E2: Likme EUR | G2: Ceļa attālums | H2: Videi draudzīgi transporta veidi | I2: Videi kaitīgi transporta veidi
A3: Albānija | B3: 101 | D3: Albānija | E3: 50 | G3: 10–99 km | H3: 56 | I3: 28
A4: Alžīrija | B4: 157 | D4: Alžīrija | E4: 85 | G4: 100–499 km | H4: 285 | I4: 211
A5: Armēnija | B5: 115 | D5: Armēnija | E5: 70 | G5: 500–1999 km | H5: 417 | I5: 309
A6: Austrija | B6: 126 | D6: Austrija | E6: 102 | G6: 2000–2999 km | H6: 535 | I6: 395
A7: Azerbaidžāna | B7: 136 | D7: Azerbaidžāna | E7: 70 | G7: 3000–3999 km | H7: 785 | I7: 580
A8: Baltkrievija | B8: 108 | D8: Baltkrievija | E8: 90 | G8: 4000–7999 km | H8: 1188 | I8: 1188
A9: Beļģija | B9: 137 | D9: Beļģija | E9: 102 | G9: 8000 km vai vairāk | H9: 1735 | I9: 1735
A10: Bosnija un Hercogovina | B10: 90 | D10: Bosnija un Hercogovina | E10: 65
A11: Bulgārija | B11: 110 | D11: Bulgārija | E11: 57
A12: Horvātija | B12: 104 | D12: Horvātija | E12: 75
A13: Kipra | B13: 120 | D13: Kipra | E13: 88
A14: Čehija | B14: 107 | D14: Čehija | E14: 70
A15: Dānija | B15: 158 | D15: Dānija | E15: 124
A16: Ēģipte | B16: 152 | D16: Ēģipte | E16: 65
A17: Igaunija | B17: 107 | D17: Igaunija | E17: 80
A18: Somija | B18: 146 | D18: Somija | E18: 113
A19: Francija | B19: 166 | D19: Francija | E19: 102
A20: Vācija | B20: 119 | D20: Vācija | E20: 97
A21: Gruzija | B21: 134 | D21: Gruzija | E21: 80
... A56: Apvienotā Karaliste | B56: 151 | D56: Apvienotā Karaliste | E56: 125
