Workbook
Name _ftnref1: Likmes!$B$2

Sheet atskaite
K1: 3.pielikums
A2: DIVPUSĒJĀS SADARBĪBAS FONDA INICIATĪVAS ATSKAITE
A4: Iniciatīvas īstenotājs
A5: Iniciatīvas nosaukums
A6: Iniciatīvas īstenošanas laiks
A7: Kontaktpersona (vārds, uzvārds, tālrunis, e-pasts)
A8: Iniciatīvai piešķirtais finansējums, EUR | D8: =C56 -> 0 | G8: Iniciatīvai izlietotais finansējums, EUR | K8: =K18+G56 -> 0
A10: 1. Vienkāršoto izdevumu pārskats Ārvalstu komandējuma izmaksas tiek segtas, piemērojot trīs vienas vienības izmaksu standarta likmes: 1) naktsmītnes vienības izmaksu standarta likmi; 2) uzturēšanās vienības izmaksu standarta likmi; 3) likmi ceļa izdevumiem. Minētajās vienības izmaksu standarta likmēs ir ietvertas visas izmaksas, kas saistītas ar attiecīgo ārvalstu komandējumu un ir attiecināmas saskaņā ar iniciatīvas apstiprināto budžetu. Vienības izmaksās iekļautās izmaksas nevar tikt iekļautas nevienā citā izmaksu kategorijā, un jebkuras izmaksas, kas var rasties komandējuma laikā, netiek attiecinātas uz projekta faktiskajām izmaksām (atskaites 2.daļā "Faktisko izdevumu pārskats"). Izņēmumi: pasākumu organizēšanas izmaksas komandētajā valstī, dalības maksas pasākumos (piemēram, semināri, konferences), kas notiek komandētajā valstī. Šīs radušās izmaksas norāda atskaites 2.punkta tabulas 5.sadaļā "Citas izmaksas, kas apstiprinātas iniciatīvā" Tabulā jānorāda visi iniciatīvas ietvaros veiktie ārvalstu komandējumi. Katrs ārvalstu komandējums jānorāda atsevišķā tabulas rindā. Attiecīgi nepieciešamo informāciju norāda arī atskaites lapās "Naktsmītne un uzturēšanās" un "Ceļa izdevumi"
A11: Nr.p. k. | B11: Komandējuma valsts (ir izvēlne) | C11: Plānotās attiecināmās izmaksas | E11: Informācija par faktisko komandējumu | H11: Vienkāršoto izmaksu aprēķina kopsavilkums
C12: Plānoto personu skaits | D12: Kopējās komandējuma izmaksas (EUR) | E12: Komandējuma periods (jāievada manuāli) | F12: Komandējuma dienu skaits (jāievada manuāli) | G12: Faktiskais personu skaits (jāievada manuāli) | H12: Attiecināmā summa par naktsmītni (EUR) (nosaka automātiski) | I12: Attiecināmā summa par uzturēšanos (EUR) (nosaka automātiski) | J12: Attiecināmā summa par ceļa izdevumiem (EUR) (nosaka automātiski) | K12: Attiecināmā summa KOPĀ (EUR) (nosaka automātiski)
A13: 1. | H13: ='Nakstmītne un uzturēšanās'!F7 | I13: ='Nakstmītne un uzturēšanās'!H7 | J13: ='Ceļa izdevumi'!I7 | K13: =IFERROR(H13+I13+J13,"")
A14: 2. | H14: ='Nakstmītne un uzturēšanās'!F8 | I14: ='Nakstmītne un uzturēšanās'!H8 | J14: ='Ceļa izdevumi'!I14 | K14: =IFERROR(H14+I14+J14,"")
A15: 3. | H15: ='Nakstmītne un uzturēšanās'!F9 | I15: ='Nakstmītne un uzturēšanās'!H9 | J15: ='Ceļa izdevumi'!I21 | K15: =IFERROR(H15+I15+J15,"")
A16: 4. | H16: ='Nakstmītne un uzturēšanās'!F10 | I16: ='Nakstmītne un uzturēšanās'!H10 | J16: ='Ceļa izdevumi'!I28 | K16: =IFERROR(H16+I16+J16,"")
A17: 5. | H17: ='Nakstmītne un uzturēšanās'!F11 | I17: ='Nakstmītne un uzturēšanās'!H11 | J17: ='Ceļa izdevumi'!I35 | K17: =IFERROR(H17+I17+J17,"")
B18: KOPĀ: | C18: =SUM(C13:C17) -> 0 | D18: =SUM(D13:D17) -> 0 | H18: =SUM(H13:H17) -> 0 | I18: =SUM(I13:I17) -> 0 | J18: =SUM(J13:J17) -> 0 | K18: =H18+I18+J18 -> 0
A19: tabulas lauki, kas ir iekrāsoti pelēkā krāsā, nav jāaizpilda
A22: 2. Faktisko izdevumu pārskats Norādīt iniciatīvas faktiskās izmaksas attiecināmo izmaksu 1., 2., 3., 4. 5. un 6. pozīcijai, kā arī norādīt apakšpozīcijas, kas sastāda faktiskās izmaksas.
A24: Nr.p. k. | B24: Attiecināmo izmaksu pozīcija | C24: Plānotās attiecināmās izmaksas | E24: Faktiskās attiecināmās izmaksas | I24: Pakalpojuma sniedzējs | J24: Maksājuma datums | K24: Izdevumus pamatojošo dokumentu Nr. un datums
C25: Kopējās izmaksas (EUR) | D25: t.sk.PVN (EUR) | E25: Vienību skaits | F25: Vienības izmaksas, EUR | G25: Kopējās izmaksas (EUR) | H25: t.sk.PVN (EUR)
A26: 1. | B26: Komandējumu izdevumi (attiecas uz donorvalsts partneriem un DSF iniciatīvām, kas aptiprināti pirms SCO metodikas) | C26: =SUM(C27:C30) -> 0 | D26: =SUM(D27:D30) -> 0 | E26: =SUM(E27:E30) -> 0 | F26: =SUM(F27:F30) -> 0 | G26: =SUM(G27:G30) -> 0 | H26: =SUM(H27:H30) -> 0
A27: 1.1. | B27: norādīt izmaksu apakšpozīcijas
A31: 2. | B31: Pasākumu izmaksas potenciālo donorvalstu projektu partneru piesaistīšanai | C31: =SUM(C32:C35) -> 0 | D31: =SUM(D32:D35) -> 0 | E31: =SUM(E32:E35) -> 0 | F31: =SUM(F32:F35) -> 0 | G31: =SUM(G32:G35) -> 0 | H31: =SUM(H32:H35) -> 0
A32: 2.1. | B32: norādīt izmaksu apakšpozīcijas
A36: 3. | B36: Konferenču, semināru, kursu, izstāžu, kampaņu, mācību semināru un sanāksmju organizēšanas izmaksas | C36: =SUM(C37:C40) -> 0 | D36: =SUM(D37:D40) -> 0 | E36: =SUM(E37:E40) -> 0 | F36: =SUM(F37:F40) -> 0 | G36: =SUM(G37:G40) -> 0 | H36: =SUM(H37:H40) -> 0
A37: 3.1. | B37: norādīt izmaksu apakšpozīcijas
A41: 4. | B41: Datu vākšanas, ziņojumu, pētījumu un publikāciju sagatavošanas un publicēšanas izmaksas | C41: =SUM(C42:C45) -> 0 | D41: =SUM(D42:D45) -> 0 | E41: =SUM(E42:E45) -> 0 | F41: =SUM(F42:F45) -> 0 | G41: =SUM(G42:G45) -> 0 | H41: =SUM(H42:H45) -> 0
A42: 4.1. | B42: norādīt izmaksu apakšpozīcijas
A46: 5. | B46: Ārējo konsultantu un iesaistīto ekspertu pakalpojumu izmaksas | C46: =SUM(C47:C50) -> 0 | D46: =SUM(D47:D50) -> 0 | E46: =SUM(E47:E50) -> 0 | F46: =SUM(F47:F50) -> 0 | G46: =SUM(G47:G50) -> 0 | H46: =SUM(H47:H50) -> 0
A47: 5.1. | B47: norādīt izmaksu apakšpozīcijas
A51: 6. | B51: Citas izmaksas, kas apstiprinātas iniciatīvā | C51: =SUM(C52:C55) -> 0 | D51: =SUM(D52:D55) -> 0 | E51: =SUM(E52:E55) -> 0 | F51: =SUM(F52:F55) -> 0 | G51: =SUM(G52:G55) -> 0 | H51: =SUM(H52:H55) -> 0
A52: 6.1. | B52: norādīt izmaksu apakšpozīcijas
B56: KOPĀ: | C56: =C31+C36+C41+C46+C51 -> 0 | D56: =D31+D36+D41+D46+D51 -> 0 | G56: =G31+G36+G41+G46+G51 -> 0 | H56: =H31+H36+H41+H46+H51 -> 0
A58: Nr. | B58: Ja ir izmaiņas izmaksu pozīcjās no sākotnējo plānotā apstiprinātā budžeta, sniedz pamatojumu:
B59: Attiecināmo izmaksu pozīcijas nosaukums | C59: Pamatojums par veiktajām par izmaiņām starp izmaksu pozīcijām
A65: 3. Divpusējās sadarbības iniciatīvas rezultāti
A66: Atzīmē ar "JĀ" tos rezultātus, kuri ir sasniegti pēc divpusējās sadarbības iniciatīvas īstenošanas:
B67: izveidota sadarbība ar Donorvalsts institūciju
B68: veicināta labās prakses un zināšanu apmaiņa ar Donorvalsts institūcijām / ekspertiem
B69: papildus rezultāti
...

Sheet Nakstmītne un uzturēšanās
A1: Iniciatīvas īstenotājs | D1: =IF(atskaite!D4="","",atskaite!D4)
A2: Iniciatīvas nosaukums | D2: =IF(atskaite!D5="","",atskaite!D5)
A3: Iniciatīvas īstenošanas laiks | D3: =IF(atskaite!D6="","",atskaite!D6)
A5: Vienkāršoto izmaksu aprēķins naktsmītnes un uzturēšanās izdevumiem
A6: Nr.p. k. | B6: Komandējuma valsts (nosaka automātiski) | C6: Komandējuma dienu skaits (nosaka automātiski) | D6: Faktiskais personu skaits (nosaka automātiski) | E6: Likme naktsmītnei (EUR) (nosaka automātiski) | F6: Attiecināmā summa par naktsmītni (EUR) (nosaka automātiski) | G6: Uzturēšanās likme (EUR) (nosaka automātiski) | H6: Attiecināmā summa par uzturēšanos (EUR) (nosaka automātiski) | I6: Attiecināmā summa KOPĀ (EUR) (nosaka automātiski) | J6: Ir pievienots rīkojums par komandējumu (lūdzu, norādīt) | L6: Ir pievienota pasākuma/ semināra/ apmācību darba kārtība (lūdzu, norādīt) | N6: Ir pievienots dalībnieku saraksts par katru dienu (lūdzu, norādīt)
A7: =IF(atskaite!A13="","",atskaite!A13) -> 1. | B7: =IF(atskaite!B13="","",atskaite!B13) | C7: =IF(atskaite!F13="","",atskaite!F13) | D7: =IF(atskaite!G13="","",atskaite!G13) | E7: =_xlfn.XLOOKUP(B7,Likmes!$A$3:$A$56,Likmes!$B$3:$B$56,"Nav atrasta likme") -> Nav atrasta likme | F7: =IFERROR((D7*E7)*(C7-1),"") | G7: =_xlfn.XLOOKUP(B7,Likmes!$A$3:$A$56,Likmes!$E$3:$E$56,"Nav atrasta likme") -> Nav atrasta likme | H7: =IFERROR((D7*G7)*C7,"") | I7: =IFERROR(F7+H7,"") | K7: =IF(J7="Jā","✓",IF(J7="","✗","")) -> ✗ | M7: =IF(L7="Jā","✓",IF(L7="","✗","")) -> ✗ | O7: =IF(N7="Jā","✓",IF(N7="","✗","")) -> ✗
A8: =IF(atskaite!A14="","",atskaite!A14) -> 2. | B8: =IF(atskaite!B14="","",atskaite!B14) | C8: =IF(atskaite!F14="","",atskaite!F14) | D8: =IF(atskaite!G14="","",atskaite!G14) | E8: =_xlfn.XLOOKUP(B8,Likmes!$A$3:$A$56,Likmes!$B$3:$B$56,"Nav atrasta likme") -> Nav atrasta likme | F8: =IFERROR((D8*E8)*(C8-1),"") | G8: =_xlfn.XLOOKUP(B8,Likmes!$A$3:$A$56,Likmes!$E$3:$E$56,"Nav atrasta likme") -> Nav atrasta likme | H8: =IFERROR((D8*G8)*C8,"") | I8: =IFERROR(F8+H8,"") | K8: =IF(J8="Jā","✓",IF(J8="","✗","")) -> ✗ | M8: =IF(L8="Jā","✓",IF(L8="","✗","")) -> ✗ | O8: =IF(N8="Jā","✓",IF(N8="","✗","")) -> ✗
A9: =IF(atskaite!A15="","",atskaite!A15) -> 3. | B9: =IF(atskaite!B15="","",atskaite!B15) | C9: =IF(atskaite!F15="","",atskaite!F15) | D9: =IF(atskaite!G15="","",atskaite!G15) | E9: =_xlfn.XLOOKUP(B9,Likmes!$A$3:$A$56,Likmes!$B$3:$B$56,"Nav atrasta likme") -> Nav atrasta likme | F9: =IFERROR((D9*E9)*(C9-1),"") | G9: =_xlfn.XLOOKUP(B9,Likmes!$A$3:$A$56,Likmes!$E$3:$E$56,"Nav atrasta likme") -> Nav atrasta likme | H9: =IFERROR((D9*G9)*C9,"") | I9: =IFERROR(F9+H9,"") | K9: =IF(J9="Jā","✓",IF(J9="","✗","")) -> ✗ | M9: =IF(L9="Jā","✓",IF(L9="","✗","")) -> ✗ | O9: =IF(N9="Jā","✓",IF(N9="","✗","")) -> ✗
A10: =IF(atskaite!A16="","",atskaite!A16) -> 4. | B10: =IF(atskaite!B16="","",atskaite!B16) | C10: =IF(atskaite!F16="","",atskaite!F16) | D10: =IF(atskaite!G16="","",atskaite!G16) | E10: =_xlfn.XLOOKUP(B10,Likmes!$A$3:$A$56,Likmes!$B$3:$B$56,"Nav atrasta likme") -> Nav atrasta likme | F10: =IFERROR((D10*E10)*(C10-1),"") | G10: =_xlfn.XLOOKUP(B10,Likmes!$A$3:$A$56,Likmes!$E$3:$E$56,"Nav atrasta likme") -> Nav atrasta likme | H10: =IFERROR((D10*G10)*C10,"") | I10: =IFERROR(F10+H10,"") | K10: =IF(J10="Jā","✓",IF(J10="","✗","")) -> ✗ | M10: =IF(L10="Jā","✓",IF(L10="","✗","")) -> ✗ | O10: =IF(N10="Jā","✓",IF(N10="","✗","")) -> ✗
A11: =IF(atskaite!A17="","",atskaite!A17) -> 5. | B11: =IF(atskaite!B17="","",atskaite!B17) | C11: =IF(atskaite!F17="","",atskaite!F17) | D11: =IF(atskaite!G17="","",atskaite!G17) | E11: =_xlfn.XLOOKUP(B11,Likmes!$A$3:$A$56,Likmes!$B$3:$B$56,"Nav atrasta likme") -> Nav atrasta likme | F11: =IFERROR((D11*E11)*(C11-1),"") | G11: =_xlfn.XLOOKUP(B11,Likmes!$A$3:$A$56,Likmes!$E$3:$E$56,"Nav atrasta likme") -> Nav atrasta likme | H11: =IFERROR((D11*G11)*C11,"") | I11: =IFERROR(F11+H11,"") | K11: =IF(J11="Jā","✓",IF(J11="","✗","")) -> ✗ | M11: =IF(L11="Jā","✓",IF(L11="","✗","")) -> ✗ | O11: =IF(N11="Jā","✓",IF(N11="","✗","")) -> ✗
A12: KOPĀ: | F12: =SUM(F7:F11) -> 0 | H12: =SUM(H7:H11) -> 0 | I12: =F12+H12 -> 0
A13: Tabulas lauki, kas ir iekrāsoti pelēkā krāsā, nav jāaizpilda

Sheet Ceļa izdevumi
A1: Iniciatīvas īstenotājs
A2: Iniciatīvas nosaukums | D2: =IF(atskaite!D5="","",atskaite!D5)
A3: Iniciatīvas īstenošanas laiks | D3: =IF(atskaite!D6="","",atskaite!D6)
A5: Vienkāršoto izmaksu aprēķins ceļa izdevumiem
A6: Nr.p. k. | B6: Brauciena veids (ir izvēlne) | C6: Faktiskais personu skaits (nosaka automātiski) | D6: Maršruts (jāievada manuāli) | E6: Attālums braucienam pēc kalkulatora (km) (jāievada manuāli, izmantojot attāluma aprēķina kalkulatoru) | F6: Attāluma diapozons (nosaka automātiski) | G6: Vai izmantoti videi draudzīgi transporta veidi (ir izvēlne) | H6: Ceļa izdevumu likme (EUR) (nosaka automātiski) | I6: Attiecināmā summa par ceļa izdevumiem (EUR) (nosaka automātiski) | J6: Zem tabulas ir pievienots attāluma kalkulatora ekrānšāviņs (lūdzu, norādīt)
A7: =IF(atskaite!A13="","",atskaite!A13) -> 1. | B7: =IF(atskaite!B13="","",atskaite!B13) | I7: =IF(SUM(I8:I13)=0,"",SUM(I8:I13))
A8: 1.1. | C8: =IF(atskaite!$G$13="","",atskaite!$G$13) | F8: =IF(E8="","",IF(E8<=99,"10–99 km",IF(E8<=499,"100–499 km",IF(E8<=1999,"500–1999 km",IF(E8<=2999,"2000–2999 km",IF(E8<=3999,"3000–3999 km",IF(E8<=7999,"4000–7999 km","8000 km vai vairāk"))))))) | H8: =IF(G8="Jā",_xlfn.XLOOKUP(F8,Likmes!$G$3:$G$9,Likmes!$H$3:$H$9,""),IF(G8="Nē",_xlfn.XLOOKUP(F8,Likmes!$G$3:$G$9,Likmes!$I$3:$I$9,""),"")) | I8: =IFERROR(C8*H8,"") | K8: =IF(J8="Jā","✓",IF(J8="","✗","")) -> ✗
A9: 1.2. | C9: =IF(atskaite!$G$13="","",atskaite!$G$13) | F9: =IF(E9="","",IF(E9<=99,"10–99 km",IF(E9<=499,"100–499 km",IF(E9<=1999,"500–1999 km",IF(E9<=2999,"2000–2999 km",IF(E9<=3999,"3000–3999 km",IF(E9<=7999,"4000–7999 km","8000 km vai vairāk"))))))) | H9: =IF(G9="Jā",_xlfn.XLOOKUP(F9,Likmes!$G$3:$G$9,Likmes!$H$3:$H$9,""),IF(G9="Nē",_xlfn.XLOOKUP(F9,Likmes!$G$3:$G$9,Likmes!$I$3:$I$9,""),"")) | I9: =IFERROR(C9*H9,"") | K9: =IF(J9="Jā","✓",IF(J9="","✗","")) -> ✗
A10: 1.3. | C10: =IF(atskaite!$G$13="","",atskaite!$G$13) | F10: =IF(E10="","",IF(E10<=99,"10–99 km",IF(E10<=499,"100–499 km",IF(E10<=1999,"500–1999 km",IF(E10<=2999,"2000–2999 km",IF(E10<=3999,"3000–3999 km",IF(E10<=7999,"4000–7999 km","8000 km vai vairāk"))))))) | H10: =IF(G10="Jā",_xlfn.XLOOKUP(F10,Likmes!$G$3:$G$9,Likmes!$H$3:$H$9,""),IF(G10="Nē",_xlfn.XLOOKUP(F10,Likmes!$G$3:$G$9,Likmes!$I$3:$I$9,""),"")) | I10: =IFERROR(C10*H10,"") | K10: =IF(J10="Jā","✓",IF(J10="","✗","")) -> ✗
A11: 1.4. | C11: =IF(atskaite!$G$13="","",atskaite!$G$13) | F11: =IF(E11="","",IF(E11<=99,"10–99 km",IF(E11<=499,"100–499 km",IF(E11<=1999,"500–1999 km",IF(E11<=2999,"2000–2999 km",IF(E11<=3999,"3000–3999 km",IF(E11<=7999,"4000–7999 km","8000 km vai vairāk"))))))) | H11: =IF(G11="Jā",_xlfn.XLOOKUP(F11,Likmes!$G$3:$G$9,Likmes!$H$3:$H$9,""),IF(G11="Nē",_xlfn.XLOOKUP(F11,Likmes!$G$3:$G$9,Likmes!$I$3:$I$9,""),"")) | I11: =IFERROR(C11*H11,"") | K11: =IF(J11="Jā","✓",IF(J11="","✗","")) -> ✗
A12: 1.5. | C12: =IF(atskaite!$G$13="","",atskaite!$G$13) | F12: =IF(E12="","",IF(E12<=99,"10–99 km",IF(E12<=499,"100–499 km",IF(E12<=1999,"500–1999 km",IF(E12<=2999,"2000–2999 km",IF(E12<=3999,"3000–3999 km",IF(E12<=7999,"4000–7999 km","8000 km vai vairāk"))))))) | H12: =IF(G12="Jā",_xlfn.XLOOKUP(F12,Likmes!$G$3:$G$9,Likmes!$H$3:$H$9,""),IF(G12="Nē",_xlfn.XLOOKUP(F12,Likmes!$G$3:$G$9,Likmes!$I$3:$I$9,""),"")) | I12: =IFERROR(C12*H12,"") | K12: =IF(J12="Jā","✓",IF(J12="","✗","")) -> ✗
A13: 1.6. | C13: =IF(atskaite!$G$13="","",atskaite!$G$13) | F13: =IF(E13="","",IF(E13<=99,"10–99 km",IF(E13<=499,"100–499 km",IF(E13<=1999,"500–1999 km",IF(E13<=2999,"2000–2999 km",IF(E13<=3999,"3000–3999 km",IF(E13<=7999,"4000–7999 km","8000 km vai vairāk"))))))) | H13: =IF(G13="Jā",_xlfn.XLOOKUP(F13,Likmes!$G$3:$G$9,Likmes!$H$3:$H$9,""),IF(G13="Nē",_xlfn.XLOOKUP(F13,Likmes!$G$3:$G$9,Likmes!$I$3:$I$9,""),"")) | I13: =IFERROR(C13*H13,"") | K13: =IF(J13="Jā","✓",IF(J13="","✗","")) -> ✗
A14: =IF(atskaite!A14="","",atskaite!A14) -> 2. | B14: =IF(atskaite!B14="","",atskaite!B14) | I14: =IF(SUM(I15:I20)=0,"",SUM(I15:I20))
A15: 2.1. | C15: =IF(atskaite!$G$14="","",atskaite!$G$14) | F15: =IF(E15="","",IF(E15<=99,"10–99 km",IF(E15<=499,"100–499 km",IF(E15<=1999,"500–1999 km",IF(E15<=2999,"2000–2999 km",IF(E15<=3999,"3000–3999 km",IF(E15<=7999,"4000–7999 km","8000 km vai vairāk"))))))) | H15: =IF(G15="Jā",_xlfn.XLOOKUP(F15,Likmes!$G$3:$G$9,Likmes!$H$3:$H$9,""),IF(G15="Nē",_xlfn.XLOOKUP(F15,Likmes!$G$3:$G$9,Likmes!$I$3:$I$9,""),"")) | I15: =IFERROR(C15*H15,"") | K15: =IF(J15="Jā","✓",IF(J15="","✗","")) -> ✗
A16: 2.2. | C16: =IF(atskaite!$G$14="","",atskaite!$G$14) | F16: =IF(E16="","",IF(E16<=99,"10–99 km",IF(E16<=499,"100–499 km",IF(E16<=1999,"500–1999 km",IF(E16<=2999,"2000–2999 km",IF(E16<=3999,"3000–3999 km",IF(E16<=7999,"4000–7999 km","8000 km vai vairāk"))))))) | H16: =IF(G16="Jā",_xlfn.XLOOKUP(F16,Likmes!$G$3:$G$9,Likmes!$H$3:$H$9,""),IF(G16="Nē",_xlfn.XLOOKUP(F16,Likmes!$G$3:$G$9,Likmes!$I$3:$I$9,""),"")) | I16: =IFERROR(C16*H16,"") | K16: =IF(J16="Jā","✓",IF(J16="","✗","")) -> ✗
A17: 2.3. | C17: =IF(atskaite!$G$14="","",atskaite!$G$14) | F17: =IF(E17="","",IF(E17<=99,"10–99 km",IF(E17<=499,"100–499 km",IF(E17<=1999,"500–1999 km",IF(E17<=2999,"2000–2999 km",IF(E17<=3999,"3000–3999 km",IF(E17<=7999,"4000–7999 km","8000 km vai vairāk"))))))) | H17: =IF(G17="Jā",_xlfn.XLOOKUP(F17,Likmes!$G$3:$G$9,Likmes!$H$3:$H$9,""),IF(G17="Nē",_xlfn.XLOOKUP(F17,Likmes!$G$3:$G$9,Likmes!$I$3:$I$9,""),"")) | I17: =IFERROR(C17*H17,"") | K17: =IF(J17="Jā","✓",IF(J17="","✗","")) -> ✗
A18: 2.4. | C18: =IF(atskaite!$G$14="","",atskaite!$G$14) | F18: =IF(E18="","",IF(E18<=99,"10–99 km",IF(E18<=499,"100–499 km",IF(E18<=1999,"500–1999 km",IF(E18<=2999,"2000–2999 km",IF(E18<=3999,"3000–3999 km",IF(E18<=7999,"4000–7999 km","8000 km vai vairāk"))))))) | H18: =IF(G18="Jā",_xlfn.XLOOKUP(F18,Likmes!$G$3:$G$9,Likmes!$H$3:$H$9,""),IF(G18="Nē",_xlfn.XLOOKUP(F18,Likmes!$G$3:$G$9,Likmes!$I$3:$I$9,""),"")) | I18: =IFERROR(C18*H18,"") | K18: =IF(J18="Jā","✓",IF(J18="","✗","")) -> ✗
A19: 2.5. | C19: =IF(atskaite!$G$14="","",atskaite!$G$14) | F19: =IF(E19="","",IF(E19<=99,"10–99 km",IF(E19<=499,"100–499 km",IF(E19<=1999,"500–1999 km",IF(E19<=2999,"2000–2999 km",IF(E19<=3999,"3000–3999 km",IF(E19<=7999,"4000–7999 km","8000 km vai vairāk"))))))) | H19: =IF(G19="Jā",_xlfn.XLOOKUP(F19,Likmes!$G$3:$G$9,Likmes!$H$3:$H$9,""),IF(G19="Nē",_xlfn.XLOOKUP(F19,Likmes!$G$3:$G$9,Likmes!$I$3:$I$9,""),"")) | I19: =IFERROR(C19*H19,"") | K19: =IF(J19="Jā","✓",IF(J19="","✗","")) -> ✗
A20: 2.6. | C20: =IF(atskaite!$G$14="","",atskaite!$G$14) | F20: =IF(E20="","",IF(E20<=99,"10–99 km",IF(E20<=499,"100–499 km",IF(E20<=1999,"500–1999 km",IF(E20<=2999,"2000–2999 km",IF(E20<=3999,"3000–3999 km",IF(E20<=7999,"4000–7999 km","8000 km vai vairāk"))))))) | H20: =IF(G20="Jā",_xlfn.XLOOKUP(F20,Likmes!$G$3:$G$9,Likmes!$H$3:$H$9,""),IF(G20="Nē",_xlfn.XLOOKUP(F20,Likmes!$G$3:$G$9,Likmes!$I$3:$I$9,""),"")) | I20: =IFERROR(C20*H20,"") | K20: =IF(J20="Jā","✓",IF(J20="","✗","")) -> ✗
A21: =IF(atskaite!A15="","",atskaite!A15) -> 3. | B21: =IF(atskaite!B15="","",atskaite!B15) | I21: =IF(SUM(I22:I27)=0,"",SUM(I22:I27))
A22: 3.1. | C22: =IF(atskaite!$G$15="","",atskaite!$G$15) | F22: =IF(E22="","",IF(E22<=99,"10–99 km",IF(E22<=499,"100–499 km",IF(E22<=1999,"500–1999 km",IF(E22<=2999,"2000–2999 km",IF(E22<=3999,"3000–3999 km",IF(E22<=7999,"4000–7999 km","8000 km vai vairāk"))))))) | H22: =IF(G22="Jā",_xlfn.XLOOKUP(F22,Likmes!$G$3:$G$9,Likmes!$H$3:$H$9,""),IF(G22="Nē",_xlfn.XLOOKUP(F22,Likmes!$G$3:$G$9,Likmes!$I$3:$I$9,""),"")) | I22: =IFERROR(C22*H22,"") | K22: =IF(J22="Jā","✓",IF(J22="","✗","")) -> ✗
A23: 3.2. | C23: =IF(atskaite!$G$15="","",atskaite!$G$15) | F23: =IF(E23="","",IF(E23<=99,"10–99 km",IF(E23<=499,"100–499 km",IF(E23<=1999,"500–1999 km",IF(E23<=2999,"2000–2999 km",IF(E23<=3999,"3000–3999 km",IF(E23<=7999,"4000–7999 km","8000 km vai vairāk"))))))) | H23: =IF(G23="Jā",_xlfn.XLOOKUP(F23,Likmes!$G$3:$G$9,Likmes!$H$3:$H$9,""),IF(G23="Nē",_xlfn.XLOOKUP(F23,Likmes!$G$3:$G$9,Likmes!$I$3:$I$9,""),"")) | I23: =IFERROR(C23*H23,"") | K23: =IF(J23="Jā","✓",IF(J23="","✗","")) -> ✗
A24: 3.3. | C24: =IF(atskaite!$G$15="","",atskaite!$G$15) | F24: =IF(E24="","",IF(E24<=99,"10–99 km",IF(E24<=499,"100–499 km",IF(E24<=1999,"500–1999 km",IF(E24<=2999,"2000–2999 km",IF(E24<=3999,"3000–3999 km",IF(E24<=7999,"4000–7999 km","8000 km vai vairāk"))))))) | H24: =IF(G24="Jā",_xlfn.XLOOKUP(F24,Likmes!$G$3:$G$9,Likmes!$H$3:$H$9,""),IF(G24="Nē",_xlfn.XLOOKUP(F24,Likmes!$G$3:$G$9,Likmes!$I$3:$I$9,""),"")) | I24: =IFERROR(C24*H24,"") | K24: =IF(J24="Jā","✓",IF(J24="","✗","")) -> ✗
A25: 3.4. | C25: =IF(atskaite!$G$15="","",atskaite!$G$15) | F25: =IF(E25="","",IF(E25<=99,"10–99 km",IF(E25<=499,"100–499 km",IF(E25<=1999,"500–1999 km",IF(E25<=2999,"2000–2999 km",IF(E25<=3999,"3000–3999 km",IF(E25<=7999,"4000–7999 km","8000 km vai vairāk"))))))) | H25: =IF(G25="Jā",_xlfn.XLOOKUP(F25,Likmes!$G$3:$G$9,Likmes!$H$3:$H$9,""),IF(G25="Nē",_xlfn.XLOOKUP(F25,Likmes!$G$3:$G$9,Likmes!$I$3:$I$9,""),"")) | I25: =IFERROR(C25*H25,"") | K25: =IF(J25="Jā","✓",IF(J25="","✗","")) -> ✗
A26: 3.5. | C26: =IF(atskaite!$G$15="","",atskaite!$G$15) | F26: =IF(E26="","",IF(E26<=99,"10–99 km",IF(E26<=499,"100–499 km",IF(E26<=1999,"500–1999 km",IF(E26<=2999,"2000–2999 km",IF(E26<=3999,"3000–3999 km",IF(E26<=7999,"4000–7999 km","8000 km vai vairāk"))))))) | H26: =IF(G26="Jā",_xlfn.XLOOKUP(F26,Likmes!$G$3:$G$9,Likmes!$H$3:$H$9,""),IF(G26="Nē",_xlfn.XLOOKUP(F26,Likmes!$G$3:$G$9,Likmes!$I$3:$I$9,""),"")) | I26: =IFERROR(C26*H26,"") | K26: =IF(J26="Jā","✓",IF(J26="","✗","")) -> ✗
A27: 3.6. | C27: =IF(atskaite!$G$15="","",atskaite!$G$15) | F27: =IF(E27="","",IF(E27<=99,"10–99 km",IF(E27<=499,"100–499 km",IF(E27<=1999,"500–1999 km",IF(E27<=2999,"2000–2999 km",IF(E27<=3999,"3000–3999 km",IF(E27<=7999,"4000–7999 km","8000 km vai vairāk"))))))) | H27: =IF(G27="Jā",_xlfn.XLOOKUP(F27,Likmes!$G$3:$G$9,Likmes!$H$3:$H$9,""),IF(G27="Nē",_xlfn.XLOOKUP(F27,Likmes!$G$3:$G$9,Likmes!$I$3:$I$9,""),"")) | I27: =IFERROR(C27*H27,"") | K27: =IF(J27="Jā","✓",IF(J27="","✗","")) -> ✗
A28: =IF(atskaite!A16="","",atskaite!A16) -> 4. | B28: =IF(atskaite!B16="","",atskaite!B16) | I28: =IF(SUM(I29:I34)=0,"",SUM(I29:I34))
A29: 4.1. | C29: =IF(atskaite!$G$16="","",atskaite!$G$16) | F29: =IF(E29="","",IF(E29<=99,"10–99 km",IF(E29<=499,"100–499 km",IF(E29<=1999,"500–1999 km",IF(E29<=2999,"2000–2999 km",IF(E29<=3999,"3000–3999 km",IF(E29<=7999,"4000–7999 km","8000 km vai vairāk"))))))) | H29: =IF(G29="Jā",_xlfn.XLOOKUP(F29,Likmes!$G$3:$G$9,Likmes!$H$3:$H$9,""),IF(G29="Nē",_xlfn.XLOOKUP(F29,Likmes!$G$3:$G$9,Likmes!$I$3:$I$9,""),"")) | I29: =IFERROR(C29*H29,"") | K29: =IF(J29="Jā","✓",IF(J29="","✗","")) -> ✗
A30: 4.2. | C30: =IF(atskaite!$G$16="","",atskaite!$G$16) | F30: =IF(E30="","",IF(E30<=99,"10–99 km",IF(E30<=499,"100–499 km",IF(E30<=1999,"500–1999 km",IF(E30<=2999,"2000–2999 km",IF(E30<=3999,"3000–3999 km",IF(E30<=7999,"4000–7999 km","8000 km vai vairāk"))))))) | H30: =IF(G30="Jā",_xlfn.XLOOKUP(F30,Likmes!$G$3:$G$9,Likmes!$H$3:$H$9,""),IF(G30="Nē",_xlfn.XLOOKUP(F30,Likmes!$G$3:$G$9,Likmes!$I$3:$I$9,""),"")) | I30: =IFERROR(C30*H30,"") | K30: =IF(J30="Jā","✓",IF(J30="","✗","")) -> ✗
A31: 4.3. | C31: =IF(atskaite!$G$16="","",atskaite!$G$16) | F31: =IF(E31="","",IF(E31<=99,"10–99 km",IF(E31<=499,"100–499 km",IF(E31<=1999,"500–1999 km",IF(E31<=2999,"2000–2999 km",IF(E31<=3999,"3000–3999 km",IF(E31<=7999,"4000–7999 km","8000 km vai vairāk"))))))) | H31: =IF(G31="Jā",_xlfn.XLOOKUP(F31,Likmes!$G$3:$G$9,Likmes!$H$3:$H$9,""),IF(G31="Nē",_xlfn.XLOOKUP(F31,Likmes!$G$3:$G$9,Likmes!$I$3:$I$9,""),"")) | I31: =IFERROR(C31*H31,"") | K31: =IF(J31="Jā","✓",IF(J31="","✗","")) -> ✗
A32: 4.4. | C32: =IF(atskaite!$G$16="","",atskaite!$G$16) | F32: =IF(E32="","",IF(E32<=99,"10–99 km",IF(E32<=499,"100–499 km",IF(E32<=1999,"500–1999 km",IF(E32<=2999,"2000–2999 km",IF(E32<=3999,"3000–3999 km",IF(E32<=7999,"4000–7999 km","8000 km vai vairāk"))))))) | H32: =IF(G32="Jā",_xlfn.XLOOKUP(F32,Likmes!$G$3:$G$9,Likmes!$H$3:$H$9,""),IF(G32="Nē",_xlfn.XLOOKUP(F32,Likmes!$G$3:$G$9,Likmes!$I$3:$I$9,""),"")) | I32: =IFERROR(C32*H32,"") | K32: =IF(J32="Jā","✓",IF(J32="","✗","")) -> ✗
A33: 4.5. | C33: =IF(atskaite!$G$16="","",atskaite!$G$16) | F33: =IF(E33="","",IF(E33<=99,"10–99 km",IF(E33<=499,"100–499 km",IF(E33<=1999,"500–1999 km",IF(E33<=2999,"2000–2999 km",IF(E33<=3999,"3000–3999 km",IF(E33<=7999,"4000–7999 km","8000 km vai vairāk"))))))) | H33: =IF(G33="Jā",_xlfn.XLOOKUP(F33,Likmes!$G$3:$G$9,Likmes!$H$3:$H$9,""),IF(G33="Nē",_xlfn.XLOOKUP(F33,Likmes!$G$3:$G$9,Likmes!$I$3:$I$9,""),"")) | I33: =IFERROR(C33*H33,"") | K33: =IF(J33="Jā","✓",IF(J33="","✗","")) -> ✗
A34: 4.6. | C34: =IF(atskaite!$G$16="","",atskaite!$G$16) | F34: =IF(E34="","",IF(E34<=99,"10–99 km",IF(E34<=499,"100–499 km",IF(E34<=1999,"500–1999 km",IF(E34<=2999,"2000–2999 km",IF(E34<=3999,"3000–3999 km",IF(E34<=7999,"4000–7999 km","8000 km vai vairāk"))))))) | H34: =IF(G34="Jā",_xlfn.XLOOKUP(F34,Likmes!$G$3:$G$9,Likmes!$H$3:$H$9,""),IF(G34="Nē",_xlfn.XLOOKUP(F34,Likmes!$G$3:$G$9,Likmes!$I$3:$I$9,""),"")) | I34: =IFERROR(C34*H34,"") | K34: =IF(J34="Jā","✓",IF(J34="","✗","")) -> ✗
A35: =IF(atskaite!A17="","",atskaite!A17) -> 5. | B35: =IF(atskaite!B17="","",atskaite!B17) | I35: =IF(SUM(I36:I41)=0,"",SUM(I36:I41))
A36: 5.1. | C36: =IF(atskaite!$G$17="","",atskaite!$G$17) | F36: =IF(E36="","",IF(E36<=99,"10–99 km",IF(E36<=499,"100–499 km",IF(E36<=1999,"500–1999 km",IF(E36<=2999,"2000–2999 km",IF(E36<=3999,"3000–3999 km",IF(E36<=7999,"4000–7999 km","8000 km vai vairāk"))))))) | H36: =IF(G36="Jā",_xlfn.XLOOKUP(F36,Likmes!$G$3:$G$9,Likmes!$H$3:$H$9,""),IF(G36="Nē",_xlfn.XLOOKUP(F36,Likmes!$G$3:$G$9,Likmes!$I$3:$I$9,""),"")) | I36: =IFERROR(C36*H36,"") | K36: =IF(J36="Jā","✓",IF(J36="","✗","")) -> ✗
A37: 5.2. | C37: =IF(atskaite!$G$17="","",atskaite!$G$17) | F37: =IF(E37="","",IF(E37<=99,"10–99 km",IF(E37<=499,"100–499 km",IF(E37<=1999,"500–1999 km",IF(E37<=2999,"2000–2999 km",IF(E37<=3999,"3000–3999 km",IF(E37<=7999,"4000–7999 km","8000 km vai vairāk"))))))) | H37: =IF(G37="Jā",_xlfn.XLOOKUP(F37,Likmes!$G$3:$G$9,Likmes!$H$3:$H$9,""),IF(G37="Nē",_xlfn.XLOOKUP(F37,Likmes!$G$3:$G$9,Likmes!$I$3:$I$9,""),"")) | I37: =IFERROR(C37*H37,"") | K37: =IF(J37="Jā","✓",IF(J37="","✗","")) -> ✗
A38: 5.3. | C38: =IF(atskaite!$G$17="","",atskaite!$G$17) | F38: =IF(E38="","",IF(E38<=99,"10–99 km",IF(E38<=499,"100–499 km",IF(E38<=1999,"500–1999 km",IF(E38<=2999,"2000–2999 km",IF(E38<=3999,"3000–3999 km",IF(E38<=7999,"4000–7999 km","8000 km vai vairāk"))))))) | H38: =IF(G38="Jā",_xlfn.XLOOKUP(F38,Likmes!$G$3:$G$9,Likmes!$H$3:$H$9,""),IF(G38="Nē",_xlfn.XLOOKUP(F38,Likmes!$G$3:$G$9,Likmes!$I$3:$I$9,""),"")) | I38: =IFERROR(C38*H38,"") | K38: =IF(J38="Jā","✓",IF(J38="","✗","")) -> ✗
A39: 5.4. | C39: =IF(atskaite!$G$17="","",atskaite!$G$17) | F39: =IF(E39="","",IF(E39<=99,"10–99 km",IF(E39<=499,"100–499 km",IF(E39<=1999,"500–1999 km",IF(E39<=2999,"2000–2999 km",IF(E39<=3999,"3000–3999 km",IF(E39<=7999,"4000–7999 km","8000 km vai vairāk"))))))) | H39: =IF(G39="Jā",_xlfn.XLOOKUP(F39,Likmes!$G$3:$G$9,Likmes!$H$3:$H$9,""),IF(G39="Nē",_xlfn.XLOOKUP(F39,Likmes!$G$3:$G$9,Likmes!$I$3:$I$9,""),"")) | I39: =IFERROR(C39*H39,"") | K39: =IF(J39="Jā","✓",IF(J39="","✗","")) -> ✗
A40: 5.5. | C40: =IF(atskaite!$G$17="","",atskaite!$G$17) | F40: =IF(E40="","",IF(E40<=99,"10–99 km",IF(E40<=499,"100–499 km",IF(E40<=1999,"500–1999 km",IF(E40<=2999,"2000–2999 km",IF(E40<=3999,"3000–3999 km",IF(E40<=7999,"4000–7999 km","8000 km vai vairāk"))))))) | H40: =IF(G40="Jā",_xlfn.XLOOKUP(F40,Likmes!$G$3:$G$9,Likmes!$H$3:$H$9,""),IF(G40="Nē",_xlfn.XLOOKUP(F40,Likmes!$G$3:$G$9,Likmes!$I$3:$I$9,""),"")) | I40: =IFERROR(C40*H40,"") | K40: =IF(J40="Jā","✓",IF(J40="","✗","")) -> ✗
A41: 5.6. | C41: =IF(atskaite!$G$17="","",atskaite!$G$17) | F41: =IF(E41="","",IF(E41<=99,"10–99 km",IF(E41<=499,"100–499 km",IF(E41<=1999,"500–1999 km",IF(E41<=2999,"2000–2999 km",IF(E41<=3999,"3000–3999 km",IF(E41<=7999,"4000–7999 km","8000 km vai vairāk"))))))) | H41: =IF(G41="Jā",_xlfn.XLOOKUP(F41,Likmes!$G$3:$G$9,Likmes!$H$3:$H$9,""),IF(G41="Nē",_xlfn.XLOOKUP(F41,Likmes!$G$3:$G$9,Likmes!$I$3:$I$9,""),"")) | I41: =IFERROR(C41*H41,"") | K41: =IF(J41="Jā","✓",IF(J41="","✗","")) -> ✗
...

Sheet Likmes
A1: Naktsmītnes vienības izmaksu standarta likme pa valstīm | D1: Uzturēšanās vienības izmaksu standarta likme pa valstīm | G1: Likme ceļa izdevumiem
A2: Valsts | B2: Likme EUR | D2: Valsts | E2: Likme EUR | G2: Ceļa attālums | H2: Videi draudzīgi transporta veidi | I2: Videi kaitīgi transporta veidi
A3: Albānija | B3: 101 | D3: Albānija | E3: 50 | G3: 10–99 km | H3: 56 | I3: 28
A4: Alžīrija | B4: 157 | D4: Alžīrija | E4: 85 | G4: 100–499 km | H4: 285 | I4: 211
A5: Armēnija | B5: 115 | D5: Armēnija | E5: 70 | G5: 500–1999 km | H5: 417 | I5: 309
A6: Austrija | B6: 126 | D6: Austrija | E6: 102 | G6: 2000–2999 km | H6: 535 | I6: 395
A7: Azerbaidžāna | B7: 136 | D7: Azerbaidžāna | E7: 70 | G7: 3000–3999 km | H7: 785 | I7: 580
A8: Baltkrievija | B8: 108 | D8: Baltkrievija | E8: 90 | G8: 4000–7999 km | H8: 1188 | I8: 1188
A9: Beļģija | B9: 137 | D9: Beļģija | E9: 102 | G9: 8000 km vai vairāk | H9: 1735 | I9: 1735
A10: Bosnija un Hercogovina | B10: 90 | D10: Bosnija un Hercogovina | E10: 65
A11: Bulgārija | B11: 110 | D11: Bulgārija | E11: 57
A12: Horvātija | B12: 104 | D12: Horvātija | E12: 75
A13: Kipra | B13: 120 | D13: Kipra | E13: 88
A14: Čehija | B14: 107 | D14: Čehija | E14: 70
A15: Dānija | B15: 158 | D15: Dānija | E15: 124
A16: Ēģipte | B16: 152 | D16: Ēģipte | E16: 65
A17: Igaunija | B17: 107 | D17: Igaunija | E17: 80
A18: Somija | B18: 146 | D18: Somija | E18: 113
A19: Francija | B19: 166 | D19: Francija | E19: 102
A20: Vācija | B20: 119 | D20: Vācija | E20: 97
A21: Gruzija | B21: 134 | D21: Gruzija | E21: 80
... A56: Apvienotā Karaliste | B56: 151 | D56: Apvienotā Karaliste | E56: 125
