Workbook

Sheet 21.02_Aktivitāšu_daļa
A1: Viedās administrācijas un reģionālās attīstības ministrijas budžeta apakšprogrammas 21.02.00 "Vides aizsardzības projekti"
A5: PROJEKTA ĪSTENOŠANAS PĀRSKATS
A7: AKTIVITĀŠU DAĻA Aktivitāte - “Sugu un biotopu stāvokļa uzlabošanas pasākumi, lai sekmētu ES Bioloģiskās daudzveidības stratēģijas 2030.gadam un Prioritāro rīcību programmas Natura 2000 tīklam Latvijā (2021–2027) mērķu sasniegšanu”
A9: Projekta nosaukums
A10: Projekta īstenotājs
A11: Projekta partneri / sadarbības iestāde (ja attiecināms)
A12: Projekta numurs
A13: Pārskata periods | D13: no | E13: dd.mm.gggg. | F13: līdz | G13: dd.mm.gggg.
A15: 1. | B15: Projekta darba uzdevumu/ aktivitāšu īstenošana
A16: Projekta darba uzdevumu/ aktivitāšu īstenošana, ja attiecināms saskaņā ar Līgumu (ievietojiet papildu rindas, ja nepieciešams)
A17: N.p.k. | B17: Plānotais darba uzdevums/ aktivitāte atbilstoši projekta līgumam (līguma pielikums Nr.2) | C17: Faktiskais īstenošanas laika periods (no - līdz) | E17: Informācija par darbībām, kas veiktas darba uzdevuma, aktivitātes īstenošanas laikā, informācija par aktivitāšu norises laiku, vietu, saņemtās atļaujas / saskaņojumi aktivitāšu īstenošanai u.tml. | G17: Pārskata periodā sasniegtie rezultāti - kvalitatīvie un kvantitatīvie (sniegt īsu, konkrētu komentāru par rezultātu, kas mērāms kvantitatīvi un/vai kvalitatīvi (apjoms, skaits, mērvienība vai tml. skaitliski izmērāms, auditējams rezultāts attiecībā pret plānoto) | I17: Sasniegtā rezultāta pierādījums, ja attiecināms (norādīt atsauci uz fotogrāfiju kas pievienota pie pārskata) | J17: Vai darba uzdevuma/ aktivitātes ieviešana notiek saskaņā ar Līgumā plānoto? (Jā/Nē/Daļēji) | K17: Ja aktivitātes nenotiek pēc plāna un norādīta atbilde: Nē/Daļēji - sniegt skaidrojumu par neizpildi, kavēšanās iemesliem, pamatojumu izmaiņām, kā arī norādīt plānoto darbu izpildes laiku
A18: 1. | C18: dd.mm.gggg. | D18: dd.mm.gggg.
A19: 2. | C19: dd.mm.gggg. | D19: dd.mm.gggg.
A20: 3. | C20: dd.mm.gggg. | D20: dd.mm.gggg.
A21: … | B21: … | C21: … | D21: … | K21: …
A23: 2. | B23: Publicitātes pasākumu īstenošana, ja attiecināms (ievietojiet papildu rindas, ja nepieciešams)
A24: N.p.k. | B24: Īstenotais publicitātes platformas veids (TV, radio, prese, internets, sociālie tīkli, citi) | C24: Izmantotais medijs/ publikācijas vieta (norādīt mediju/-us, sociālo tīklu kontu) | E24: Kāda veida informācija publicēta (piem., informācija par aktivitāšu uzsākšanu, pasākumiem, projekta norisi u.c.) | G24: Sasniegtais mērķis ar attiecīgo publicitātes aktivitāti | I24: Publicitātes pasākuma datums | J24: Tīmekļvietnes adrese (ja attiecināms)
A25: 1.
A26: 2.
A27: 3.
A28: … | B28: … | C28: … | E28: … | G28: …
A30: 3. | B30: Projekta rezultātu uzturēšana un ilgtspējas nodrošināšana, ja attiecināms
A31: Projekta īstenotājs nodrošina projekta darbību ne tikai projekta pēcieviešanas uzraudzības periodā, bet visā projekta dzīves ciklā, kuras ietvaros tiek nodrošināta sasniegtā mērķa un radīto rezultātu (piemēram, atjaunotās vai no jauna izveidotās infrastruktūras) izmantošana, atbilstoši projektā paredzētajam. Sniegt informāciju, kā tiks nodrošināta projekta ilgtspēja, kāda būs projekta rezultātu ietekme lokālā, reģionālā vai valstiskā mērogā, kā projektā sasniegtie rezultāti pēc projekta īstenošanas tiks uzturēti (3-5 turpmākos gadus), vai būs nepieciešami / kur tiks iegūti līdzekļi rezultātu uzturēšanai.
A34: 4. | B34: Informācija par riskiem/ izaicinājumiem projekta ieviešanas laikā, ja attiecināms
A35: Norādīt informāciju, ja projekta īstenošanas laikā (pārskata periodā) ir iestājušies riski, konflikti, citas problēmas (tehniskas, finansiālas vai juridiskas), kas var kavēt/ kavē plānoto aktivitāšu īstenošanu projekta realizācijas laikā. | G35: Norādīt riska ietekmi un veiktos pasākumus projekta īstenošanas risku mazināšanai.
A38: 5. | B38: Izmaiņas projekta īstenošanas gaitā, ja attiecināms
A39: Norādīt izmaiņas (ja tādas radušās) starp projekta aktivitātēs, uzdevumos paredzēto un faktiski realizēto, paskaidrojot izmaiņu iemeslus. Izmaiņas norādīt arī gadījumos, ja projekta īstenošanas laikā ir veikti grozījumi.
A42: 6. | B42: Pēc Projekta pabeigšanas saņemts saskaņojums no DAP par paveiktiem pasākumiem (pēc projekta aktivitāšu pabeigšanas jāiesniedz DAP nepieciešamā informācija, lai saņemtu saskaņojumu par darba uzdevuma izpildi)
A43: Norādīt informāciju (datumu) par saņemto saskaņojumu no DAP un iesniegt pie pārskata apliecinošu dokumentu (piemēram, e-pasta sarakste).
A46: 7. | B46: Publicējamā daļa par projektu: Projekta mērķis, uzdevumi, faktiski sasniegtie rezultāti
A47: 7.1. Īss projekta raksturojošāko darbības rezultātu un sasniegto mērķu, apraksts (norādot arī projekta īstenošanas vietu)
A50: 7.2. Plānotie projekta uzdevumi (saskaņā ar līgumu)
A51: 1.
A52: 2.
A53: 3.
A54: ...
A56: 7.3. Faktiski sasniegtie projekta rezultāti (t.sk. projekta īstenošanas vietas konkrētas koordinātes, ja attiecināms)
A57: 1.
A58: 2.
A59: 3.
A60: ...

Sheet 21.02_Finanšu_daļa
A1: Viedās administrācijas un reģionālās attīstības ministrijas budžeta apakšprogrammas 21.02.00 "Vides aizsardzības projekti"
A5: PROJEKTA ĪSTENOŠANAS PĀRSKATS
A7: FINANŠU DAĻA
A9: Projekta nosaukums | D9: ='21.02_Aktivitāšu_daļa'!D9 -> 0
A10: Projekta īstenotājs | D10: ='21.02_Aktivitāšu_daļa'!D10 -> 0
A11: Projekta partneri / sadarbības iestāde (ja attiecināms) | D11: ='21.02_Aktivitāšu_daļa'!D11 -> 0
A12: Projekta numurs | D12: ='21.02_Aktivitāšu_daļa'!D12 -> 0
A13: Pārskata periods | D13: no | E13: ='21.02_Aktivitāšu_daļa'!E13 -> dd.mm.gggg. | F13: līdz | G13: ='21.02_Aktivitāšu_daļa'!G13 -> dd.mm.gggg.
A15: Piešķirtais LVAF finansējums, EUR | D15: 0
A16: Uz pārskata iesniegšanas brīdi no VARAM saņemtais LVAF finansējums, EUR | D16: 0
A17: Neizmaksātais LVAF finansējums, EUR | D17: =D15-D16 -> 0
A19: 1. LVAF finansējuma izlietojuma kopsavilkums
A21: Tāmes izmaksu pozīciju kategorija | F21: LVAF finansējums projekta tāmē, EUR | G21: Iepriekš apstiprinātā summa, EUR (pie 1.pārskata neaizpilda) | H21: Izlietotā finansējuma summa šajā pārskatā, EUR | I21: Iepriekš apstiprinātā un izlietotā summa šajā pārskatā, EUR | J21: LVAF finansējuma atlikums, EUR
A23: 1. Projekta īstenošanā iesaistītā personāla atlīdzība (t.sk. darba devēja VSAOI) | F23: 0 | G23: 0 | H23: =I46 -> 0 | I23: =G23+H23 -> 0 | J23: =F23-I23 -> 0
A24: 2. Autoratlīdzība, ekspertu atzinumu sagatavošanas izmaksas | F24: 0 | G24: 0 | H24: =I52 -> 0 | I24: =G24+H24 -> 0 | J24: =F24-I24 -> 0
A25: 3. Komandējumi | F25: 0 | G25: 0 | H25: =I58 -> 0 | I25: =G25+H25 -> 0 | J25: =F25-I25 -> 0
A26: 4. Pakalpojumi | F26: 0 | G26: 0 | H26: =I64 -> 0 | I26: =G26+H26 -> 0 | J26: =F26-I26 -> 0
A27: 5. Materiāli, mazvērtīgais inventārs, izejvielas | F27: 0 | G27: 0 | H27: =I70 -> 0 | I27: =G27+H27 -> 0 | J27: =F27-I27 -> 0
A28: 6. Labiekārtošanas elementu un mazo arhitektūras formu iegāde vai izveidošana | F28: 0 | G28: 0 | H28: =I76 -> 0 | I28: =G28+H28 -> 0 | J28: =F28-I28 -> 0
A29: 7. Attiecināmais nolietojums no pamatlīdzekļu iegādes | F29: 0 | G29: 0 | H29: =I82 -> 0 | I29: =G29+H29 -> 0 | J29: =F29-I29 -> 0
A30: 8. Citas izmaksas (atbilstoši konkursa Nolikumā noteiktajam, ja nav minētas pārskata formā) | F30: 0 | G30: 0 | H30: =I88 -> 0 | I30: =G30+H30 -> 0 | J30: =F30-I30 -> 0
A31: KOPĀ | F31: =SUM(F23:F30) -> 0 | G31: =SUM(G23:G30) -> 0 | H31: =SUM(H23:H30) -> 0 | I31: =SUM(I23:I30) -> 0 | J31: =SUM(J23:J30) -> 0
A33: 2. Izmaiņas tāmē saistībā ar finanšu līdzekļu izlietojumu (ja attiecināms)
A35: Sniegt skaidrojumu par izmaiņām (novirzēm no plānotā) tāmē (t.sk. izmaksu pozīcijās)
A37: 3. LVAF līdzekļu izlietojums pārskata periodā (ievietojiet papildus rindiņas, ja nepieciešams)
A39: N. p.k. | B39: Tāmes pozīcijas Nr. saskaņā līgumu | C39: Maksājuma saņēmējs/ pakalpojuma sniedzējs | E39: Izdevumu apliecinoša dokumenta (rēķina, pavadzīmes, PNA, līguma, atalgojuma aprēķina, u.tml.) | G39: Maksājuma veikšanas datums | H39: Kopējā izdevumu (rēķina, pavadzīmes, PNA, līguma, atalgojuma aprēķina, u.tml.) summa, EUR | I39: No LVAF attiecināmā summa, EUR | J39: Piezīmes (ja nepieciešams)
E40: datums | F40: numurs
A41: =A23 -> 1. Projekta īstenošanā iesaistītā personāla atlīdzība (t.sk. darba devēja VSAOI)
A42: 1 | H42: 0 | I42: 0
A43: 2 | H43: 0 | I43: 0
A44: 3 | H44: 0 | I44: 0
A45: .. | H45: 0 | I45: 0
A46: Kopā | C46: X | E46: X | F46: X | G46: X | H46: =SUM(H42:H45) -> 0 | I46: =SUM(I42:I45) -> 0 | J46: X
A47: =A24 -> 2. Autoratlīdzība, ekspertu atzinumu sagatavošanas izmaksas
A48: 1 | H48: 0 | I48: 0
A49: 2 | H49: 0 | I49: 0
A50: 3 | H50: 0 | I50: 0
A51: .. | H51: 0 | I51: 0
A52: Kopā | C52: X | E52: X | F52: X | G52: X | H52: =SUM(H48:H51) -> 0 | I52: =SUM(I48:I51) -> 0 | J52: X
A53: =A25 -> 3. Komandējumi
A54: 1 | H54: 0 | I54: 0
A55: 2 | H55: 0 | I55: 0
A56: 3 | H56: 0 | I56: 0
A57: .. | H57: 0 | I57: 0
A58: Kopā | C58: X | E58: X | F58: X | G58: X | H58: =SUM(H54:H57) -> 0 | I58: =SUM(I54:I57) -> 0 | J58: X
A59: =A26 -> 4. Pakalpojumi
A60: 1 | H60: 0 | I60: 0
A61: 2 | H61: 0 | I61: 0
A62: 3 | H62: 0 | I62: 0
A63: .. | H63: 0 | I63: 0
A64: Kopā | C64: X | E64: X | F64: X | G64: X | H64: =SUM(H60:H63) -> 0 | I64: =SUM(I60:I63) -> 0 | J64: X
A65: =A27 -> 5. Materiāli, mazvērtīgais inventārs, izejvielas
A66: 1 | H66: 0 | I66: 0
A67: 2 | H67: 0 | I67: 0
A68: 3 | H68: 0 | I68: 0
A69: .. | H69: 0 | I69: 0
A70: Kopā | C70: X | E70: X | F70: X | G70: X | H70: =SUM(H66:H69) -> 0 | I70: =SUM(I66:I69) -> 0 | J70: X
A71: =A28 -> 6. Labiekārtošanas elementu un mazo arhitektūras formu iegāde vai izveidošana
A72: 1 | H72: 0 | I72: 0
A73: 2 | H73: 0 | I73: 0
A74: 3 | H74: 0 | I74: 0
A75: .. | H75: 0 | I75: 0
A76: Kopā | C76: X | E76: X | F76: X | G76: X | H76: =SUM(H72:H75) -> 0 | I76: =SUM(I72:I75) -> 0 | J76: X
A77: =A29 -> 7. Attiecināmais nolietojums no pamatlīdzekļu iegādes
A78: 1 | H78: 0 | I78: 0
A79: 2 | H79: 0 | I79: 0
A80: 3 | H80: 0 | I80: 0
A81: .. | H81: 0 | I81: 0
A82: Kopā | C82: X | E82: X | F82: X | G82: X | H82: =SUM(H78:H81) -> 0 | I82: =SUM(I78:I81) -> 0 | J82: X
A83: =A30 -> 8. Citas izmaksas (atbilstoši konkursa Nolikumā noteiktajam, ja nav minētas pārskata formā)
A84: 1 | H84: 0 | I84: 0
A85: 2 | H85: 0 | I85: 0
A86: 3 | H86: 0 | I86: 0
A87: .. | H87: 0 | I87: 0
A88: Kopā | C88: X | E88: X | F88: X | G88: X | H88: =SUM(H84:H87) -> 0 | I88: =SUM(I84:I87) -> 0 | J88: X
A89: KOPĀ | H89: =H46+H52+H58+H64+H70+H76+H82+H88 -> 0 | I89: =I46+I52+I58+I64+I70+I76+I82+I88 -> 0
B91: Projekta īstenotāja APLIECINĀJUMS
B92: Saskaņā ar projekta pārskatā iekļauto informāciju un projektā izlietotajiem attiecināmajiem izdevumiem apliecinu, ka iesniegtā informācija ir pilnīga un patiesa:
B93: 1) | C93: projekta pārskatā iekļautie izdevumi atbilst projektā paredzētajiem mērķiem, līguma tāmē un projekta iesniegumā norādīto uzdevumu īstenošanai kā arī prasībām, kas noteiktas Latvijas Republikas normatīvajos aktos. Projekta pārskatā iekļautie izdevumus pamatojošie dokumenti ir pieejami pārbaudei;
B94: 2) | C94: izdevumi veikti izmaksu periodā, kas noteikts projekta līgumā;
B95: 3) | C95: ir ievērotas LVAF publicitātes vadlīnijas;
B96: 4) | C96: visas pārskatā iekļautās tiešās attiecināmās izmaksas ir iegrāmatotas projekta īstenotāja grāmatvedības uzskaitē, nodalītas no pārējām projekta īstenotāja izmaksām (ir piešķirts atsevišķs izmaksu nošķiršanas kods), izmaksas ir identificējamas un pārbaudāmas;
B97: 5) | C97: ir nodrošināta audita izsekojamība;
B98: 6) | C98: projekta pārskatam pievienoto dokumentu kopijas atbilst oriģināliem;
B99: 7) | C99: visi ar iepriekš noteiktā projekta īstenošanu saistīto dokumentu oriģināli tiks uzglabāti: - 10 (desmit) gadus no De minimis atbalsta piešķiršanas (līguma noslēgšanas) dienas, ja projekta īstenotājs ir De minimis atbalsta saņēmējs; - 5 (piecus) gadus pēc projekta noslēguma pārskata apstiprināšanas, ja projekta īstenotājs nav De minimis atbalsta saņēmējs;
B100: 8) | C100: esmu informēts, ka LVAF pārstāvji var veikt kontroles projekta īstenošanas laikā vai 5 (piecu) gadu periodā pēc projekta pēdējā (noslēguma) pārskata apstiprināšanas (pēcuzraudzības periodā), un piekrītu kontroles veikšanai.
B102: Projekta īstenotāja paraksttiesīgā persona
B103: Vārds, uzvārds
B104: Ieņemamais amats
B106: Pārskatu sagatavoja
B107: Vārds, uzvārds
B108: Ieņemamais amats
B109: Tālrunis
B110: E-pasts
A112: ŠIS DOKUMENTS IR ELEKTRONISKI PARAKSTĪTS AR DROŠU ELEKTRONISKO PARAKSTU UN SATUR LAIKA ZĪMOGU
