Workbook

Sheet Portfolio
B1: Iestādes pakalpojumu portfolio (Iestādes pilnais pakalpojumu saraksts)
B2: Iestāde:
B3: Pakalpojumu kopuma vadītājs: | L3: =IF(L8<>$K$8,"!"," ") | R3: =IF(R8<>$K$8,"!"," ") | S3: =IF(S8<>$K$8,"!"," ") | T3: =IF(T8<>$K$8,"!"," ") | U3: =IF(U8<>$K$8,"!"," ")
B5: Pakalpojuma identifikators iestādē | C5: Pakalpojuma identifikators "Vienotajā reģistrā" (VIRSIS) | D5: Dzīves situācija un vajadzība | J5: Jūsu veikto darbību rezultāts (pakalpojuma sniegšanas rezultāts) | K5: Pakalpojuma nosaukums | L5: Pakalpojuma vadītājs (Vārds Uzvārds) | M5: Pakalpojuma veids | Q5: Pakalpojuma raksturojums | V5: Piezīmes
D6: Vajadzība (ko konkrēti vajag pakalpojumu saņēmējiem) | E6: Kam ir vajadzība (pakalpojumu saņēmēji) | H6: "Obligāta vajadzība" (pienākums) [x] | I6: Kādā dzīves situācijā (dzīves notikumā) rodas šāda vajadzība | M6: Publisks pakalpojums | O6: Starpiestāžu pakalpojums | Q6: Iestādes "galvenais pakalpojums" [x] | R6: Pakalpojuma prioritāte | S6: Pakalpojuma pieprasīšanas un sniegšanas veids | T6: Pakalpojuma sarežģītība ("inteliģence") | U6: Pakalpojuma statuss
E7: Iedzīvotājiem [x] | F7: Uzņēmējiem [x] | G7: Citām iestādēm [x] | M7: Individuāla labuma pakalpojums [x] | N7: Vispārēja labuma pakalpojums [x] | O7: Koplietošanas pakalpojums [x] | P7: Individuālas lietošanas pakalpojums [x]
B8: =SUBTOTAL(103,B9:B300) -> 0 | C8: =SUBTOTAL(103,C9:C300) -> 0 | D8: =SUBTOTAL(103,D9:D300) -> 0 | E8: =SUBTOTAL(103,E9:E300) -> 0 | F8: =SUBTOTAL(103,F9:F300) -> 0 | G8: =SUBTOTAL(103,G9:G300) -> 0 | H8: =SUBTOTAL(103,H9:H300) -> 0 | I8: =SUBTOTAL(103,I9:I300) -> 0 | ... V8: =SUBTOTAL(103,V9:V300) -> 0

Sheet Kopsavilkums
B2: Aktīvo – sniegšanā esošo pakalpojumu skaits: | D2: =D7 -> 0
B4: Pakalpojumu statusi | C4: plānošanā (ideja) | D4: =COUNTIF(Portfolio!$U$9:$U$300,C4) -> 0
C5: izveidē | D5: =COUNTIF(Portfolio!$U$9:$U$300,C5) -> 0
C6: ieviešanā | D6: =COUNTIF(Portfolio!$U$9:$U$300,C6) -> 0
C7: sniegšanā | D7: =COUNTIF(Portfolio!$U$9:$U$300,C7) -> 0
C8: apturēts | D8: =COUNTIF(Portfolio!$U$9:$U$300,C8) -> 0
C9: likvidēšanā | D9: =COUNTIF(Portfolio!$U$9:$U$300,C9) -> 0
C10: likvidēts | D10: =COUNTIF(Portfolio!$U$9:$U$300,C10) -> 0
B12: Pakalpojumu veidi
B13: Publisks pakalpojums | C13: Individuāla labuma pakalpojums | D13: =Portfolio!M8 -> 0
C14: Vispārēja labuma pakalpojums | D14: =Portfolio!N8 -> 0
B15: Starpiestāžu pakalpojums | C15: Koplietošanas pakalpojums | D15: =Portfolio!O8 -> 0
C16: Individuālas lietošanas pakalpojums | D16: =Portfolio!P8 -> 0
B18: Pakalpojumu saņēmēju galvenās grupas
B19: Publisks pakalpojums | C19: Iedzīvotāji | D19: =Portfolio!E8 -> 0
C20: Uzņēmēji | D20: =Portfolio!F8 -> 0
B21: Starpiestāžu pakalpojums | C21: Citas iestādes | D21: =Portfolio!G8 -> 0
B23: Pakalpojumu raksturojums
D24: =SUM(D25:D27) -> 0
B25: Pakalpojuma prioritāte | C25: zema | D25: =COUNTIF(Portfolio!$R$9:$R$300,C25) -> 0 | E25: =IF(D$24=0,0,D25/D$24) -> 0 | H25: =IF(SUM(D25:D27)<>D2,"!"," ")
C26: vidēja | D26: =COUNTIF(Portfolio!$R$9:$R$300,C26) -> 0 | E26: =IF(D$24=0,0,D26/D$24) -> 0
C27: augsta | D27: =COUNTIF(Portfolio!$R$9:$R$300,C27) -> 0 | E27: =IF(D$24=0,0,D27/D$24) -> 0
D29: =SUM(D30:D32) -> 0
B30: Pakalpojuma pieprasīšanas un sniegšanas veids | C30: f-pakalpojums | D30: =COUNTIF(Portfolio!$S$9:$S$300,C30) -> 0 | E30: =IF(D$29=0,0,D30/D$29) -> 0 | H30: =IF(SUM(D30:D32)<>D2,"!"," ")
C31: e-pakalpojums | D31: =COUNTIF(Portfolio!$S$9:$S$300,C31) -> 0 | E31: =IF(D$29=0,0,D31/D$29) -> 0
C32: d-pakalpojums | D32: =COUNTIF(Portfolio!$S$9:$S$300,C32) -> 0 | E32: =IF(D$29=0,0,D32/D$29) -> 0
D34: =SUM(D35:D37) -> 0
B35: Pakalpojuma sarežģītība ("inteliģence") | C35: vienkāršs pakalpojums | D35: =COUNTIF(Portfolio!$T$9:$T$300,C35) -> 0 | E35: =IF(D$34=0,0,D35/D$34) -> 0 | H35: =IF(SUM(D35:D37)<>D2,"!"," ")
C36: komplekss pakalpojums | D36: =COUNTIF(Portfolio!$T$9:$T$300,C36) -> 0 | E36: =IF(D$34=0,0,D36/D$34) -> 0
C37: viedais pakalpojums | D37: =COUNTIF(Portfolio!$T$9:$T$300,C37) -> 0 | E37: =IF(D$34=0,0,D37/D$34) -> 0

Sheet XXX
B1: Prioritāte | C1: Sarežģītība | D1: Vide | E1: Statuss
E3: plānošanā (ideja)
E4: izveidē
B5: zema | C5: vienkāršs pakalpojums | D5: f-pakalpojums | E5: ieviešanā
B6: vidēja | C6: komplekss pakalpojums | D6: e-pakalpojums | E6: sniegšanā
B7: augsta | C7: viedais pakalpojums | D7: d-pakalpojums | E7: apturēts
E8: likvidēšanā
E9: likvidēts

Sheet Noderīga informācija
A2: 1 | B2: Kas ir pakalpojums?
A3: 2 | B3: Kādi ir publiskās pārvaldes pakalpojumu veidi?
A4: 3 | B4: Vai viss, ko iestāde dara, ir uzskatāms par pakalpojumu?
A5: 4 | B5: Vai pakalpojumu atbalsts ir uzskatāms par pakalpojumu?
A6: 5 | B6: Kā veidot un optimizēt pakalpojumu sarakstu?
A7: 6 | B7: Kā pareizi veidot pakalpojuma nosaukumu?
A8: 7 | B8: Kas ir vienkāršs pakalpojums, komplekss pakalpojums un viedais pakalpojums?
A9: 8 | B9: Kā pakalpojumi ir saistīti ar dzīves situācijām un resursiem?
A10: 9 | B10: Kas ir e-pakalpojums, d-pakalpojums un f-pakalpojums?
A11: 10 | B11: Kas ir elektroniska vide, fiziska vide un tām atbilstošie kanāli?
A12: 11 | B12: Kādas ir pakalpojumu pārvaldības dalībnieku galvenās lomas?
A13: 12 | B13: "Vadlīnijas pakalpojumu un pakalpojumu pārvaldības novērtēšanai un pilnveides plānu izveidei"
